BEGIN:VCALENDAR
VERSION:2.0
METHOD:PUBLISH
PRODID:-//IETF//datatracker.ietf.org ical agenda//EN
BEGIN:VTIMEZONE
TZID:Asia/Singapore
X-LIC-LOCATION:Asia/Singapore
BEGIN:STANDARD
TZOFFSETFROM:+065525
TZOFFSETTO:+065525
TZNAME:SMT
DTSTART:19010101T000000
RDATE:19010101T000000
END:STANDARD
BEGIN:STANDARD
TZOFFSETFROM:+065525
TZOFFSETTO:+0700
TZNAME:MALT
DTSTART:19050601T000000
RDATE:19050601T000000
END:STANDARD
BEGIN:DAYLIGHT
TZOFFSETFROM:+0700
TZOFFSETTO:+0720
TZNAME:MALST
DTSTART:19330101T000000
RDATE:19330101T000000
END:DAYLIGHT
BEGIN:STANDARD
TZOFFSETFROM:+0720
TZOFFSETTO:+0720
TZNAME:MALT
DTSTART:19360101T000000
RDATE:19360101T000000
END:STANDARD
BEGIN:STANDARD
TZOFFSETFROM:+0720
TZOFFSETTO:+0730
TZNAME:MALT
DTSTART:19410901T000000
RDATE:19410901T000000
END:STANDARD
BEGIN:STANDARD
TZOFFSETFROM:+0730
TZOFFSETTO:+0900
TZNAME:JST
DTSTART:19420216T000000
RDATE:19420216T000000
END:STANDARD
BEGIN:STANDARD
TZOFFSETFROM:+0900
TZOFFSETTO:+0730
TZNAME:MALT
DTSTART:19450912T000000
RDATE:19450912T000000
END:STANDARD
BEGIN:STANDARD
TZOFFSETFROM:+0730
TZOFFSETTO:+0730
TZNAME:SGT
DTSTART:19650809T000000
RDATE:19650809T000000
END:STANDARD
BEGIN:STANDARD
TZOFFSETFROM:+0730
TZOFFSETTO:+0800
TZNAME:SGT
DTSTART:19820101T000000
RDATE:19820101T000000
END:STANDARD
END:VTIMEZONE
BEGIN:VEVENT
UID:ietf-100-9074-dispatch
SUMMARY:dispatch - Dispatch (0930-1100 Joint with ARTAREA)
LOCATION:Collyer
STATUS:CONFIRMED
CLASS:PUBLIC
DTSTART;TZID=Asia/Singapore:20171113T093000
DTEND;TZID=Asia/Singapore:20171113T120000
DTSTAMP:20171005T141304Z
URL:https://datatracker.ietf.org/meeting/100/materials/agenda-100-dispatch-03
DESCRIPTION:Morning Session I\n
 Note: 0930-1100 Joint with ARTAREA\n
 \n
 Meetecho: http://www.meetecho.com/ietf100/dispatch/\n
 \n
 Agenda https://datatracker.ietf.org/meeting/100/materials/agenda-100-dispatch-03\n
 \n
 Session materials: https://datatracker.ietf.org/meeting/100/session/dispatch\n
 \n
 See in schedule: https://datatracker.ietf.org/meeting/100/agenda#row-100-2017-11-13-mon-0930-art-dispatch\n
END:VEVENT
BEGIN:VEVENT
UID:ietf-100-9074-httpbis
SUMMARY:httpbis - Hypertext Transfer Protocol (1100-1200)
LOCATION:Collyer
STATUS:CONFIRMED
CLASS:PUBLIC
DTSTART;TZID=Asia/Singapore:20171113T093000
DTEND;TZID=Asia/Singapore:20171113T120000
DTSTAMP:20171005T141304Z
URL:https://datatracker.ietf.org/meeting/100/materials/agenda-100-httpbis-03
DESCRIPTION:Morning Session I\n
 Note: 1100-1200\n
 \n
 Meetecho: http://www.meetecho.com/ietf100/httpbis/\n
 \n
 Agenda https://datatracker.ietf.org/meeting/100/materials/agenda-100-httpbis-03\n
 \n
 Session materials: https://datatracker.ietf.org/meeting/100/session/httpbis\n
 \n
 See in schedule: https://datatracker.ietf.org/meeting/100/agenda#row-100-2017-11-13-mon-0930-art-httpbis\n
END:VEVENT
BEGIN:VEVENT
UID:ietf-100-9118-core
SUMMARY:core - Constrained RESTful Environments
LOCATION:Sophia
STATUS:CONFIRMED
CLASS:PUBLIC
DTSTART;TZID=Asia/Singapore:20171113T133000
DTEND;TZID=Asia/Singapore:20171113T153000
DTSTAMP:20171005T143941Z
URL:https://datatracker.ietf.org/meeting/100/materials/agenda-100-core-04
DESCRIPTION:Afternoon Session I\n
 \n
 Meetecho: http://www.meetecho.com/ietf100/core/\n
 \n
 Agenda https://datatracker.ietf.org/meeting/100/materials/agenda-100-core-04\n
 \n
 Session materials: https://datatracker.ietf.org/meeting/100/session/core\n
 \n
 See in schedule: https://datatracker.ietf.org/meeting/100/agenda#row-100-2017-11-13-mon-1330-art-core\n
END:VEVENT
BEGIN:VEVENT
UID:ietf-100-9114-regext
SUMMARY:regext - Registration Protocols Extensions
LOCATION:Olivia
STATUS:CONFIRMED
CLASS:PUBLIC
DTSTART;TZID=Asia/Singapore:20171113T133000
DTEND;TZID=Asia/Singapore:20171113T153000
DTSTAMP:20171005T143941Z
URL:https://datatracker.ietf.org/meeting/100/materials/agenda-100-regext-00
DESCRIPTION:Afternoon Session I\n
 \n
 Meetecho: http://www.meetecho.com/ietf100/regext/\n
 \n
 Agenda https://datatracker.ietf.org/meeting/100/materials/agenda-100-regext-00\n
 \n
 Session materials: https://datatracker.ietf.org/meeting/100/session/regext\n
 \n
 See in schedule: https://datatracker.ietf.org/meeting/100/agenda#row-100-2017-11-13-mon-1330-art-regext\n
END:VEVENT
BEGIN:VEVENT
UID:ietf-100-9172-sipcore
SUMMARY:sipcore - Session Initiation Protocol Core
LOCATION:Olivia
STATUS:CONFIRMED
CLASS:PUBLIC
DTSTART;TZID=Asia/Singapore:20171113T174000
DTEND;TZID=Asia/Singapore:20171113T184000
DTSTAMP:20171005T144019Z
URL:https://datatracker.ietf.org/meeting/100/materials/agenda-100-sipcore-00
DESCRIPTION:Afternoon Session III\n
 \n
 Meetecho: http://www.meetecho.com/ietf100/sipcore/\n
 \n
 Agenda https://datatracker.ietf.org/meeting/100/materials/agenda-100-sipcore-00\n
 \n
 Session materials: https://datatracker.ietf.org/meeting/100/session/sipcore\n
 \n
 See in schedule: https://datatracker.ietf.org/meeting/100/agenda#row-100-2017-11-13-mon-1740-art-sipcore\n
END:VEVENT
BEGIN:VEVENT
UID:ietf-100-9214-core
SUMMARY:core - Constrained RESTful Environments
LOCATION:Bras Basah
STATUS:CONFIRMED
CLASS:PUBLIC
DTSTART;TZID=Asia/Singapore:20171114T133000
DTEND;TZID=Asia/Singapore:20171114T153000
DTSTAMP:20171005T150857Z
URL:https://datatracker.ietf.org/meeting/100/materials/agenda-100-core-04
DESCRIPTION:Afternoon Session I\n
 \n
 Meetecho: http://www.meetecho.com/ietf100/core/\n
 \n
 Agenda https://datatracker.ietf.org/meeting/100/materials/agenda-100-core-04\n
 \n
 Session materials: https://datatracker.ietf.org/meeting/100/session/core\n
 \n
 See in schedule: https://datatracker.ietf.org/meeting/100/agenda#row-100-2017-11-14-tue-1330-art-core\n
END:VEVENT
BEGIN:VEVENT
UID:ietf-100-9231-stir
SUMMARY:stir - Secure Telephone Identity Revisited
LOCATION:Orchard
STATUS:CONFIRMED
CLASS:PUBLIC
DTSTART;TZID=Asia/Singapore:20171114T133000
DTEND;TZID=Asia/Singapore:20171114T153000
DTSTAMP:20171005T150857Z
URL:https://datatracker.ietf.org/meeting/100/materials/agenda-100-stir-00
DESCRIPTION:Afternoon Session I\n
 \n
 Meetecho: http://www.meetecho.com/ietf100/stir/\n
 \n
 Agenda https://datatracker.ietf.org/meeting/100/materials/agenda-100-stir-00\n
 \n
 Session materials: https://datatracker.ietf.org/meeting/100/session/stir\n
 \n
 See in schedule: https://datatracker.ietf.org/meeting/100/agenda#row-100-2017-11-14-tue-1330-art-stir\n
END:VEVENT
BEGIN:VEVENT
UID:ietf-100-9260-capport
SUMMARY:capport - Captive Portal Interaction
LOCATION:Orchard
STATUS:CONFIRMED
CLASS:PUBLIC
DTSTART;TZID=Asia/Singapore:20171114T155000
DTEND;TZID=Asia/Singapore:20171114T175000
DTSTAMP:20171005T150917Z
URL:https://datatracker.ietf.org/meeting/100/materials/agenda-100-capport-01
DESCRIPTION:Afternoon Session II\n
 \n
 Meetecho: http://www.meetecho.com/ietf100/capport/\n
 \n
 Agenda https://datatracker.ietf.org/meeting/100/materials/agenda-100-capport-01\n
 \n
 Session materials: https://datatracker.ietf.org/meeting/100/session/capport\n
 \n
 See in schedule: https://datatracker.ietf.org/meeting/100/agenda#row-100-2017-11-14-tue-1550-art-capport\n
END:VEVENT
BEGIN:VEVENT
UID:ietf-100-9272-dcrup
SUMMARY:dcrup - DKIM Crypto Update (1130-1200)
LOCATION:Bras Basah
STATUS:CONFIRMED
CLASS:PUBLIC
DTSTART;TZID=Asia/Singapore:20171115T093000
DTEND;TZID=Asia/Singapore:20171115T120000
DTSTAMP:20171005T150936Z
URL:https://datatracker.ietf.org/meeting/100/materials/agenda-100-dcrup-00
DESCRIPTION:Morning Session I\n
 Note: 1130-1200\n
 \n
 Meetecho: http://www.meetecho.com/ietf100/dcrup/\n
 \n
 Agenda https://datatracker.ietf.org/meeting/100/materials/agenda-100-dcrup-00\n
 \n
 Session materials: https://datatracker.ietf.org/meeting/100/session/dcrup\n
 \n
 See in schedule: https://datatracker.ietf.org/meeting/100/agenda#row-100-2017-11-15-wed-0930-art-dcrup\n
END:VEVENT
BEGIN:VEVENT
UID:ietf-100-9289-extra
SUMMARY:extra - Email mailstore and eXtensions To Revise or Amend (0930-1030)
LOCATION:Orchard
STATUS:CONFIRMED
CLASS:PUBLIC
DTSTART;TZID=Asia/Singapore:20171115T093000
DTEND;TZID=Asia/Singapore:20171115T120000
DTSTAMP:20171005T150936Z
URL:https://datatracker.ietf.org/meeting/100/materials/agenda-100-extra-00
DESCRIPTION:Morning Session I\n
 Note: 0930-1030\n
 \n
 Meetecho: http://www.meetecho.com/ietf100/extra/\n
 \n
 Agenda https://datatracker.ietf.org/meeting/100/materials/agenda-100-extra-00\n
 \n
 Session materials: https://datatracker.ietf.org/meeting/100/session/extra\n
 \n
 See in schedule: https://datatracker.ietf.org/meeting/100/agenda#row-100-2017-11-15-wed-0930-art-extra\n
END:VEVENT
BEGIN:VEVENT
UID:ietf-100-9289-modern
SUMMARY:modern - Managing, Ordering, Distributing, Exposing, & Registering telephone Numbers (1100-1200)
LOCATION:Orchard
STATUS:CONFIRMED
CLASS:PUBLIC
DTSTART;TZID=Asia/Singapore:20171115T093000
DTEND;TZID=Asia/Singapore:20171115T120000
DTSTAMP:20171005T150936Z
URL:https://datatracker.ietf.org/meeting/100/materials/agenda-100-modern-00
DESCRIPTION:Morning Session I\n
 Note: 1100-1200\n
 \n
 Meetecho: http://www.meetecho.com/ietf100/modern/\n
 \n
 Agenda https://datatracker.ietf.org/meeting/100/materials/agenda-100-modern-00\n
 \n
 Session materials: https://datatracker.ietf.org/meeting/100/session/modern\n
 \n
 See in schedule: https://datatracker.ietf.org/meeting/100/agenda#row-100-2017-11-15-wed-0930-art-modern\n
END:VEVENT
BEGIN:VEVENT
UID:ietf-100-9272-netvc
SUMMARY:netvc - Internet Video Codec (0930-1100)
LOCATION:Bras Basah
STATUS:CONFIRMED
CLASS:PUBLIC
DTSTART;TZID=Asia/Singapore:20171115T093000
DTEND;TZID=Asia/Singapore:20171115T120000
DTSTAMP:20171005T150936Z
URL:https://datatracker.ietf.org/meeting/100/materials/agenda-100-netvc-01
DESCRIPTION:Morning Session I\n
 Note: 0930-1100\n
 \n
 Meetecho: http://www.meetecho.com/ietf100/netvc/\n
 \n
 Agenda https://datatracker.ietf.org/meeting/100/materials/agenda-100-netvc-01\n
 \n
 Session materials: https://datatracker.ietf.org/meeting/100/session/netvc\n
 \n
 See in schedule: https://datatracker.ietf.org/meeting/100/agenda#row-100-2017-11-15-wed-0930-art-netvc\n
END:VEVENT
BEGIN:VEVENT
UID:ietf-100-9301-uta
SUMMARY:uta - Using TLS in Applications
LOCATION:Bras Basah
STATUS:CONFIRMED
CLASS:PUBLIC
DTSTART;TZID=Asia/Singapore:20171115T133000
DTEND;TZID=Asia/Singapore:20171115T150000
DTSTAMP:20171005T150958Z
URL:https://datatracker.ietf.org/meeting/100/materials/agenda-100-uta-01
DESCRIPTION:Afternoon Session I\n
 \n
 Meetecho: http://www.meetecho.com/ietf100/uta/\n
 \n
 Agenda https://datatracker.ietf.org/meeting/100/materials/agenda-100-uta-01\n
 \n
 Session materials: https://datatracker.ietf.org/meeting/100/session/uta\n
 \n
 See in schedule: https://datatracker.ietf.org/meeting/100/agenda#row-100-2017-11-15-wed-1330-art-uta\n
END:VEVENT
BEGIN:VEVENT
UID:ietf-100-9330-rtcweb
SUMMARY:rtcweb - Real-Time Communication in WEB-browsers
LOCATION:Bras Basah
STATUS:CONFIRMED
CLASS:PUBLIC
DTSTART;TZID=Asia/Singapore:20171115T152000
DTEND;TZID=Asia/Singapore:20171115T165000
DTSTAMP:20171005T151015Z
URL:https://datatracker.ietf.org/meeting/100/materials/agenda-100-rtcweb-01
DESCRIPTION:Afternoon Session II\n
 \n
 Meetecho: http://www.meetecho.com/ietf100/rtcweb/\n
 \n
 Agenda https://datatracker.ietf.org/meeting/100/materials/agenda-100-rtcweb-01\n
 \n
 Session materials: https://datatracker.ietf.org/meeting/100/session/rtcweb\n
 \n
 See in schedule: https://datatracker.ietf.org/meeting/100/agenda#row-100-2017-11-15-wed-1520-art-rtcweb\n
END:VEVENT
BEGIN:VEVENT
UID:ietf-100-9376-avtcore
SUMMARY:avtcore - Audio/Video Transport Core Maintenance (0930-1100)
LOCATION:Orchard
STATUS:CONFIRMED
CLASS:PUBLIC
DTSTART;TZID=Asia/Singapore:20171116T093000
DTEND;TZID=Asia/Singapore:20171116T120000
DTSTAMP:20171005T151036Z
URL:https://datatracker.ietf.org/meeting/100/materials/agenda-100-avtcore-01
DESCRIPTION:Morning Session I\n
 Note: 0930-1100\n
 \n
 Meetecho: http://www.meetecho.com/ietf100/avtcore/\n
 \n
 Agenda https://datatracker.ietf.org/meeting/100/materials/agenda-100-avtcore-01\n
 \n
 Session materials: https://datatracker.ietf.org/meeting/100/session/avtcore\n
 \n
 See in schedule: https://datatracker.ietf.org/meeting/100/agenda#row-100-2017-11-16-thu-0930-art-avtcore\n
END:VEVENT
BEGIN:VEVENT
UID:ietf-100-9376-dmarc
SUMMARY:dmarc - Domain-based Message Authentication, Reporting & Conformance (1100-1200)
LOCATION:Orchard
STATUS:CANCELLED
CLASS:PUBLIC
DTSTART;TZID=Asia/Singapore:20171116T093000
DTEND;TZID=Asia/Singapore:20171116T120000
DTSTAMP:20171005T151036Z
DESCRIPTION:Morning Session I\n
 Note: 1100-1200\n
 \n
 Meetecho: http://www.meetecho.com/ietf100/dmarc/\n
 \n
 Session materials: https://datatracker.ietf.org/meeting/100/session/dmarc\n
 \n
 See in schedule: https://datatracker.ietf.org/meeting/100/agenda#row-100-2017-11-16-thu-0930-art-dmarc\n
END:VEVENT
BEGIN:VEVENT
UID:ietf-100-9404-doh
SUMMARY:doh - DNS Over HTTPS
LOCATION:Olivia
STATUS:CONFIRMED
CLASS:PUBLIC
DTSTART;TZID=Asia/Singapore:20171116T133000
DTEND;TZID=Asia/Singapore:20171116T153000
DTSTAMP:20171005T151117Z
URL:https://datatracker.ietf.org/meeting/100/materials/agenda-100-doh-01
DESCRIPTION:Afternoon Session I\n
 \n
 Meetecho: http://www.meetecho.com/ietf100/doh/\n
 \n
 Agenda https://datatracker.ietf.org/meeting/100/materials/agenda-100-doh-01\n
 \n
 Session materials: https://datatracker.ietf.org/meeting/100/session/doh\n
 \n
 See in schedule: https://datatracker.ietf.org/meeting/100/agenda#row-100-2017-11-16-thu-1330-art-doh\n
END:VEVENT
BEGIN:VEVENT
UID:ietf-100-9388-jmap
SUMMARY:jmap - JSON Mail Access Protocol
LOCATION:Bras Basah
STATUS:CONFIRMED
CLASS:PUBLIC
DTSTART;TZID=Asia/Singapore:20171116T133000
DTEND;TZID=Asia/Singapore:20171116T153000
DTSTAMP:20171005T151117Z
URL:https://datatracker.ietf.org/meeting/100/materials/agenda-100-jmap-00
DESCRIPTION:Afternoon Session I\n
 \n
 Meetecho: http://www.meetecho.com/ietf100/jmap/\n
 \n
 Agenda https://datatracker.ietf.org/meeting/100/materials/agenda-100-jmap-00\n
 \n
 Session materials: https://datatracker.ietf.org/meeting/100/session/jmap\n
 \n
 See in schedule: https://datatracker.ietf.org/meeting/100/agenda#row-100-2017-11-16-thu-1330-art-jmap\n
END:VEVENT
BEGIN:VEVENT
UID:ietf-100-9411-mmusic
SUMMARY:mmusic - Multiparty Multimedia Session Control
LOCATION:VIP A
STATUS:CONFIRMED
CLASS:PUBLIC
DTSTART;TZID=Asia/Singapore:20171116T133000
DTEND;TZID=Asia/Singapore:20171116T153000
DTSTAMP:20171005T151117Z
URL:https://datatracker.ietf.org/meeting/100/materials/agenda-100-mmusic-04
DESCRIPTION:Afternoon Session I\n
 \n
 Meetecho: http://www.meetecho.com/ietf100/mmusic/\n
 \n
 Agenda https://datatracker.ietf.org/meeting/100/materials/agenda-100-mmusic-04\n
 \n
 Session materials: https://datatracker.ietf.org/meeting/100/session/mmusic\n
 \n
 See in schedule: https://datatracker.ietf.org/meeting/100/agenda#row-100-2017-11-16-thu-1330-art-mmusic\n
END:VEVENT
BEGIN:VEVENT
UID:ietf-100-9433-cbor
SUMMARY:cbor - Concise Binary Object Representation Maintenance and Extensions
LOCATION:Olivia
STATUS:CONFIRMED
CLASS:PUBLIC
DTSTART;TZID=Asia/Singapore:20171116T155000
DTEND;TZID=Asia/Singapore:20171116T175000
DTSTAMP:20171005T151155Z
URL:https://datatracker.ietf.org/meeting/100/materials/agenda-100-cbor-01
DESCRIPTION:Afternoon Session II\n
 \n
 Meetecho: http://www.meetecho.com/ietf100/cbor/\n
 \n
 Agenda https://datatracker.ietf.org/meeting/100/materials/agenda-100-cbor-01\n
 \n
 Session materials: https://datatracker.ietf.org/meeting/100/session/cbor\n
 \n
 See in schedule: https://datatracker.ietf.org/meeting/100/agenda#row-100-2017-11-16-thu-1550-art-cbor\n
END:VEVENT
BEGIN:VEVENT
UID:ietf-100-9440-ice
SUMMARY:ice - Interactive Connectivity Establishment
LOCATION:VIP A
STATUS:CANCELLED
CLASS:PUBLIC
DTSTART;TZID=Asia/Singapore:20171116T155000
DTEND;TZID=Asia/Singapore:20171116T175000
DTSTAMP:20171005T151155Z
DESCRIPTION:Afternoon Session II\n
 \n
 Meetecho: http://www.meetecho.com/ietf100/ice/\n
 \n
 Session materials: https://datatracker.ietf.org/meeting/100/session/ice\n
 \n
 See in schedule: https://datatracker.ietf.org/meeting/100/agenda#row-100-2017-11-16-thu-1550-art-ice\n
END:VEVENT
BEGIN:VEVENT
UID:ietf-100-9466-cdni
SUMMARY:cdni - Content Delivery Networks Interconnection
LOCATION:Sophia
STATUS:CONFIRMED
CLASS:PUBLIC
DTSTART;TZID=Asia/Singapore:20171116T181000
DTEND;TZID=Asia/Singapore:20171116T191000
DTSTAMP:20171005T151206Z
URL:https://datatracker.ietf.org/meeting/100/materials/agenda-100-cdni-00
DESCRIPTION:Afternoon Session III\n
 \n
 Meetecho: http://www.meetecho.com/ietf100/cdni/\n
 \n
 Agenda https://datatracker.ietf.org/meeting/100/materials/agenda-100-cdni-00\n
 \n
 Session materials: https://datatracker.ietf.org/meeting/100/session/cdni\n
 \n
 See in schedule: https://datatracker.ietf.org/meeting/100/agenda#row-100-2017-11-16-thu-1810-art-cdni\n
END:VEVENT
BEGIN:VEVENT
UID:ietf-100-9477-httpbis
SUMMARY:httpbis - Hypertext Transfer Protocol
LOCATION:Canning
STATUS:CONFIRMED
CLASS:PUBLIC
DTSTART;TZID=Asia/Singapore:20171117T093000
DTEND;TZID=Asia/Singapore:20171117T113000
DTSTAMP:20171005T151228Z
URL:https://datatracker.ietf.org/meeting/100/materials/agenda-100-httpbis-03
DESCRIPTION:Morning Session I\n
 \n
 Meetecho: http://www.meetecho.com/ietf100/httpbis/\n
 \n
 Agenda https://datatracker.ietf.org/meeting/100/materials/agenda-100-httpbis-03\n
 \n
 Session materials: https://datatracker.ietf.org/meeting/100/session/httpbis\n
 \n
 See in schedule: https://datatracker.ietf.org/meeting/100/agenda#row-100-2017-11-17-fri-0930-art-httpbis\n
END:VEVENT
BEGIN:VEVENT
UID:ietf-100-9475-perc
SUMMARY:perc - Privacy Enhanced RTP Conferencing 
LOCATION:Bras Basah
STATUS:CONFIRMED
CLASS:PUBLIC
DTSTART;TZID=Asia/Singapore:20171117T093000
DTEND;TZID=Asia/Singapore:20171117T113000
DTSTAMP:20171005T151228Z
URL:https://datatracker.ietf.org/meeting/100/materials/agenda-100-perc-00
DESCRIPTION:Morning Session I\n
 \n
 Meetecho: http://www.meetecho.com/ietf100/perc/\n
 \n
 Agenda https://datatracker.ietf.org/meeting/100/materials/agenda-100-perc-00\n
 \n
 Session materials: https://datatracker.ietf.org/meeting/100/session/perc\n
 \n
 See in schedule: https://datatracker.ietf.org/meeting/100/agenda#row-100-2017-11-17-fri-0930-art-perc\n
END:VEVENT
END:VCALENDAR
