BEGIN:VCALENDAR
VERSION:2.0
METHOD:PUBLISH
PRODID:-//IETF//datatracker.ietf.org ical agenda//EN
BEGIN:VTIMEZONE
TZID:Asia/Singapore
X-LIC-LOCATION:Asia/Singapore
BEGIN:STANDARD
TZOFFSETFROM:+065525
TZOFFSETTO:+065525
TZNAME:SMT
DTSTART:19010101T000000
RDATE:19010101T000000
END:STANDARD
BEGIN:STANDARD
TZOFFSETFROM:+065525
TZOFFSETTO:+0700
TZNAME:MALT
DTSTART:19050601T000000
RDATE:19050601T000000
END:STANDARD
BEGIN:DAYLIGHT
TZOFFSETFROM:+0700
TZOFFSETTO:+0720
TZNAME:MALST
DTSTART:19330101T000000
RDATE:19330101T000000
END:DAYLIGHT
BEGIN:STANDARD
TZOFFSETFROM:+0720
TZOFFSETTO:+0720
TZNAME:MALT
DTSTART:19360101T000000
RDATE:19360101T000000
END:STANDARD
BEGIN:STANDARD
TZOFFSETFROM:+0720
TZOFFSETTO:+0730
TZNAME:MALT
DTSTART:19410901T000000
RDATE:19410901T000000
END:STANDARD
BEGIN:STANDARD
TZOFFSETFROM:+0730
TZOFFSETTO:+0900
TZNAME:JST
DTSTART:19420216T000000
RDATE:19420216T000000
END:STANDARD
BEGIN:STANDARD
TZOFFSETFROM:+0900
TZOFFSETTO:+0730
TZNAME:MALT
DTSTART:19450912T000000
RDATE:19450912T000000
END:STANDARD
BEGIN:STANDARD
TZOFFSETFROM:+0730
TZOFFSETTO:+0730
TZNAME:SGT
DTSTART:19650809T000000
RDATE:19650809T000000
END:STANDARD
BEGIN:STANDARD
TZOFFSETFROM:+0730
TZOFFSETTO:+0800
TZNAME:SGT
DTSTART:19820101T000000
RDATE:19820101T000000
END:STANDARD
END:VTIMEZONE
BEGIN:VEVENT
UID:ietf-100-9548-hackathon
SUMMARY:IETF Hackathon
LOCATION:Moor/Morrison
STATUS:CONFIRMED
CLASS:PUBLIC
DTSTART;TZID=Asia/Singapore:20171111T090000
DTEND;TZID=Asia/Singapore:20171111T220000
DTSTAMP:20171013T145049Z
URL:https://datatracker.ietf.org/meeting/100/materials/agenda-100-hackathon-sessc-00
DESCRIPTION:IETF Hackathon\n
 \n
 Agenda https://datatracker.ietf.org/meeting/100/materials/agenda-100-hackathon-sessc-00\n
 \n
 Session materials: https://datatracker.ietf.org/meeting/100/session/hackathon\n
 \n
 See in schedule: https://datatracker.ietf.org/meeting/100/agenda#row-100-2017-11-11-sat-0900-hackathon-ietf-hackathon\n
END:VEVENT
BEGIN:VEVENT
UID:ietf-100-9549-tools
SUMMARY:Code Sprint
LOCATION:Ord
STATUS:CONFIRMED
CLASS:PUBLIC
DTSTART;TZID=Asia/Singapore:20171111T093000
DTEND;TZID=Asia/Singapore:20171111T173000
DTSTAMP:20171013T135712Z
DESCRIPTION:Code Sprint\n
 \n
 Session materials: https://datatracker.ietf.org/meeting/100/session/tools\n
 \n
 See in schedule: https://datatracker.ietf.org/meeting/100/agenda#row-100-2017-11-11-sat-0930-tools-code-sprint\n
END:VEVENT
BEGIN:VEVENT
UID:ietf-100-9550-hackathon
SUMMARY:IETF Hackathon
LOCATION:Moor/Morrison
STATUS:CONFIRMED
CLASS:PUBLIC
DTSTART;TZID=Asia/Singapore:20171112T090000
DTEND;TZID=Asia/Singapore:20171112T160000
DTSTAMP:20171013T135755Z
URL:https://datatracker.ietf.org/meeting/100/materials/agenda-100-hackathon-sessa-00
DESCRIPTION:IETF Hackathon\n
 \n
 Agenda https://datatracker.ietf.org/meeting/100/materials/agenda-100-hackathon-sessa-00\n
 \n
 Session materials: https://datatracker.ietf.org/meeting/100/session/hackathon\n
 \n
 See in schedule: https://datatracker.ietf.org/meeting/100/agenda#row-100-2017-11-12-sun-0900-hackathon-ietf-hackathon\n
END:VEVENT
BEGIN:VEVENT
UID:ietf-100-9551-iepg
SUMMARY:IEPG Meeting
LOCATION:Sophia
STATUS:CONFIRMED
CLASS:PUBLIC
DTSTART;TZID=Asia/Singapore:20171112T100000
DTEND;TZID=Asia/Singapore:20171112T120000
DTSTAMP:20171013T135943Z
DESCRIPTION:IEPG Meeting\n
 \n
 Meetecho: http://www.meetecho.com/ietf100/iepg/\n
 \n
 Session materials: https://datatracker.ietf.org/meeting/100/session/iepg\n
 \n
 See in schedule: https://datatracker.ietf.org/meeting/100/agenda#row-100-2017-11-12-sun-1000-iepg-iepg-meeting\n
END:VEVENT
BEGIN:VEVENT
UID:ietf-100-9561-edu
SUMMARY:Newcomers Tutorial
LOCATION:Sophia
STATUS:CONFIRMED
CLASS:PUBLIC
DTSTART;TZID=Asia/Singapore:20171112T123000
DTEND;TZID=Asia/Singapore:20171112T133000
DTSTAMP:20171013T140941Z
URL:https://datatracker.ietf.org/meeting/100/materials/agenda-100-edu-sessk-00
DESCRIPTION:Newcomers Tutorial\n
 \n
 Meetecho: http://www.meetecho.com/ietf100/edu/\n
 \n
 Agenda https://datatracker.ietf.org/meeting/100/materials/agenda-100-edu-sessk-00\n
 \n
 Session materials: https://datatracker.ietf.org/meeting/100/session/edu\n
 \n
 See in schedule: https://datatracker.ietf.org/meeting/100/agenda#row-100-2017-11-12-sun-1230-edu-newcomers-tutorial\n
END:VEVENT
BEGIN:VEVENT
UID:ietf-100-9563-edu
SUMMARY:TLS 1.3
LOCATION:Collyer
STATUS:CONFIRMED
CLASS:PUBLIC
DTSTART;TZID=Asia/Singapore:20171112T123000
DTEND;TZID=Asia/Singapore:20171112T133000
DTSTAMP:20171013T141347Z
URL:https://datatracker.ietf.org/meeting/100/materials/agenda-100-edu-sessl-00
DESCRIPTION:TLS 1.3\n
 \n
 Meetecho: http://www.meetecho.com/ietf100/edu/\n
 \n
 Agenda https://datatracker.ietf.org/meeting/100/materials/agenda-100-edu-sessl-00\n
 \n
 Session materials: https://datatracker.ietf.org/meeting/100/session/edu\n
 \n
 See in schedule: https://datatracker.ietf.org/meeting/100/agenda#row-100-2017-11-12-sun-1230-edu-tls-13\n
END:VEVENT
BEGIN:VEVENT
UID:ietf-100-9567-edu
SUMMARY:Routing Area Tutorial
LOCATION:Sophia
STATUS:CONFIRMED
CLASS:PUBLIC
DTSTART;TZID=Asia/Singapore:20171112T134500
DTEND;TZID=Asia/Singapore:20171112T144500
DTSTAMP:20171103T084701Z
URL:https://datatracker.ietf.org/meeting/100/materials/agenda-100-edu-sessn-00
DESCRIPTION:Routing Area Tutorial\n
 \n
 Meetecho: http://www.meetecho.com/ietf100/edu/\n
 \n
 Agenda https://datatracker.ietf.org/meeting/100/materials/agenda-100-edu-sessn-00\n
 \n
 Session materials: https://datatracker.ietf.org/meeting/100/session/edu\n
 \n
 See in schedule: https://datatracker.ietf.org/meeting/100/agenda#row-100-2017-11-12-sun-1345-edu-routing-area-tutorial\n
END:VEVENT
BEGIN:VEVENT
UID:ietf-100-9564-edu
SUMMARY:webRTC Tutorial
LOCATION:Collyer
STATUS:CONFIRMED
CLASS:PUBLIC
DTSTART;TZID=Asia/Singapore:20171112T134500
DTEND;TZID=Asia/Singapore:20171112T144500
DTSTAMP:20171013T141507Z
URL:https://datatracker.ietf.org/meeting/100/materials/agenda-100-edu-sessm-00
DESCRIPTION:webRTC Tutorial\n
 \n
 Meetecho: http://www.meetecho.com/ietf100/edu/\n
 \n
 Agenda https://datatracker.ietf.org/meeting/100/materials/agenda-100-edu-sessm-00\n
 \n
 Session materials: https://datatracker.ietf.org/meeting/100/session/edu\n
 \n
 See in schedule: https://datatracker.ietf.org/meeting/100/agenda#row-100-2017-11-12-sun-1345-edu-webrtc-tutorial\n
END:VEVENT
BEGIN:VEVENT
UID:ietf-100-9552-edu
SUMMARY:Speed Mentoring (Note that pre-registration is required)
LOCATION:Stamford Foyer
STATUS:CONFIRMED
CLASS:PUBLIC
DTSTART;TZID=Asia/Singapore:20171112T150000
DTEND;TZID=Asia/Singapore:20171112T160000
DTSTAMP:20171013T140022Z
DESCRIPTION:Speed Mentoring (Note that pre-registration is required)\n
 \n
 Session materials: https://datatracker.ietf.org/meeting/100/session/edu\n
 \n
 See in schedule: https://datatracker.ietf.org/meeting/100/agenda#row-100-2017-11-12-sun-1500-edu-speed-mentoring-note-that-pre-registration-is-required\n
END:VEVENT
BEGIN:VEVENT
UID:ietf-100-9553-edu
SUMMARY:Newcomers' Meet and Greet (open to Newcomers\, WG chairs and Mentors only)
LOCATION:Stamford Foyer
STATUS:CONFIRMED
CLASS:PUBLIC
DTSTART;TZID=Asia/Singapore:20171112T160000
DTEND;TZID=Asia/Singapore:20171112T170000
DTSTAMP:20171013T140105Z
DESCRIPTION:Newcomers' Meet and Greet (open to Newcomers\, WG chairs and Mentors only)\n
 \n
 Session materials: https://datatracker.ietf.org/meeting/100/session/edu\n
 \n
 See in schedule: https://datatracker.ietf.org/meeting/100/agenda#row-100-2017-11-12-sun-1600-edu-newcomers-meet-and-greet-open-to-newcomers-wg-chairs-and-mentors-only\n
END:VEVENT
BEGIN:VEVENT
UID:ietf-100-9129-suit
SUMMARY:suit - Software Updates for Internet of Things
LOCATION:Canning
STATUS:CONFIRMED
CLASS:PUBLIC
DTSTART;TZID=Asia/Singapore:20171113T155000
DTEND;TZID=Asia/Singapore:20171113T172000
DTSTAMP:20171005T144003Z
URL:https://datatracker.ietf.org/meeting/100/materials/agenda-100-suit-01
DESCRIPTION:Afternoon Session II\n
 \n
 Meetecho: http://www.meetecho.com/ietf100/suit/\n
 \n
 Agenda https://datatracker.ietf.org/meeting/100/materials/agenda-100-suit-01\n
 \n
 Session materials: https://datatracker.ietf.org/meeting/100/session/suit\n
 \n
 See in schedule: https://datatracker.ietf.org/meeting/100/agenda#row-100-2017-11-13-mon-1550-sec-suit\n
END:VEVENT
BEGIN:VEVENT
UID:ietf-100-9205-iasa20
SUMMARY:iasa20 - IASA 2.0
LOCATION:Sophia
STATUS:CONFIRMED
CLASS:PUBLIC
DTSTART;TZID=Asia/Singapore:20171114T093000
DTEND;TZID=Asia/Singapore:20171114T120000
DTSTAMP:20171005T150839Z
URL:https://datatracker.ietf.org/meeting/100/materials/agenda-100-iasa20-00
DESCRIPTION:Morning Session I\n
 \n
 Meetecho: http://www.meetecho.com/ietf100/iasa20/\n
 \n
 Agenda https://datatracker.ietf.org/meeting/100/materials/agenda-100-iasa20-00\n
 \n
 Session materials: https://datatracker.ietf.org/meeting/100/session/iasa20\n
 \n
 See in schedule: https://datatracker.ietf.org/meeting/100/agenda#row-100-2017-11-14-tue-0930-gen-iasa20\n
END:VEVENT
BEGIN:VEVENT
UID:ietf-100-9291-dcrouting
SUMMARY:dcrouting - Data Center Routing
LOCATION:Padang
STATUS:CONFIRMED
CLASS:PUBLIC
DTSTART;TZID=Asia/Singapore:20171115T093000
DTEND;TZID=Asia/Singapore:20171115T120000
DTSTAMP:20171005T150936Z
URL:https://datatracker.ietf.org/meeting/100/materials/agenda-100-dcrouting-01
DESCRIPTION:Morning Session I\n
 \n
 Meetecho: http://www.meetecho.com/ietf100/dcrouting/\n
 \n
 Agenda https://datatracker.ietf.org/meeting/100/materials/agenda-100-dcrouting-01\n
 \n
 Session materials: https://datatracker.ietf.org/meeting/100/session/dcrouting\n
 \n
 See in schedule: https://datatracker.ietf.org/meeting/100/agenda#row-100-2017-11-15-wed-0930-rtg-dcrouting\n
END:VEVENT
BEGIN:VEVENT
UID:ietf-100-9003-edu
SUMMARY:WG Chairs Forum (For WG Chairs Only)
LOCATION:Collyer
STATUS:CONFIRMED
CLASS:PUBLIC
DTSTART;TZID=Asia/Singapore:20171115T121500
DTEND;TZID=Asia/Singapore:20171115T131500
DTSTAMP:20171012T142335Z
URL:https://datatracker.ietf.org/meeting/100/materials/agenda-100-edu-sessc-00
DESCRIPTION:WG Chairs Forum (For WG Chairs Only)\n
 \n
 Meetecho: http://www.meetecho.com/ietf100/edu/\n
 \n
 Agenda https://datatracker.ietf.org/meeting/100/materials/agenda-100-edu-sessc-00\n
 \n
 Session materials: https://datatracker.ietf.org/meeting/100/session/edu\n
 \n
 See in schedule: https://datatracker.ietf.org/meeting/100/agenda#row-100-2017-11-15-wed-1215-edu-wg-chairs-forum-for-wg-chairs-only\n
END:VEVENT
BEGIN:VEVENT
UID:ietf-100-9306-teep
SUMMARY:teep - Trusted Execution Environment Provisioning
LOCATION:Collyer
STATUS:CONFIRMED
CLASS:PUBLIC
DTSTART;TZID=Asia/Singapore:20171115T133000
DTEND;TZID=Asia/Singapore:20171115T150000
DTSTAMP:20171005T150958Z
URL:https://datatracker.ietf.org/meeting/100/materials/agenda-100-teep-01
DESCRIPTION:Afternoon Session I\n
 \n
 Meetecho: http://www.meetecho.com/ietf100/teep/\n
 \n
 Agenda https://datatracker.ietf.org/meeting/100/materials/agenda-100-teep-01\n
 \n
 Session materials: https://datatracker.ietf.org/meeting/100/session/teep\n
 \n
 See in schedule: https://datatracker.ietf.org/meeting/100/agenda#row-100-2017-11-15-wed-1330-sec-teep\n
END:VEVENT
BEGIN:VEVENT
UID:ietf-100-8998-ietf
SUMMARY:IETF Plenary
LOCATION:Canning/Padang
STATUS:CONFIRMED
CLASS:PUBLIC
DTSTART;TZID=Asia/Singapore:20171115T171000
DTEND;TZID=Asia/Singapore:20171115T194000
DTSTAMP:20171012T143226Z
URL:https://datatracker.ietf.org/meeting/100/materials/agenda-100-ietf-sessa-00
DESCRIPTION:IETF Plenary\n
 \n
 Meetecho: http://www.meetecho.com/ietf100/plenary/\n
 \n
 Agenda https://datatracker.ietf.org/meeting/100/materials/agenda-100-ietf-sessa-00\n
 \n
 Session materials: https://datatracker.ietf.org/meeting/100/session/ietf\n
 \n
 See in schedule: https://datatracker.ietf.org/meeting/100/agenda#row-100-2017-11-15-wed-1710-1plenary-ietf\n
END:VEVENT
BEGIN:VEVENT
UID:ietf-100-8995-edu
SUMMARY:Newcomers Feedback Session
LOCATION:VIP B
STATUS:CONFIRMED
CLASS:PUBLIC
DTSTART;TZID=Asia/Singapore:20171116T083000
DTEND;TZID=Asia/Singapore:20171116T093000
DTSTAMP:20171026T130533Z
DESCRIPTION:Newcomers Feedback Session\n
 \n
 Session materials: https://datatracker.ietf.org/meeting/100/session/edu\n
 \n
 See in schedule: https://datatracker.ietf.org/meeting/100/agenda#row-100-2017-11-16-thu-0830-edu-newcomers-feedback-session\n
END:VEVENT
BEGIN:VEVENT
UID:ietf-100-8990-edu
SUMMARY:Thursday Lunch Speaker Series
LOCATION:Canning
STATUS:CONFIRMED
CLASS:PUBLIC
DTSTART;TZID=Asia/Singapore:20171116T123000
DTEND;TZID=Asia/Singapore:20171116T131500
DTSTAMP:20171012T142408Z
DESCRIPTION:Thursday Lunch Speaker Series\n
 \n
 Meetecho: http://www.meetecho.com/ietf100/edu/\n
 \n
 Session materials: https://datatracker.ietf.org/meeting/100/session/edu\n
 \n
 See in schedule: https://datatracker.ietf.org/meeting/100/agenda#row-100-2017-11-16-thu-1230-edu-thursday-lunch-speaker-series\n
END:VEVENT
END:VCALENDAR
