BEGIN:VCALENDAR
VERSION:2.0
METHOD:PUBLISH
PRODID:-//IETF//datatracker.ietf.org ical agenda//EN
BEGIN:VTIMEZONE
TZID:Asia/Singapore
X-LIC-LOCATION:Asia/Singapore
BEGIN:STANDARD
TZOFFSETFROM:+065525
TZOFFSETTO:+065525
TZNAME:SMT
DTSTART:19010101T000000
RDATE:19010101T000000
END:STANDARD
BEGIN:STANDARD
TZOFFSETFROM:+065525
TZOFFSETTO:+0700
TZNAME:MALT
DTSTART:19050601T000000
RDATE:19050601T000000
END:STANDARD
BEGIN:DAYLIGHT
TZOFFSETFROM:+0700
TZOFFSETTO:+0720
TZNAME:MALST
DTSTART:19330101T000000
RDATE:19330101T000000
END:DAYLIGHT
BEGIN:STANDARD
TZOFFSETFROM:+0720
TZOFFSETTO:+0720
TZNAME:MALT
DTSTART:19360101T000000
RDATE:19360101T000000
END:STANDARD
BEGIN:STANDARD
TZOFFSETFROM:+0720
TZOFFSETTO:+0730
TZNAME:MALT
DTSTART:19410901T000000
RDATE:19410901T000000
END:STANDARD
BEGIN:STANDARD
TZOFFSETFROM:+0730
TZOFFSETTO:+0900
TZNAME:JST
DTSTART:19420216T000000
RDATE:19420216T000000
END:STANDARD
BEGIN:STANDARD
TZOFFSETFROM:+0900
TZOFFSETTO:+0730
TZNAME:MALT
DTSTART:19450912T000000
RDATE:19450912T000000
END:STANDARD
BEGIN:STANDARD
TZOFFSETFROM:+0730
TZOFFSETTO:+0730
TZNAME:SGT
DTSTART:19650809T000000
RDATE:19650809T000000
END:STANDARD
BEGIN:STANDARD
TZOFFSETFROM:+0730
TZOFFSETTO:+0800
TZNAME:SGT
DTSTART:19820101T000000
RDATE:19820101T000000
END:STANDARD
END:VTIMEZONE
BEGIN:VEVENT
UID:ietf-100-9085-lpwan
SUMMARY:lpwan - IPv6 over Low Power Wide-Area Networks
LOCATION:Olivia
STATUS:CONFIRMED
CLASS:PUBLIC
DTSTART;TZID=Asia/Singapore:20171113T093000
DTEND;TZID=Asia/Singapore:20171113T120000
DTSTAMP:20171005T141304Z
URL:https://datatracker.ietf.org/meeting/100/materials/agenda-100-lpwan-05
DESCRIPTION:Morning Session I\n
 \n
 Meetecho: http://www.meetecho.com/ietf100/lpwan/\n
 \n
 Agenda https://datatracker.ietf.org/meeting/100/materials/agenda-100-lpwan-05\n
 \n
 Session materials: https://datatracker.ietf.org/meeting/100/session/lpwan\n
 \n
 See in schedule: https://datatracker.ietf.org/meeting/100/agenda#row-100-2017-11-13-mon-0930-int-lpwan\n
END:VEVENT
BEGIN:VEVENT
UID:ietf-100-9121-ntp
SUMMARY:ntp - Network Time Protocol (Joint session with TICTOC)
LOCATION:VIP A
STATUS:CONFIRMED
CLASS:PUBLIC
DTSTART;TZID=Asia/Singapore:20171113T133000
DTEND;TZID=Asia/Singapore:20171113T153000
DTSTAMP:20171005T143941Z
URL:https://datatracker.ietf.org/meeting/100/materials/agenda-100-ntp-00
DESCRIPTION:Afternoon Session I\n
 Note: Joint session with TICTOC\n
 \n
 Meetecho: http://www.meetecho.com/ietf100/ntp/\n
 \n
 Agenda https://datatracker.ietf.org/meeting/100/materials/agenda-100-ntp-00\n
 \n
 Session materials: https://datatracker.ietf.org/meeting/100/session/ntp\n
 \n
 See in schedule: https://datatracker.ietf.org/meeting/100/agenda#row-100-2017-11-13-mon-1330-int-ntp\n
END:VEVENT
BEGIN:VEVENT
UID:ietf-100-9121-tictoc
SUMMARY:tictoc - Timing over IP Connection and Transfer of Clock (Joint session with NTP)
LOCATION:VIP A
STATUS:CONFIRMED
CLASS:PUBLIC
DTSTART;TZID=Asia/Singapore:20171113T133000
DTEND;TZID=Asia/Singapore:20171113T153000
DTSTAMP:20171005T143941Z
URL:https://datatracker.ietf.org/meeting/100/materials/agenda-100-tictoc-00
DESCRIPTION:Afternoon Session I\n
 Note: Joint session with NTP\n
 \n
 Meetecho: http://www.meetecho.com/ietf100/tictoc/\n
 \n
 Agenda https://datatracker.ietf.org/meeting/100/materials/agenda-100-tictoc-00\n
 \n
 Session materials: https://datatracker.ietf.org/meeting/100/session/tictoc\n
 \n
 See in schedule: https://datatracker.ietf.org/meeting/100/agenda#row-100-2017-11-13-mon-1330-int-tictoc\n
END:VEVENT
BEGIN:VEVENT
UID:ietf-100-9127-6tisch
SUMMARY:6tisch - IPv6 over the TSCH mode of IEEE 802.15.4e
LOCATION:Bras Basah
STATUS:CONFIRMED
CLASS:PUBLIC
DTSTART;TZID=Asia/Singapore:20171113T155000
DTEND;TZID=Asia/Singapore:20171113T172000
DTSTAMP:20171005T144003Z
URL:https://datatracker.ietf.org/meeting/100/materials/agenda-100-6tisch-03
DESCRIPTION:Afternoon Session II\n
 \n
 Meetecho: http://www.meetecho.com/ietf100/6tisch/\n
 \n
 Agenda https://datatracker.ietf.org/meeting/100/materials/agenda-100-6tisch-03\n
 \n
 Session materials: https://datatracker.ietf.org/meeting/100/session/6tisch\n
 \n
 See in schedule: https://datatracker.ietf.org/meeting/100/agenda#row-100-2017-11-13-mon-1550-int-6tisch\n
END:VEVENT
BEGIN:VEVENT
UID:ietf-100-9132-homenet
SUMMARY:homenet - Home Networking
LOCATION:Collyer
STATUS:CONFIRMED
CLASS:PUBLIC
DTSTART;TZID=Asia/Singapore:20171113T155000
DTEND;TZID=Asia/Singapore:20171113T172000
DTSTAMP:20171005T144003Z
URL:https://datatracker.ietf.org/meeting/100/materials/agenda-100-homenet-00
DESCRIPTION:Afternoon Session II\n
 \n
 Meetecho: http://www.meetecho.com/ietf100/homenet/\n
 \n
 Agenda https://datatracker.ietf.org/meeting/100/materials/agenda-100-homenet-00\n
 \n
 Session materials: https://datatracker.ietf.org/meeting/100/session/homenet\n
 \n
 See in schedule: https://datatracker.ietf.org/meeting/100/agenda#row-100-2017-11-13-mon-1550-int-homenet\n
END:VEVENT
BEGIN:VEVENT
UID:ietf-100-9176-ipwave
SUMMARY:ipwave - IP Wireless Access in Vehicular Environments
LOCATION:Sophia
STATUS:CONFIRMED
CLASS:PUBLIC
DTSTART;TZID=Asia/Singapore:20171113T174000
DTEND;TZID=Asia/Singapore:20171113T184000
DTSTAMP:20171005T144019Z
URL:https://datatracker.ietf.org/meeting/100/materials/agenda-100-ipwave-01
DESCRIPTION:Afternoon Session III\n
 \n
 Meetecho: http://www.meetecho.com/ietf100/ipwave/\n
 \n
 Agenda https://datatracker.ietf.org/meeting/100/materials/agenda-100-ipwave-01\n
 \n
 Session materials: https://datatracker.ietf.org/meeting/100/session/ipwave\n
 \n
 See in schedule: https://datatracker.ietf.org/meeting/100/agenda#row-100-2017-11-13-mon-1740-int-ipwave\n
END:VEVENT
BEGIN:VEVENT
UID:ietf-100-9202-dmm
SUMMARY:dmm - Distributed Mobility Management
LOCATION:Orchard
STATUS:CONFIRMED
CLASS:PUBLIC
DTSTART;TZID=Asia/Singapore:20171114T093000
DTEND;TZID=Asia/Singapore:20171114T120000
DTSTAMP:20171005T150839Z
URL:https://datatracker.ietf.org/meeting/100/materials/agenda-100-dmm-06
DESCRIPTION:Morning Session I\n
 \n
 Meetecho: http://www.meetecho.com/ietf100/dmm/\n
 \n
 Agenda https://datatracker.ietf.org/meeting/100/materials/agenda-100-dmm-06\n
 \n
 Session materials: https://datatracker.ietf.org/meeting/100/session/dmm\n
 \n
 See in schedule: https://datatracker.ietf.org/meeting/100/agenda#row-100-2017-11-14-tue-0930-int-dmm\n
END:VEVENT
BEGIN:VEVENT
UID:ietf-100-9216-6man
SUMMARY:6man - IPv6 Maintenance
LOCATION:Canning
STATUS:CONFIRMED
CLASS:PUBLIC
DTSTART;TZID=Asia/Singapore:20171114T133000
DTEND;TZID=Asia/Singapore:20171114T153000
DTSTAMP:20171005T150857Z
URL:https://datatracker.ietf.org/meeting/100/materials/agenda-100-6man-00
DESCRIPTION:Afternoon Session I\n
 \n
 Meetecho: http://www.meetecho.com/ietf100/6man/\n
 \n
 Agenda https://datatracker.ietf.org/meeting/100/materials/agenda-100-6man-00\n
 \n
 Session materials: https://datatracker.ietf.org/meeting/100/session/6man\n
 \n
 See in schedule: https://datatracker.ietf.org/meeting/100/agenda#row-100-2017-11-14-tue-1330-int-6man\n
END:VEVENT
BEGIN:VEVENT
UID:ietf-100-9274-dnssd
SUMMARY:dnssd - Extensions for Scalable DNS Service Discovery 
LOCATION:Canning
STATUS:CONFIRMED
CLASS:PUBLIC
DTSTART;TZID=Asia/Singapore:20171115T093000
DTEND;TZID=Asia/Singapore:20171115T120000
DTSTAMP:20171005T150936Z
URL:https://datatracker.ietf.org/meeting/100/materials/agenda-100-dnssd-03
DESCRIPTION:Morning Session I\n
 \n
 Meetecho: http://www.meetecho.com/ietf100/dnssd/\n
 \n
 Agenda https://datatracker.ietf.org/meeting/100/materials/agenda-100-dnssd-03\n
 \n
 Session materials: https://datatracker.ietf.org/meeting/100/session/dnssd\n
 \n
 See in schedule: https://datatracker.ietf.org/meeting/100/agenda#row-100-2017-11-15-wed-0930-int-dnssd\n
END:VEVENT
BEGIN:VEVENT
UID:ietf-100-9288-lwig
SUMMARY:lwig - Light-Weight Implementation Guidance (1100-1200)
LOCATION:Olivia
STATUS:CONFIRMED
CLASS:PUBLIC
DTSTART;TZID=Asia/Singapore:20171115T093000
DTEND;TZID=Asia/Singapore:20171115T120000
DTSTAMP:20171005T150936Z
URL:https://datatracker.ietf.org/meeting/100/materials/agenda-100-lwig-03
DESCRIPTION:Morning Session I\n
 Note: 1100-1200\n
 \n
 Meetecho: http://www.meetecho.com/ietf100/lwig/\n
 \n
 Agenda https://datatracker.ietf.org/meeting/100/materials/agenda-100-lwig-03\n
 \n
 Session materials: https://datatracker.ietf.org/meeting/100/session/lwig\n
 \n
 See in schedule: https://datatracker.ietf.org/meeting/100/agenda#row-100-2017-11-15-wed-0930-int-lwig\n
END:VEVENT
BEGIN:VEVENT
UID:ietf-100-9335-intarea
SUMMARY:intarea - Internet Area Working Group
LOCATION:Collyer
STATUS:CONFIRMED
CLASS:PUBLIC
DTSTART;TZID=Asia/Singapore:20171115T152000
DTEND;TZID=Asia/Singapore:20171115T165000
DTSTAMP:20171005T151015Z
URL:https://datatracker.ietf.org/meeting/100/materials/agenda-100-intarea-02
DESCRIPTION:Afternoon Session II\n
 \n
 Meetecho: http://www.meetecho.com/ietf100/intarea/\n
 \n
 Agenda https://datatracker.ietf.org/meeting/100/materials/agenda-100-intarea-02\n
 \n
 Session materials: https://datatracker.ietf.org/meeting/100/session/intarea\n
 \n
 See in schedule: https://datatracker.ietf.org/meeting/100/agenda#row-100-2017-11-15-wed-1520-int-intarea\n
END:VEVENT
BEGIN:VEVENT
UID:ietf-100-9408-6lo
SUMMARY:6lo - IPv6 over Networks of Resource-constrained Nodes
LOCATION:Sophia
STATUS:CONFIRMED
CLASS:PUBLIC
DTSTART;TZID=Asia/Singapore:20171116T133000
DTEND;TZID=Asia/Singapore:20171116T153000
DTSTAMP:20171005T151117Z
URL:https://datatracker.ietf.org/meeting/100/materials/agenda-100-6lo-05
DESCRIPTION:Afternoon Session I\n
 \n
 Meetecho: http://www.meetecho.com/ietf100/6lo/\n
 \n
 Agenda https://datatracker.ietf.org/meeting/100/materials/agenda-100-6lo-05\n
 \n
 Session materials: https://datatracker.ietf.org/meeting/100/session/6lo\n
 \n
 See in schedule: https://datatracker.ietf.org/meeting/100/agenda#row-100-2017-11-16-thu-1330-int-6lo\n
END:VEVENT
BEGIN:VEVENT
UID:ietf-100-9451-dhc
SUMMARY:dhc - Dynamic Host Configuration
LOCATION:Collyer
STATUS:CONFIRMED
CLASS:PUBLIC
DTSTART;TZID=Asia/Singapore:20171116T181000
DTEND;TZID=Asia/Singapore:20171116T191000
DTSTAMP:20171005T151206Z
URL:https://datatracker.ietf.org/meeting/100/materials/agenda-100-dhc-05
DESCRIPTION:Afternoon Session III\n
 \n
 Meetecho: http://www.meetecho.com/ietf100/dhc/\n
 \n
 Agenda https://datatracker.ietf.org/meeting/100/materials/agenda-100-dhc-05\n
 \n
 Session materials: https://datatracker.ietf.org/meeting/100/session/dhc\n
 \n
 See in schedule: https://datatracker.ietf.org/meeting/100/agenda#row-100-2017-11-16-thu-1810-int-dhc\n
END:VEVENT
END:VCALENDAR
