BEGIN:VCALENDAR
VERSION:2.0
METHOD:PUBLISH
PRODID:-//IETF//datatracker.ietf.org ical agenda//EN
BEGIN:VTIMEZONE
TZID:Asia/Singapore
X-LIC-LOCATION:Asia/Singapore
BEGIN:STANDARD
TZOFFSETFROM:+065525
TZOFFSETTO:+065525
TZNAME:SMT
DTSTART:19010101T000000
RDATE:19010101T000000
END:STANDARD
BEGIN:STANDARD
TZOFFSETFROM:+065525
TZOFFSETTO:+0700
TZNAME:MALT
DTSTART:19050601T000000
RDATE:19050601T000000
END:STANDARD
BEGIN:DAYLIGHT
TZOFFSETFROM:+0700
TZOFFSETTO:+0720
TZNAME:MALST
DTSTART:19330101T000000
RDATE:19330101T000000
END:DAYLIGHT
BEGIN:STANDARD
TZOFFSETFROM:+0720
TZOFFSETTO:+0720
TZNAME:MALT
DTSTART:19360101T000000
RDATE:19360101T000000
END:STANDARD
BEGIN:STANDARD
TZOFFSETFROM:+0720
TZOFFSETTO:+0730
TZNAME:MALT
DTSTART:19410901T000000
RDATE:19410901T000000
END:STANDARD
BEGIN:STANDARD
TZOFFSETFROM:+0730
TZOFFSETTO:+0900
TZNAME:JST
DTSTART:19420216T000000
RDATE:19420216T000000
END:STANDARD
BEGIN:STANDARD
TZOFFSETFROM:+0900
TZOFFSETTO:+0730
TZNAME:MALT
DTSTART:19450912T000000
RDATE:19450912T000000
END:STANDARD
BEGIN:STANDARD
TZOFFSETFROM:+0730
TZOFFSETTO:+0730
TZNAME:SGT
DTSTART:19650809T000000
RDATE:19650809T000000
END:STANDARD
BEGIN:STANDARD
TZOFFSETFROM:+0730
TZOFFSETTO:+0800
TZNAME:SGT
DTSTART:19820101T000000
RDATE:19820101T000000
END:STANDARD
END:VTIMEZONE
BEGIN:VEVENT
UID:ietf-100-9092-dinrg
SUMMARY:dinrg - Decentralized Internet Infrastructure Proposed RG
LOCATION:VIP A
STATUS:CANCELLED
CLASS:PUBLIC
DTSTART;TZID=Asia/Singapore:20171113T093000
DTEND;TZID=Asia/Singapore:20171113T120000
DTSTAMP:20171005T141304Z
DESCRIPTION:Morning Session I\n
 \n
 Meetecho: http://www.meetecho.com/ietf100/dinrg/\n
 \n
 Session materials: https://datatracker.ietf.org/meeting/100/session/dinrg\n
 \n
 See in schedule: https://datatracker.ietf.org/meeting/100/agenda#row-100-2017-11-13-mon-0930-irtf-dinrg\n
END:VEVENT
BEGIN:VEVENT
UID:ietf-100-9103-iccrg
SUMMARY:iccrg - Internet Congestion Control
LOCATION:Collyer
STATUS:CONFIRMED
CLASS:PUBLIC
DTSTART;TZID=Asia/Singapore:20171113T133000
DTEND;TZID=Asia/Singapore:20171113T153000
DTSTAMP:20171005T143941Z
URL:https://datatracker.ietf.org/meeting/100/materials/agenda-100-iccrg-04
DESCRIPTION:Afternoon Session I\n
 \n
 Meetecho: http://www.meetecho.com/ietf100/iccrg/\n
 \n
 Agenda https://datatracker.ietf.org/meeting/100/materials/agenda-100-iccrg-04\n
 \n
 Session materials: https://datatracker.ietf.org/meeting/100/session/iccrg\n
 \n
 See in schedule: https://datatracker.ietf.org/meeting/100/agenda#row-100-2017-11-13-mon-1330-irtf-iccrg\n
END:VEVENT
BEGIN:VEVENT
UID:ietf-100-9146-maprg
SUMMARY:maprg - Measurement and Analysis for Protocols
LOCATION:Padang
STATUS:CONFIRMED
CLASS:PUBLIC
DTSTART;TZID=Asia/Singapore:20171113T155000
DTEND;TZID=Asia/Singapore:20171113T172000
DTSTAMP:20171005T144003Z
URL:https://datatracker.ietf.org/meeting/100/materials/agenda-100-maprg-08
DESCRIPTION:Afternoon Session II\n
 \n
 Meetecho: http://www.meetecho.com/ietf100/maprg/\n
 \n
 Agenda https://datatracker.ietf.org/meeting/100/materials/agenda-100-maprg-08\n
 \n
 Session materials: https://datatracker.ietf.org/meeting/100/session/maprg\n
 \n
 See in schedule: https://datatracker.ietf.org/meeting/100/agenda#row-100-2017-11-13-mon-1550-irtf-maprg\n
END:VEVENT
BEGIN:VEVENT
UID:ietf-100-9161-nmrg
SUMMARY:nmrg - Network Management
LOCATION:Collyer
STATUS:CONFIRMED
CLASS:PUBLIC
DTSTART;TZID=Asia/Singapore:20171113T174000
DTEND;TZID=Asia/Singapore:20171113T184000
DTSTAMP:20171005T144019Z
URL:https://datatracker.ietf.org/meeting/100/materials/agenda-100-nmrg-01
DESCRIPTION:Afternoon Session III\n
 \n
 Meetecho: http://www.meetecho.com/ietf100/nmrg/\n
 \n
 Agenda https://datatracker.ietf.org/meeting/100/materials/agenda-100-nmrg-01\n
 \n
 Session materials: https://datatracker.ietf.org/meeting/100/session/nmrg\n
 \n
 See in schedule: https://datatracker.ietf.org/meeting/100/agenda#row-100-2017-11-13-mon-1740-irtf-nmrg\n
END:VEVENT
BEGIN:VEVENT
UID:ietf-100-9185-nmrg
SUMMARY:nmrg - Network Management
LOCATION:Bras Basah
STATUS:CONFIRMED
CLASS:PUBLIC
DTSTART;TZID=Asia/Singapore:20171114T093000
DTEND;TZID=Asia/Singapore:20171114T120000
DTSTAMP:20171005T150839Z
URL:https://datatracker.ietf.org/meeting/100/materials/agenda-100-nmrg-01
DESCRIPTION:Morning Session I\n
 \n
 Meetecho: http://www.meetecho.com/ietf100/nmrg/\n
 \n
 Agenda https://datatracker.ietf.org/meeting/100/materials/agenda-100-nmrg-01\n
 \n
 Session materials: https://datatracker.ietf.org/meeting/100/session/nmrg\n
 \n
 See in schedule: https://datatracker.ietf.org/meeting/100/agenda#row-100-2017-11-14-tue-0930-irtf-nmrg\n
END:VEVENT
BEGIN:VEVENT
UID:ietf-100-9219-nfvrg
SUMMARY:nfvrg - Network Function Virtualization
LOCATION:Collyer
STATUS:CONFIRMED
CLASS:PUBLIC
DTSTART;TZID=Asia/Singapore:20171114T133000
DTEND;TZID=Asia/Singapore:20171114T153000
DTSTAMP:20171005T150857Z
URL:https://datatracker.ietf.org/meeting/100/materials/agenda-100-nfvrg-03
DESCRIPTION:Afternoon Session I\n
 \n
 Meetecho: http://www.meetecho.com/ietf100/nfvrg/\n
 \n
 Agenda https://datatracker.ietf.org/meeting/100/materials/agenda-100-nfvrg-03\n
 \n
 Session materials: https://datatracker.ietf.org/meeting/100/session/nfvrg\n
 \n
 See in schedule: https://datatracker.ietf.org/meeting/100/agenda#row-100-2017-11-14-tue-1330-irtf-nfvrg\n
END:VEVENT
BEGIN:VEVENT
UID:ietf-100-9262-t2trg
SUMMARY:t2trg - Thing-to-Thing
LOCATION:Padang
STATUS:CONFIRMED
CLASS:PUBLIC
DTSTART;TZID=Asia/Singapore:20171114T155000
DTEND;TZID=Asia/Singapore:20171114T175000
DTSTAMP:20171005T150917Z
URL:https://datatracker.ietf.org/meeting/100/materials/agenda-100-t2trg-03
DESCRIPTION:Afternoon Session II\n
 \n
 Meetecho: http://www.meetecho.com/ietf100/t2trg/\n
 \n
 Agenda https://datatracker.ietf.org/meeting/100/materials/agenda-100-t2trg-03\n
 \n
 Session materials: https://datatracker.ietf.org/meeting/100/session/t2trg\n
 \n
 See in schedule: https://datatracker.ietf.org/meeting/100/agenda#row-100-2017-11-14-tue-1550-irtf-t2trg\n
END:VEVENT
BEGIN:VEVENT
UID:ietf-100-9295-icnrg
SUMMARY:icnrg - Information-Centric Networking
LOCATION:VIP A
STATUS:CONFIRMED
CLASS:PUBLIC
DTSTART;TZID=Asia/Singapore:20171115T093000
DTEND;TZID=Asia/Singapore:20171115T120000
DTSTAMP:20171005T150936Z
URL:https://datatracker.ietf.org/meeting/100/materials/agenda-100-icnrg-02
DESCRIPTION:Morning Session I\n
 \n
 Meetecho: http://www.meetecho.com/ietf100/icnrg/\n
 \n
 Agenda https://datatracker.ietf.org/meeting/100/materials/agenda-100-icnrg-02\n
 \n
 Session materials: https://datatracker.ietf.org/meeting/100/session/icnrg\n
 \n
 See in schedule: https://datatracker.ietf.org/meeting/100/agenda#row-100-2017-11-15-wed-0930-irtf-icnrg\n
END:VEVENT
BEGIN:VEVENT
UID:ietf-100-9317-gaia
SUMMARY:gaia - Global Access to the Internet for All
LOCATION:Olivia
STATUS:CONFIRMED
CLASS:PUBLIC
DTSTART;TZID=Asia/Singapore:20171115T133000
DTEND;TZID=Asia/Singapore:20171115T150000
DTSTAMP:20171005T150958Z
URL:https://datatracker.ietf.org/meeting/100/materials/agenda-100-gaia-06
DESCRIPTION:Afternoon Session I\n
 \n
 Meetecho: http://www.meetecho.com/ietf100/gaia/\n
 \n
 Agenda https://datatracker.ietf.org/meeting/100/materials/agenda-100-gaia-06\n
 \n
 Session materials: https://datatracker.ietf.org/meeting/100/session/gaia\n
 \n
 See in schedule: https://datatracker.ietf.org/meeting/100/agenda#row-100-2017-11-15-wed-1330-irtf-gaia\n
END:VEVENT
BEGIN:VEVENT
UID:ietf-100-9353-cfrg
SUMMARY:cfrg - Crypto Forum
LOCATION:VIP A
STATUS:CONFIRMED
CLASS:PUBLIC
DTSTART;TZID=Asia/Singapore:20171115T152000
DTEND;TZID=Asia/Singapore:20171115T165000
DTSTAMP:20171005T151015Z
URL:https://datatracker.ietf.org/meeting/100/materials/agenda-100-cfrg-02
DESCRIPTION:Afternoon Session II\n
 \n
 Meetecho: http://www.meetecho.com/ietf100/cfrg/\n
 \n
 Agenda https://datatracker.ietf.org/meeting/100/materials/agenda-100-cfrg-02\n
 \n
 Session materials: https://datatracker.ietf.org/meeting/100/session/cfrg\n
 \n
 See in schedule: https://datatracker.ietf.org/meeting/100/agenda#row-100-2017-11-15-wed-1520-irtf-cfrg\n
END:VEVENT
BEGIN:VEVENT
UID:ietf-100-9378-irtfopen
SUMMARY:irtfopen - IRTF Open Meeting
LOCATION:Padang
STATUS:CONFIRMED
CLASS:PUBLIC
DTSTART;TZID=Asia/Singapore:20171116T093000
DTEND;TZID=Asia/Singapore:20171116T120000
DTSTAMP:20171005T151036Z
URL:https://datatracker.ietf.org/meeting/100/materials/agenda-100-irtfopen-00
DESCRIPTION:Morning Session I\n
 \n
 Meetecho: http://www.meetecho.com/ietf100/irtfopen/\n
 \n
 Agenda https://datatracker.ietf.org/meeting/100/materials/agenda-100-irtfopen-00\n
 \n
 Session materials: https://datatracker.ietf.org/meeting/100/session/irtfopen\n
 \n
 See in schedule: https://datatracker.ietf.org/meeting/100/agenda#row-100-2017-11-16-thu-0930-irtf-irtfopen\n
END:VEVENT
BEGIN:VEVENT
UID:ietf-100-9393-panrg
SUMMARY:panrg - Path Aware Networking Proposed RG
LOCATION:Collyer
STATUS:CONFIRMED
CLASS:PUBLIC
DTSTART;TZID=Asia/Singapore:20171116T133000
DTEND;TZID=Asia/Singapore:20171116T153000
DTSTAMP:20171005T151117Z
URL:https://datatracker.ietf.org/meeting/100/materials/agenda-100-panrg-07
DESCRIPTION:Afternoon Session I\n
 \n
 Meetecho: http://www.meetecho.com/ietf100/panrg/\n
 \n
 Agenda https://datatracker.ietf.org/meeting/100/materials/agenda-100-panrg-07\n
 \n
 Session materials: https://datatracker.ietf.org/meeting/100/session/panrg\n
 \n
 See in schedule: https://datatracker.ietf.org/meeting/100/agenda#row-100-2017-11-16-thu-1330-irtf-panrg\n
END:VEVENT
BEGIN:VEVENT
UID:ietf-100-9434-nwcrg
SUMMARY:nwcrg - Coding for efficient NetWork Communications Research Group
LOCATION:Orchard
STATUS:CONFIRMED
CLASS:PUBLIC
DTSTART;TZID=Asia/Singapore:20171116T155000
DTEND;TZID=Asia/Singapore:20171116T175000
DTSTAMP:20171005T151155Z
URL:https://datatracker.ietf.org/meeting/100/materials/agenda-100-nwcrg-05
DESCRIPTION:Afternoon Session II\n
 \n
 Meetecho: http://www.meetecho.com/ietf100/nwcrg/\n
 \n
 Agenda https://datatracker.ietf.org/meeting/100/materials/agenda-100-nwcrg-05\n
 \n
 Session materials: https://datatracker.ietf.org/meeting/100/session/nwcrg\n
 \n
 See in schedule: https://datatracker.ietf.org/meeting/100/agenda#row-100-2017-11-16-thu-1550-irtf-nwcrg\n
END:VEVENT
BEGIN:VEVENT
UID:ietf-100-9494-hrpc
SUMMARY:hrpc - Human Rights Protocol Considerations
LOCATION:Padang
STATUS:CONFIRMED
CLASS:PUBLIC
DTSTART;TZID=Asia/Singapore:20171117T093000
DTEND;TZID=Asia/Singapore:20171117T113000
DTSTAMP:20171005T151228Z
URL:https://datatracker.ietf.org/meeting/100/materials/agenda-100-hrpc-03
DESCRIPTION:Morning Session I\n
 \n
 Meetecho: http://www.meetecho.com/ietf100/hrpc/\n
 \n
 Agenda https://datatracker.ietf.org/meeting/100/materials/agenda-100-hrpc-03\n
 \n
 Session materials: https://datatracker.ietf.org/meeting/100/session/hrpc\n
 \n
 See in schedule: https://datatracker.ietf.org/meeting/100/agenda#row-100-2017-11-17-fri-0930-irtf-hrpc\n
END:VEVENT
END:VCALENDAR
