BEGIN:VCALENDAR
VERSION:2.0
METHOD:PUBLISH
PRODID:-//IETF//datatracker.ietf.org ical agenda//EN
BEGIN:VTIMEZONE
TZID:Asia/Singapore
X-LIC-LOCATION:Asia/Singapore
BEGIN:STANDARD
TZOFFSETFROM:+065525
TZOFFSETTO:+065525
TZNAME:SMT
DTSTART:19010101T000000
RDATE:19010101T000000
END:STANDARD
BEGIN:STANDARD
TZOFFSETFROM:+065525
TZOFFSETTO:+0700
TZNAME:MALT
DTSTART:19050601T000000
RDATE:19050601T000000
END:STANDARD
BEGIN:DAYLIGHT
TZOFFSETFROM:+0700
TZOFFSETTO:+0720
TZNAME:MALST
DTSTART:19330101T000000
RDATE:19330101T000000
END:DAYLIGHT
BEGIN:STANDARD
TZOFFSETFROM:+0720
TZOFFSETTO:+0720
TZNAME:MALT
DTSTART:19360101T000000
RDATE:19360101T000000
END:STANDARD
BEGIN:STANDARD
TZOFFSETFROM:+0720
TZOFFSETTO:+0730
TZNAME:MALT
DTSTART:19410901T000000
RDATE:19410901T000000
END:STANDARD
BEGIN:STANDARD
TZOFFSETFROM:+0730
TZOFFSETTO:+0900
TZNAME:JST
DTSTART:19420216T000000
RDATE:19420216T000000
END:STANDARD
BEGIN:STANDARD
TZOFFSETFROM:+0900
TZOFFSETTO:+0730
TZNAME:MALT
DTSTART:19450912T000000
RDATE:19450912T000000
END:STANDARD
BEGIN:STANDARD
TZOFFSETFROM:+0730
TZOFFSETTO:+0730
TZNAME:SGT
DTSTART:19650809T000000
RDATE:19650809T000000
END:STANDARD
BEGIN:STANDARD
TZOFFSETFROM:+0730
TZOFFSETTO:+0800
TZNAME:SGT
DTSTART:19820101T000000
RDATE:19820101T000000
END:STANDARD
END:VTIMEZONE
BEGIN:VEVENT
UID:ietf-100-9089-anima
SUMMARY:anima - Autonomic Networking Integrated Model and Approach
LOCATION:Sophia
STATUS:CONFIRMED
CLASS:PUBLIC
DTSTART;TZID=Asia/Singapore:20171113T093000
DTEND;TZID=Asia/Singapore:20171113T120000
DTSTAMP:20171005T141304Z
URL:https://datatracker.ietf.org/meeting/100/materials/agenda-100-anima-03
DESCRIPTION:Morning Session I\n
 \n
 Meetecho: http://www.meetecho.com/ietf100/anima/\n
 \n
 Agenda https://datatracker.ietf.org/meeting/100/materials/agenda-100-anima-03\n
 \n
 Session materials: https://datatracker.ietf.org/meeting/100/session/anima\n
 \n
 See in schedule: https://datatracker.ietf.org/meeting/100/agenda#row-100-2017-11-13-mon-0930-ops-anima\n
END:VEVENT
BEGIN:VEVENT
UID:ietf-100-9088-dnsop
SUMMARY:dnsop - Domain Name System Operations
LOCATION:Padang
STATUS:CONFIRMED
CLASS:PUBLIC
DTSTART;TZID=Asia/Singapore:20171113T093000
DTEND;TZID=Asia/Singapore:20171113T120000
DTSTAMP:20171005T141304Z
URL:https://datatracker.ietf.org/meeting/100/materials/agenda-100-dnsop-02
DESCRIPTION:Morning Session I\n
 \n
 Meetecho: http://www.meetecho.com/ietf100/dnsop/\n
 \n
 Agenda https://datatracker.ietf.org/meeting/100/materials/agenda-100-dnsop-02\n
 \n
 Session materials: https://datatracker.ietf.org/meeting/100/session/dnsop\n
 \n
 See in schedule: https://datatracker.ietf.org/meeting/100/agenda#row-100-2017-11-13-mon-0930-ops-dnsop\n
END:VEVENT
BEGIN:VEVENT
UID:ietf-100-9117-v6ops
SUMMARY:v6ops - IPv6 Operations
LOCATION:Padang
STATUS:CONFIRMED
CLASS:PUBLIC
DTSTART;TZID=Asia/Singapore:20171113T133000
DTEND;TZID=Asia/Singapore:20171113T153000
DTSTAMP:20171005T143941Z
URL:https://datatracker.ietf.org/meeting/100/materials/agenda-100-v6ops-03
DESCRIPTION:Afternoon Session I\n
 \n
 Meetecho: http://www.meetecho.com/ietf100/v6ops/\n
 \n
 Agenda https://datatracker.ietf.org/meeting/100/materials/agenda-100-v6ops-03\n
 \n
 Session materials: https://datatracker.ietf.org/meeting/100/session/v6ops\n
 \n
 See in schedule: https://datatracker.ietf.org/meeting/100/agenda#row-100-2017-11-13-mon-1330-ops-v6ops\n
END:VEVENT
BEGIN:VEVENT
UID:ietf-100-9143-opsec
SUMMARY:opsec - Operational Security Capabilities for IP Network Infrastructure
LOCATION:Olivia
STATUS:CONFIRMED
CLASS:PUBLIC
DTSTART;TZID=Asia/Singapore:20171113T155000
DTEND;TZID=Asia/Singapore:20171113T172000
DTSTAMP:20171005T144003Z
URL:https://datatracker.ietf.org/meeting/100/materials/agenda-100-opsec-04
DESCRIPTION:Afternoon Session II\n
 \n
 Meetecho: http://www.meetecho.com/ietf100/opsec/\n
 \n
 Agenda https://datatracker.ietf.org/meeting/100/materials/agenda-100-opsec-04\n
 \n
 Session materials: https://datatracker.ietf.org/meeting/100/session/opsec\n
 \n
 See in schedule: https://datatracker.ietf.org/meeting/100/agenda#row-100-2017-11-13-mon-1550-ops-opsec\n
END:VEVENT
BEGIN:VEVENT
UID:ietf-100-9208-mboned
SUMMARY:mboned - MBONE Deployment (Joint session with PIM)
LOCATION:VIP A
STATUS:CONFIRMED
CLASS:PUBLIC
DTSTART;TZID=Asia/Singapore:20171114T093000
DTEND;TZID=Asia/Singapore:20171114T120000
DTSTAMP:20171005T150839Z
URL:https://datatracker.ietf.org/meeting/100/materials/agenda-100-mboned-04
DESCRIPTION:Morning Session I\n
 Note: Joint session with PIM\n
 \n
 Meetecho: http://www.meetecho.com/ietf100/mboned/\n
 \n
 Agenda https://datatracker.ietf.org/meeting/100/materials/agenda-100-mboned-04\n
 \n
 Session materials: https://datatracker.ietf.org/meeting/100/session/mboned\n
 \n
 See in schedule: https://datatracker.ietf.org/meeting/100/agenda#row-100-2017-11-14-tue-0930-ops-mboned\n
END:VEVENT
BEGIN:VEVENT
UID:ietf-100-9245-opsawg
SUMMARY:opsawg - Operations and Management Area Working Group (Joint session with OPSAREA)
LOCATION:Canning
STATUS:CONFIRMED
CLASS:PUBLIC
DTSTART;TZID=Asia/Singapore:20171114T155000
DTEND;TZID=Asia/Singapore:20171114T175000
DTSTAMP:20171005T150917Z
URL:https://datatracker.ietf.org/meeting/100/materials/agenda-100-opsawg-01
DESCRIPTION:Afternoon Session II\n
 Note: Joint session with OPSAREA\n
 \n
 Meetecho: http://www.meetecho.com/ietf100/opsawg/\n
 \n
 Agenda https://datatracker.ietf.org/meeting/100/materials/agenda-100-opsawg-01\n
 \n
 Session materials: https://datatracker.ietf.org/meeting/100/session/opsawg\n
 \n
 See in schedule: https://datatracker.ietf.org/meeting/100/agenda#row-100-2017-11-14-tue-1550-ops-opsawg\n
END:VEVENT
BEGIN:VEVENT
UID:ietf-100-9321-netmod
SUMMARY:netmod - Network Modeling
LOCATION:Sophia
STATUS:CONFIRMED
CLASS:PUBLIC
DTSTART;TZID=Asia/Singapore:20171115T133000
DTEND;TZID=Asia/Singapore:20171115T150000
DTSTAMP:20171005T150958Z
URL:https://datatracker.ietf.org/meeting/100/materials/agenda-100-netmod-04
DESCRIPTION:Afternoon Session I\n
 \n
 Meetecho: http://www.meetecho.com/ietf100/netmod/\n
 \n
 Agenda https://datatracker.ietf.org/meeting/100/materials/agenda-100-netmod-04\n
 \n
 Session materials: https://datatracker.ietf.org/meeting/100/session/netmod\n
 \n
 See in schedule: https://datatracker.ietf.org/meeting/100/agenda#row-100-2017-11-15-wed-1330-ops-netmod\n
END:VEVENT
BEGIN:VEVENT
UID:ietf-100-9320-sidrops
SUMMARY:sidrops - SIDR Operations
LOCATION:Padang
STATUS:CONFIRMED
CLASS:PUBLIC
DTSTART;TZID=Asia/Singapore:20171115T133000
DTEND;TZID=Asia/Singapore:20171115T150000
DTSTAMP:20171005T150958Z
URL:https://datatracker.ietf.org/meeting/100/materials/agenda-100-sidrops-02
DESCRIPTION:Afternoon Session I\n
 \n
 Meetecho: http://www.meetecho.com/ietf100/sidrops/\n
 \n
 Agenda https://datatracker.ietf.org/meeting/100/materials/agenda-100-sidrops-02\n
 \n
 Session materials: https://datatracker.ietf.org/meeting/100/session/sidrops\n
 \n
 See in schedule: https://datatracker.ietf.org/meeting/100/agenda#row-100-2017-11-15-wed-1330-ops-sidrops\n
END:VEVENT
BEGIN:VEVENT
UID:ietf-100-9350-netmod
SUMMARY:netmod - Network Modeling
LOCATION:Sophia
STATUS:CONFIRMED
CLASS:PUBLIC
DTSTART;TZID=Asia/Singapore:20171115T152000
DTEND;TZID=Asia/Singapore:20171115T165000
DTSTAMP:20171005T151015Z
URL:https://datatracker.ietf.org/meeting/100/materials/agenda-100-netmod-04
DESCRIPTION:Afternoon Session II\n
 \n
 Meetecho: http://www.meetecho.com/ietf100/netmod/\n
 \n
 Agenda https://datatracker.ietf.org/meeting/100/materials/agenda-100-netmod-04\n
 \n
 Session materials: https://datatracker.ietf.org/meeting/100/session/netmod\n
 \n
 See in schedule: https://datatracker.ietf.org/meeting/100/agenda#row-100-2017-11-15-wed-1520-ops-netmod\n
END:VEVENT
BEGIN:VEVENT
UID:ietf-100-9364-v6ops
SUMMARY:v6ops - IPv6 Operations
LOCATION:Collyer
STATUS:CONFIRMED
CLASS:PUBLIC
DTSTART;TZID=Asia/Singapore:20171116T093000
DTEND;TZID=Asia/Singapore:20171116T120000
DTSTAMP:20171005T151036Z
URL:https://datatracker.ietf.org/meeting/100/materials/agenda-100-v6ops-03
DESCRIPTION:Morning Session I\n
 \n
 Meetecho: http://www.meetecho.com/ietf100/v6ops/\n
 \n
 Agenda https://datatracker.ietf.org/meeting/100/materials/agenda-100-v6ops-03\n
 \n
 Session materials: https://datatracker.ietf.org/meeting/100/session/v6ops\n
 \n
 See in schedule: https://datatracker.ietf.org/meeting/100/agenda#row-100-2017-11-16-thu-0930-ops-v6ops\n
END:VEVENT
BEGIN:VEVENT
UID:ietf-100-9417-bmwg
SUMMARY:bmwg - Benchmarking Methodology
LOCATION:Bras Basah
STATUS:CONFIRMED
CLASS:PUBLIC
DTSTART;TZID=Asia/Singapore:20171116T155000
DTEND;TZID=Asia/Singapore:20171116T175000
DTSTAMP:20171005T151155Z
URL:https://datatracker.ietf.org/meeting/100/materials/agenda-100-bmwg-03
DESCRIPTION:Afternoon Session II\n
 \n
 Meetecho: http://www.meetecho.com/ietf100/bmwg/\n
 \n
 Agenda https://datatracker.ietf.org/meeting/100/materials/agenda-100-bmwg-03\n
 \n
 Session materials: https://datatracker.ietf.org/meeting/100/session/bmwg\n
 \n
 See in schedule: https://datatracker.ietf.org/meeting/100/agenda#row-100-2017-11-16-thu-1550-ops-bmwg\n
END:VEVENT
BEGIN:VEVENT
UID:ietf-100-9436-dnsop
SUMMARY:dnsop - Domain Name System Operations
LOCATION:Padang
STATUS:CANCELLED
CLASS:PUBLIC
DTSTART;TZID=Asia/Singapore:20171116T155000
DTEND;TZID=Asia/Singapore:20171116T175000
DTSTAMP:20171005T151155Z
URL:https://datatracker.ietf.org/meeting/100/materials/agenda-100-dnsop-02
DESCRIPTION:Afternoon Session II\n
 \n
 Meetecho: http://www.meetecho.com/ietf100/dnsop/\n
 \n
 Agenda https://datatracker.ietf.org/meeting/100/materials/agenda-100-dnsop-02\n
 \n
 Session materials: https://datatracker.ietf.org/meeting/100/session/dnsop\n
 \n
 See in schedule: https://datatracker.ietf.org/meeting/100/agenda#row-100-2017-11-16-thu-1550-ops-dnsop\n
END:VEVENT
BEGIN:VEVENT
UID:ietf-100-9422-netconf
SUMMARY:netconf - Network Configuration
LOCATION:Collyer
STATUS:CONFIRMED
CLASS:PUBLIC
DTSTART;TZID=Asia/Singapore:20171116T155000
DTEND;TZID=Asia/Singapore:20171116T175000
DTSTAMP:20171005T151155Z
URL:https://datatracker.ietf.org/meeting/100/materials/agenda-100-netconf-05
DESCRIPTION:Afternoon Session II\n
 \n
 Meetecho: http://www.meetecho.com/ietf100/netconf/\n
 \n
 Agenda https://datatracker.ietf.org/meeting/100/materials/agenda-100-netconf-05\n
 \n
 Session materials: https://datatracker.ietf.org/meeting/100/session/netconf\n
 \n
 See in schedule: https://datatracker.ietf.org/meeting/100/agenda#row-100-2017-11-16-thu-1550-ops-netconf\n
END:VEVENT
BEGIN:VEVENT
UID:ietf-100-9448-l2sm
SUMMARY:l2sm - L2VPN Service Model
LOCATION:Canning
STATUS:CONFIRMED
CLASS:PUBLIC
DTSTART;TZID=Asia/Singapore:20171116T181000
DTEND;TZID=Asia/Singapore:20171116T191000
DTSTAMP:20171005T151206Z
URL:https://datatracker.ietf.org/meeting/100/materials/agenda-100-l2sm-00
DESCRIPTION:Afternoon Session III\n
 \n
 Meetecho: http://www.meetecho.com/ietf100/l2sm/\n
 \n
 Agenda https://datatracker.ietf.org/meeting/100/materials/agenda-100-l2sm-00\n
 \n
 Session materials: https://datatracker.ietf.org/meeting/100/session/l2sm\n
 \n
 See in schedule: https://datatracker.ietf.org/meeting/100/agenda#row-100-2017-11-16-thu-1810-ops-l2sm\n
END:VEVENT
BEGIN:VEVENT
UID:ietf-100-9524-grow
SUMMARY:grow - Global Routing Operations
LOCATION:Sophia
STATUS:CANCELLED
CLASS:PUBLIC
DTSTART;TZID=Asia/Singapore:20171117T115000
DTEND;TZID=Asia/Singapore:20171117T132000
DTSTAMP:20171005T151254Z
DESCRIPTION:Afternoon Session I\n
 \n
 Meetecho: http://www.meetecho.com/ietf100/grow/\n
 \n
 Session materials: https://datatracker.ietf.org/meeting/100/session/grow\n
 \n
 See in schedule: https://datatracker.ietf.org/meeting/100/agenda#row-100-2017-11-17-fri-1150-ops-grow\n
END:VEVENT
END:VCALENDAR
