BEGIN:VCALENDAR
VERSION:2.0
METHOD:PUBLISH
PRODID:-//IETF//datatracker.ietf.org ical agenda//EN
BEGIN:VTIMEZONE
TZID:Asia/Singapore
X-LIC-LOCATION:Asia/Singapore
BEGIN:STANDARD
TZOFFSETFROM:+065525
TZOFFSETTO:+065525
TZNAME:SMT
DTSTART:19010101T000000
RDATE:19010101T000000
END:STANDARD
BEGIN:STANDARD
TZOFFSETFROM:+065525
TZOFFSETTO:+0700
TZNAME:MALT
DTSTART:19050601T000000
RDATE:19050601T000000
END:STANDARD
BEGIN:DAYLIGHT
TZOFFSETFROM:+0700
TZOFFSETTO:+0720
TZNAME:MALST
DTSTART:19330101T000000
RDATE:19330101T000000
END:DAYLIGHT
BEGIN:STANDARD
TZOFFSETFROM:+0720
TZOFFSETTO:+0720
TZNAME:MALT
DTSTART:19360101T000000
RDATE:19360101T000000
END:STANDARD
BEGIN:STANDARD
TZOFFSETFROM:+0720
TZOFFSETTO:+0730
TZNAME:MALT
DTSTART:19410901T000000
RDATE:19410901T000000
END:STANDARD
BEGIN:STANDARD
TZOFFSETFROM:+0730
TZOFFSETTO:+0900
TZNAME:JST
DTSTART:19420216T000000
RDATE:19420216T000000
END:STANDARD
BEGIN:STANDARD
TZOFFSETFROM:+0900
TZOFFSETTO:+0730
TZNAME:MALT
DTSTART:19450912T000000
RDATE:19450912T000000
END:STANDARD
BEGIN:STANDARD
TZOFFSETFROM:+0730
TZOFFSETTO:+0730
TZNAME:SGT
DTSTART:19650809T000000
RDATE:19650809T000000
END:STANDARD
BEGIN:STANDARD
TZOFFSETFROM:+0730
TZOFFSETTO:+0800
TZNAME:SGT
DTSTART:19820101T000000
RDATE:19820101T000000
END:STANDARD
END:VTIMEZONE
BEGIN:VEVENT
UID:ietf-100-9071-rtgwg
SUMMARY:rtgwg - Routing Area Working Group
LOCATION:Canning
STATUS:CONFIRMED
CLASS:PUBLIC
DTSTART;TZID=Asia/Singapore:20171113T093000
DTEND;TZID=Asia/Singapore:20171113T120000
DTSTAMP:20171005T141304Z
URL:https://datatracker.ietf.org/meeting/100/materials/agenda-100-rtgwg-08
DESCRIPTION:Morning Session I\n
 \n
 Meetecho: http://www.meetecho.com/ietf100/rtgwg/\n
 \n
 Agenda https://datatracker.ietf.org/meeting/100/materials/agenda-100-rtgwg-08\n
 \n
 Session materials: https://datatracker.ietf.org/meeting/100/session/rtgwg\n
 \n
 See in schedule: https://datatracker.ietf.org/meeting/100/agenda#row-100-2017-11-13-mon-0930-rtg-rtgwg\n
END:VEVENT
BEGIN:VEVENT
UID:ietf-100-9100-idr
SUMMARY:idr - Inter-Domain Routing
LOCATION:Canning
STATUS:CONFIRMED
CLASS:PUBLIC
DTSTART;TZID=Asia/Singapore:20171113T133000
DTEND;TZID=Asia/Singapore:20171113T153000
DTSTAMP:20171005T143941Z
URL:https://datatracker.ietf.org/meeting/100/materials/agenda-100-idr-03
DESCRIPTION:Afternoon Session I\n
 \n
 Meetecho: http://www.meetecho.com/ietf100/idr/\n
 \n
 Agenda https://datatracker.ietf.org/meeting/100/materials/agenda-100-idr-03\n
 \n
 Session materials: https://datatracker.ietf.org/meeting/100/session/idr\n
 \n
 See in schedule: https://datatracker.ietf.org/meeting/100/agenda#row-100-2017-11-13-mon-1330-rtg-idr\n
END:VEVENT
BEGIN:VEVENT
UID:ietf-100-9150-i2rs
SUMMARY:i2rs - Interface to the Routing System
LOCATION:VIP A
STATUS:CONFIRMED
CLASS:PUBLIC
DTSTART;TZID=Asia/Singapore:20171113T155000
DTEND;TZID=Asia/Singapore:20171113T172000
DTSTAMP:20171005T144003Z
URL:https://datatracker.ietf.org/meeting/100/materials/agenda-100-i2rs-02
DESCRIPTION:Afternoon Session II\n
 \n
 Meetecho: http://www.meetecho.com/ietf100/i2rs/\n
 \n
 Agenda https://datatracker.ietf.org/meeting/100/materials/agenda-100-i2rs-02\n
 \n
 Session materials: https://datatracker.ietf.org/meeting/100/session/i2rs\n
 \n
 See in schedule: https://datatracker.ietf.org/meeting/100/agenda#row-100-2017-11-13-mon-1550-rtg-i2rs\n
END:VEVENT
BEGIN:VEVENT
UID:ietf-100-9147-pce
SUMMARY:pce - Path Computation Element
LOCATION:Sophia
STATUS:CONFIRMED
CLASS:PUBLIC
DTSTART;TZID=Asia/Singapore:20171113T155000
DTEND;TZID=Asia/Singapore:20171113T172000
DTSTAMP:20171005T144003Z
URL:https://datatracker.ietf.org/meeting/100/materials/agenda-100-pce-02
DESCRIPTION:Afternoon Session II\n
 \n
 Meetecho: http://www.meetecho.com/ietf100/pce/\n
 \n
 Agenda https://datatracker.ietf.org/meeting/100/materials/agenda-100-pce-02\n
 \n
 Session materials: https://datatracker.ietf.org/meeting/100/session/pce\n
 \n
 See in schedule: https://datatracker.ietf.org/meeting/100/agenda#row-100-2017-11-13-mon-1550-rtg-pce\n
END:VEVENT
BEGIN:VEVENT
UID:ietf-100-9179-i2rs
SUMMARY:i2rs - Interface to the Routing System
LOCATION:VIP A
STATUS:CANCELLED
CLASS:PUBLIC
DTSTART;TZID=Asia/Singapore:20171113T174000
DTEND;TZID=Asia/Singapore:20171113T184000
DTSTAMP:20171005T144019Z
URL:https://datatracker.ietf.org/meeting/100/materials/agenda-100-i2rs-02
DESCRIPTION:Afternoon Session III\n
 \n
 Meetecho: http://www.meetecho.com/ietf100/i2rs/\n
 \n
 Agenda https://datatracker.ietf.org/meeting/100/materials/agenda-100-i2rs-02\n
 \n
 Session materials: https://datatracker.ietf.org/meeting/100/session/i2rs\n
 \n
 See in schedule: https://datatracker.ietf.org/meeting/100/agenda#row-100-2017-11-13-mon-1740-rtg-i2rs\n
END:VEVENT
BEGIN:VEVENT
UID:ietf-100-9173-pals
SUMMARY:pals - Pseudowire And LDP-enabled Services
LOCATION:Orchard
STATUS:CONFIRMED
CLASS:PUBLIC
DTSTART;TZID=Asia/Singapore:20171113T174000
DTEND;TZID=Asia/Singapore:20171113T184000
DTSTAMP:20171005T144019Z
URL:https://datatracker.ietf.org/meeting/100/materials/agenda-100-pals-01
DESCRIPTION:Afternoon Session III\n
 \n
 Meetecho: http://www.meetecho.com/ietf100/pals/\n
 \n
 Agenda https://datatracker.ietf.org/meeting/100/materials/agenda-100-pals-01\n
 \n
 Session materials: https://datatracker.ietf.org/meeting/100/session/pals\n
 \n
 See in schedule: https://datatracker.ietf.org/meeting/100/agenda#row-100-2017-11-13-mon-1740-rtg-pals\n
END:VEVENT
BEGIN:VEVENT
UID:ietf-100-9179-trill
SUMMARY:trill - Transparent Interconnection of Lots of Links
LOCATION:VIP A
STATUS:CONFIRMED
CLASS:PUBLIC
DTSTART;TZID=Asia/Singapore:20171113T174000
DTEND;TZID=Asia/Singapore:20171113T184000
DTSTAMP:20171005T144019Z
URL:https://datatracker.ietf.org/meeting/100/materials/agenda-100-trill-05
DESCRIPTION:Afternoon Session III\n
 \n
 Meetecho: http://www.meetecho.com/ietf100/trill/\n
 \n
 Agenda https://datatracker.ietf.org/meeting/100/materials/agenda-100-trill-05\n
 \n
 Session materials: https://datatracker.ietf.org/meeting/100/session/trill\n
 \n
 See in schedule: https://datatracker.ietf.org/meeting/100/agenda#row-100-2017-11-13-mon-1740-rtg-trill\n
END:VEVENT
BEGIN:VEVENT
UID:ietf-100-9208-pim
SUMMARY:pim - Protocols for IP Multicast (Joint session with MBONED)
LOCATION:VIP A
STATUS:CONFIRMED
CLASS:PUBLIC
DTSTART;TZID=Asia/Singapore:20171114T093000
DTEND;TZID=Asia/Singapore:20171114T120000
DTSTAMP:20171005T150839Z
URL:https://datatracker.ietf.org/meeting/100/materials/agenda-100-pim-01
DESCRIPTION:Morning Session I\n
 Note: Joint session with MBONED\n
 \n
 Meetecho: http://www.meetecho.com/ietf100/pim/\n
 \n
 Agenda https://datatracker.ietf.org/meeting/100/materials/agenda-100-pim-01\n
 \n
 Session materials: https://datatracker.ietf.org/meeting/100/session/pim\n
 \n
 See in schedule: https://datatracker.ietf.org/meeting/100/agenda#row-100-2017-11-14-tue-0930-rtg-pim\n
END:VEVENT
BEGIN:VEVENT
UID:ietf-100-9204-sfc
SUMMARY:sfc - Service Function Chaining
LOCATION:Padang
STATUS:CONFIRMED
CLASS:PUBLIC
DTSTART;TZID=Asia/Singapore:20171114T093000
DTEND;TZID=Asia/Singapore:20171114T120000
DTSTAMP:20171005T150839Z
URL:https://datatracker.ietf.org/meeting/100/materials/agenda-100-sfc-04
DESCRIPTION:Morning Session I\n
 \n
 Meetecho: http://www.meetecho.com/ietf100/sfc/\n
 \n
 Agenda https://datatracker.ietf.org/meeting/100/materials/agenda-100-sfc-04\n
 \n
 Session materials: https://datatracker.ietf.org/meeting/100/session/sfc\n
 \n
 See in schedule: https://datatracker.ietf.org/meeting/100/agenda#row-100-2017-11-14-tue-0930-rtg-sfc\n
END:VEVENT
BEGIN:VEVENT
UID:ietf-100-9187-teas
SUMMARY:teas - Traffic Engineering Architecture and Signaling
LOCATION:Canning
STATUS:CONFIRMED
CLASS:PUBLIC
DTSTART;TZID=Asia/Singapore:20171114T093000
DTEND;TZID=Asia/Singapore:20171114T120000
DTSTAMP:20171005T150839Z
URL:https://datatracker.ietf.org/meeting/100/materials/agenda-100-teas-05
DESCRIPTION:Morning Session I\n
 \n
 Meetecho: http://www.meetecho.com/ietf100/teas/\n
 \n
 Agenda https://datatracker.ietf.org/meeting/100/materials/agenda-100-teas-05\n
 \n
 Session materials: https://datatracker.ietf.org/meeting/100/session/teas\n
 \n
 See in schedule: https://datatracker.ietf.org/meeting/100/agenda#row-100-2017-11-14-tue-0930-rtg-teas\n
END:VEVENT
BEGIN:VEVENT
UID:ietf-100-9234-mpls
SUMMARY:mpls - Multiprotocol Label Switching
LOCATION:Sophia
STATUS:CONFIRMED
CLASS:PUBLIC
DTSTART;TZID=Asia/Singapore:20171114T133000
DTEND;TZID=Asia/Singapore:20171114T153000
DTSTAMP:20171005T150857Z
URL:https://datatracker.ietf.org/meeting/100/materials/agenda-100-mpls-10
DESCRIPTION:Afternoon Session I\n
 \n
 Meetecho: http://www.meetecho.com/ietf100/mpls/\n
 \n
 Agenda https://datatracker.ietf.org/meeting/100/materials/agenda-100-mpls-10\n
 \n
 Session materials: https://datatracker.ietf.org/meeting/100/session/mpls\n
 \n
 See in schedule: https://datatracker.ietf.org/meeting/100/agenda#row-100-2017-11-14-tue-1330-rtg-mpls\n
END:VEVENT
BEGIN:VEVENT
UID:ietf-100-9259-bier
SUMMARY:bier - Bit Indexed Explicit Replication
LOCATION:Olivia
STATUS:CONFIRMED
CLASS:PUBLIC
DTSTART;TZID=Asia/Singapore:20171114T155000
DTEND;TZID=Asia/Singapore:20171114T175000
DTSTAMP:20171005T150917Z
URL:https://datatracker.ietf.org/meeting/100/materials/agenda-100-bier-04
DESCRIPTION:Afternoon Session II\n
 \n
 Meetecho: http://www.meetecho.com/ietf100/bier/\n
 \n
 Agenda https://datatracker.ietf.org/meeting/100/materials/agenda-100-bier-04\n
 \n
 Session materials: https://datatracker.ietf.org/meeting/100/session/bier\n
 \n
 See in schedule: https://datatracker.ietf.org/meeting/100/agenda#row-100-2017-11-14-tue-1550-rtg-bier\n
END:VEVENT
BEGIN:VEVENT
UID:ietf-100-9243-ccamp
SUMMARY:ccamp - Common Control and Measurement Plane
LOCATION:Bras Basah
STATUS:CONFIRMED
CLASS:PUBLIC
DTSTART;TZID=Asia/Singapore:20171114T155000
DTEND;TZID=Asia/Singapore:20171114T175000
DTSTAMP:20171005T150917Z
URL:https://datatracker.ietf.org/meeting/100/materials/agenda-100-ccamp-03
DESCRIPTION:Afternoon Session II\n
 \n
 Meetecho: http://www.meetecho.com/ietf100/ccamp/\n
 \n
 Agenda https://datatracker.ietf.org/meeting/100/materials/agenda-100-ccamp-03\n
 \n
 Session materials: https://datatracker.ietf.org/meeting/100/session/ccamp\n
 \n
 See in schedule: https://datatracker.ietf.org/meeting/100/agenda#row-100-2017-11-14-tue-1550-rtg-ccamp\n
END:VEVENT
BEGIN:VEVENT
UID:ietf-100-9291-dcrouting
SUMMARY:dcrouting - Data Center Routing
LOCATION:Padang
STATUS:CONFIRMED
CLASS:PUBLIC
DTSTART;TZID=Asia/Singapore:20171115T093000
DTEND;TZID=Asia/Singapore:20171115T120000
DTSTAMP:20171005T150936Z
URL:https://datatracker.ietf.org/meeting/100/materials/agenda-100-dcrouting-01
DESCRIPTION:Morning Session I\n
 \n
 Meetecho: http://www.meetecho.com/ietf100/dcrouting/\n
 \n
 Agenda https://datatracker.ietf.org/meeting/100/materials/agenda-100-dcrouting-01\n
 \n
 Session materials: https://datatracker.ietf.org/meeting/100/session/dcrouting\n
 \n
 See in schedule: https://datatracker.ietf.org/meeting/100/agenda#row-100-2017-11-15-wed-0930-rtg-dcrouting\n
END:VEVENT
BEGIN:VEVENT
UID:ietf-100-9303-nvo3
SUMMARY:nvo3 - Network Virtualization Overlays
LOCATION:Canning
STATUS:CONFIRMED
CLASS:PUBLIC
DTSTART;TZID=Asia/Singapore:20171115T133000
DTEND;TZID=Asia/Singapore:20171115T150000
DTSTAMP:20171005T150958Z
URL:https://datatracker.ietf.org/meeting/100/materials/agenda-100-nvo3-04
DESCRIPTION:Afternoon Session I\n
 \n
 Meetecho: http://www.meetecho.com/ietf100/nvo3/\n
 \n
 Agenda https://datatracker.ietf.org/meeting/100/materials/agenda-100-nvo3-04\n
 \n
 Session materials: https://datatracker.ietf.org/meeting/100/session/nvo3\n
 \n
 See in schedule: https://datatracker.ietf.org/meeting/100/agenda#row-100-2017-11-15-wed-1330-rtg-nvo3\n
END:VEVENT
BEGIN:VEVENT
UID:ietf-100-9324-roll
SUMMARY:roll - Routing Over Low power and Lossy networks
LOCATION:VIP A
STATUS:CONFIRMED
CLASS:PUBLIC
DTSTART;TZID=Asia/Singapore:20171115T133000
DTEND;TZID=Asia/Singapore:20171115T150000
DTSTAMP:20171005T150958Z
URL:https://datatracker.ietf.org/meeting/100/materials/agenda-100-roll-01
DESCRIPTION:Afternoon Session I\n
 \n
 Meetecho: http://www.meetecho.com/ietf100/roll/\n
 \n
 Agenda https://datatracker.ietf.org/meeting/100/materials/agenda-100-roll-01\n
 \n
 Session materials: https://datatracker.ietf.org/meeting/100/session/roll\n
 \n
 See in schedule: https://datatracker.ietf.org/meeting/100/agenda#row-100-2017-11-15-wed-1330-rtg-roll\n
END:VEVENT
BEGIN:VEVENT
UID:ietf-100-9346-spring
SUMMARY:spring - Source Packet Routing in Networking
LOCATION:Olivia
STATUS:CONFIRMED
CLASS:PUBLIC
DTSTART;TZID=Asia/Singapore:20171115T152000
DTEND;TZID=Asia/Singapore:20171115T165000
DTSTAMP:20171005T151015Z
URL:https://datatracker.ietf.org/meeting/100/materials/agenda-100-spring-01
DESCRIPTION:Afternoon Session II\n
 \n
 Meetecho: http://www.meetecho.com/ietf100/spring/\n
 \n
 Agenda https://datatracker.ietf.org/meeting/100/materials/agenda-100-spring-01\n
 \n
 Session materials: https://datatracker.ietf.org/meeting/100/session/spring\n
 \n
 See in schedule: https://datatracker.ietf.org/meeting/100/agenda#row-100-2017-11-15-wed-1520-rtg-spring\n
END:VEVENT
BEGIN:VEVENT
UID:ietf-100-9379-detnet
SUMMARY:detnet - Deterministic Networking
LOCATION:Sophia
STATUS:CONFIRMED
CLASS:PUBLIC
DTSTART;TZID=Asia/Singapore:20171116T093000
DTEND;TZID=Asia/Singapore:20171116T120000
DTSTAMP:20171005T151036Z
URL:https://datatracker.ietf.org/meeting/100/materials/agenda-100-detnet-01
DESCRIPTION:Morning Session I\n
 \n
 Meetecho: http://www.meetecho.com/ietf100/detnet/\n
 \n
 Agenda https://datatracker.ietf.org/meeting/100/materials/agenda-100-detnet-01\n
 \n
 Session materials: https://datatracker.ietf.org/meeting/100/session/detnet\n
 \n
 See in schedule: https://datatracker.ietf.org/meeting/100/agenda#row-100-2017-11-16-thu-0930-rtg-detnet\n
END:VEVENT
BEGIN:VEVENT
UID:ietf-100-9359-isis
SUMMARY:isis - IS-IS for IP Internets (Joint session with OSPF)
LOCATION:Bras Basah
STATUS:CONFIRMED
CLASS:PUBLIC
DTSTART;TZID=Asia/Singapore:20171116T093000
DTEND;TZID=Asia/Singapore:20171116T120000
DTSTAMP:20171005T151036Z
URL:https://datatracker.ietf.org/meeting/100/materials/agenda-100-isis-00
DESCRIPTION:Morning Session I\n
 Note: Joint session with OSPF\n
 \n
 Meetecho: http://www.meetecho.com/ietf100/isis/\n
 \n
 Agenda https://datatracker.ietf.org/meeting/100/materials/agenda-100-isis-00\n
 \n
 Session materials: https://datatracker.ietf.org/meeting/100/session/isis\n
 \n
 See in schedule: https://datatracker.ietf.org/meeting/100/agenda#row-100-2017-11-16-thu-0930-rtg-isis\n
END:VEVENT
BEGIN:VEVENT
UID:ietf-100-9359-ospf
SUMMARY:ospf - Open Shortest Path First IGP (Joint session with ISIS)
LOCATION:Bras Basah
STATUS:CONFIRMED
CLASS:PUBLIC
DTSTART;TZID=Asia/Singapore:20171116T093000
DTEND;TZID=Asia/Singapore:20171116T120000
DTSTAMP:20171005T151036Z
URL:https://datatracker.ietf.org/meeting/100/materials/agenda-100-ospf-01
DESCRIPTION:Morning Session I\n
 Note: Joint session with ISIS\n
 \n
 Meetecho: http://www.meetecho.com/ietf100/ospf/\n
 \n
 Agenda https://datatracker.ietf.org/meeting/100/materials/agenda-100-ospf-01\n
 \n
 Session materials: https://datatracker.ietf.org/meeting/100/session/ospf\n
 \n
 See in schedule: https://datatracker.ietf.org/meeting/100/agenda#row-100-2017-11-16-thu-0930-rtg-ospf\n
END:VEVENT
BEGIN:VEVENT
UID:ietf-100-9390-rtgwg
SUMMARY:rtgwg - Routing Area Working Group
LOCATION:Canning
STATUS:CONFIRMED
CLASS:PUBLIC
DTSTART;TZID=Asia/Singapore:20171116T133000
DTEND;TZID=Asia/Singapore:20171116T153000
DTSTAMP:20171005T151117Z
URL:https://datatracker.ietf.org/meeting/100/materials/agenda-100-rtgwg-08
DESCRIPTION:Afternoon Session I\n
 \n
 Meetecho: http://www.meetecho.com/ietf100/rtgwg/\n
 \n
 Agenda https://datatracker.ietf.org/meeting/100/materials/agenda-100-rtgwg-08\n
 \n
 Session materials: https://datatracker.ietf.org/meeting/100/session/rtgwg\n
 \n
 See in schedule: https://datatracker.ietf.org/meeting/100/agenda#row-100-2017-11-16-thu-1330-rtg-rtgwg\n
END:VEVENT
BEGIN:VEVENT
UID:ietf-100-9419-rtgarea
SUMMARY:rtgarea - Routing Area Open Meeting
LOCATION:Canning
STATUS:CONFIRMED
CLASS:PUBLIC
DTSTART;TZID=Asia/Singapore:20171116T155000
DTEND;TZID=Asia/Singapore:20171116T175000
DTSTAMP:20171005T151155Z
URL:https://datatracker.ietf.org/meeting/100/materials/agenda-100-rtgarea-02
DESCRIPTION:Afternoon Session II\n
 \n
 Meetecho: http://www.meetecho.com/ietf100/rtgarea/\n
 \n
 Agenda https://datatracker.ietf.org/meeting/100/materials/agenda-100-rtgarea-02\n
 \n
 Session materials: https://datatracker.ietf.org/meeting/100/session/rtgarea\n
 \n
 See in schedule: https://datatracker.ietf.org/meeting/100/agenda#row-100-2017-11-16-thu-1550-rtg-rtgarea\n
END:VEVENT
BEGIN:VEVENT
UID:ietf-100-9446-babel
SUMMARY:babel - Babel routing protocol (Moved from Friday 09:30)
LOCATION:Bras Basah
STATUS:CONFIRMED
CLASS:PUBLIC
DTSTART;TZID=Asia/Singapore:20171116T181000
DTEND;TZID=Asia/Singapore:20171116T191000
DTSTAMP:20171005T151206Z
URL:https://datatracker.ietf.org/meeting/100/materials/agenda-100-babel-05
DESCRIPTION:Afternoon Session III\n
 Note: Moved from Friday 09:30\n
 \n
 Meetecho: http://www.meetecho.com/ietf100/babel/\n
 \n
 Agenda https://datatracker.ietf.org/meeting/100/materials/agenda-100-babel-05\n
 \n
 Session materials: https://datatracker.ietf.org/meeting/100/session/babel\n
 \n
 See in schedule: https://datatracker.ietf.org/meeting/100/agenda#row-100-2017-11-16-thu-1810-rtg-babel\n
END:VEVENT
BEGIN:VEVENT
UID:ietf-100-9463-manet
SUMMARY:manet - Mobile Ad-hoc Networks
LOCATION:Orchard
STATUS:CONFIRMED
CLASS:PUBLIC
DTSTART;TZID=Asia/Singapore:20171116T181000
DTEND;TZID=Asia/Singapore:20171116T191000
DTSTAMP:20171005T151206Z
URL:https://datatracker.ietf.org/meeting/100/materials/agenda-100-manet-03
DESCRIPTION:Afternoon Session III\n
 \n
 Meetecho: http://www.meetecho.com/ietf100/manet/\n
 \n
 Agenda https://datatracker.ietf.org/meeting/100/materials/agenda-100-manet-03\n
 \n
 Session materials: https://datatracker.ietf.org/meeting/100/session/manet\n
 \n
 See in schedule: https://datatracker.ietf.org/meeting/100/agenda#row-100-2017-11-16-thu-1810-rtg-manet\n
END:VEVENT
BEGIN:VEVENT
UID:ietf-100-9495-bess
SUMMARY:bess - BGP Enabled ServiceS
LOCATION:Sophia
STATUS:CONFIRMED
CLASS:PUBLIC
DTSTART;TZID=Asia/Singapore:20171117T093000
DTEND;TZID=Asia/Singapore:20171117T113000
DTSTAMP:20171005T151228Z
URL:https://datatracker.ietf.org/meeting/100/materials/agenda-100-bess-01
DESCRIPTION:Morning Session I\n
 \n
 Meetecho: http://www.meetecho.com/ietf100/bess/\n
 \n
 Agenda https://datatracker.ietf.org/meeting/100/materials/agenda-100-bess-01\n
 \n
 Session materials: https://datatracker.ietf.org/meeting/100/session/bess\n
 \n
 See in schedule: https://datatracker.ietf.org/meeting/100/agenda#row-100-2017-11-17-fri-0930-rtg-bess\n
END:VEVENT
BEGIN:VEVENT
UID:ietf-100-9491-lisp
SUMMARY:lisp - Locator/ID Separation Protocol
LOCATION:Olivia
STATUS:CONFIRMED
CLASS:PUBLIC
DTSTART;TZID=Asia/Singapore:20171117T093000
DTEND;TZID=Asia/Singapore:20171117T113000
DTSTAMP:20171005T151228Z
URL:https://datatracker.ietf.org/meeting/100/materials/agenda-100-lisp-03
DESCRIPTION:Morning Session I\n
 \n
 Meetecho: http://www.meetecho.com/ietf100/lisp/\n
 \n
 Agenda https://datatracker.ietf.org/meeting/100/materials/agenda-100-lisp-03\n
 \n
 Session materials: https://datatracker.ietf.org/meeting/100/session/lisp\n
 \n
 See in schedule: https://datatracker.ietf.org/meeting/100/agenda#row-100-2017-11-17-fri-0930-rtg-lisp\n
END:VEVENT
END:VCALENDAR
