BEGIN:VCALENDAR
VERSION:2.0
METHOD:PUBLISH
PRODID:-//IETF//datatracker.ietf.org ical agenda//EN
BEGIN:VTIMEZONE
TZID:Asia/Singapore
X-LIC-LOCATION:Asia/Singapore
BEGIN:STANDARD
TZOFFSETFROM:+065525
TZOFFSETTO:+065525
TZNAME:SMT
DTSTART:19010101T000000
RDATE:19010101T000000
END:STANDARD
BEGIN:STANDARD
TZOFFSETFROM:+065525
TZOFFSETTO:+0700
TZNAME:MALT
DTSTART:19050601T000000
RDATE:19050601T000000
END:STANDARD
BEGIN:DAYLIGHT
TZOFFSETFROM:+0700
TZOFFSETTO:+0720
TZNAME:MALST
DTSTART:19330101T000000
RDATE:19330101T000000
END:DAYLIGHT
BEGIN:STANDARD
TZOFFSETFROM:+0720
TZOFFSETTO:+0720
TZNAME:MALT
DTSTART:19360101T000000
RDATE:19360101T000000
END:STANDARD
BEGIN:STANDARD
TZOFFSETFROM:+0720
TZOFFSETTO:+0730
TZNAME:MALT
DTSTART:19410901T000000
RDATE:19410901T000000
END:STANDARD
BEGIN:STANDARD
TZOFFSETFROM:+0730
TZOFFSETTO:+0900
TZNAME:JST
DTSTART:19420216T000000
RDATE:19420216T000000
END:STANDARD
BEGIN:STANDARD
TZOFFSETFROM:+0900
TZOFFSETTO:+0730
TZNAME:MALT
DTSTART:19450912T000000
RDATE:19450912T000000
END:STANDARD
BEGIN:STANDARD
TZOFFSETFROM:+0730
TZOFFSETTO:+0730
TZNAME:SGT
DTSTART:19650809T000000
RDATE:19650809T000000
END:STANDARD
BEGIN:STANDARD
TZOFFSETFROM:+0730
TZOFFSETTO:+0800
TZNAME:SGT
DTSTART:19820101T000000
RDATE:19820101T000000
END:STANDARD
END:VTIMEZONE
BEGIN:VEVENT
UID:ietf-100-9086-ipsecme
SUMMARY:ipsecme - IP Security Maintenance and Extensions (0930-1100)
LOCATION:Orchard
STATUS:CONFIRMED
CLASS:PUBLIC
DTSTART;TZID=Asia/Singapore:20171113T093000
DTEND;TZID=Asia/Singapore:20171113T120000
DTSTAMP:20171005T141304Z
URL:https://datatracker.ietf.org/meeting/100/materials/agenda-100-ipsecme-00
DESCRIPTION:Morning Session I\n
 Note: 0930-1100\n
 \n
 Meetecho: http://www.meetecho.com/ietf100/ipsecme/\n
 \n
 Agenda https://datatracker.ietf.org/meeting/100/materials/agenda-100-ipsecme-00\n
 \n
 Session materials: https://datatracker.ietf.org/meeting/100/session/ipsecme\n
 \n
 See in schedule: https://datatracker.ietf.org/meeting/100/agenda#row-100-2017-11-13-mon-0930-sec-ipsecme\n
END:VEVENT
BEGIN:VEVENT
UID:ietf-100-9086-lamps
SUMMARY:lamps - Limited Additional Mechanisms for PKIX and SMIME (1100-1200)
LOCATION:Orchard
STATUS:CONFIRMED
CLASS:PUBLIC
DTSTART;TZID=Asia/Singapore:20171113T093000
DTEND;TZID=Asia/Singapore:20171113T120000
DTSTAMP:20171005T141304Z
URL:https://datatracker.ietf.org/meeting/100/materials/agenda-100-lamps-00
DESCRIPTION:Morning Session I\n
 Note: 1100-1200\n
 \n
 Meetecho: http://www.meetecho.com/ietf100/lamps/\n
 \n
 Agenda https://datatracker.ietf.org/meeting/100/materials/agenda-100-lamps-00\n
 \n
 Session materials: https://datatracker.ietf.org/meeting/100/session/lamps\n
 \n
 See in schedule: https://datatracker.ietf.org/meeting/100/agenda#row-100-2017-11-13-mon-0930-sec-lamps\n
END:VEVENT
BEGIN:VEVENT
UID:ietf-100-9098-secevent
SUMMARY:secevent - Security Events
LOCATION:Bras Basah
STATUS:CONFIRMED
CLASS:PUBLIC
DTSTART;TZID=Asia/Singapore:20171113T133000
DTEND;TZID=Asia/Singapore:20171113T153000
DTSTAMP:20171005T143941Z
URL:https://datatracker.ietf.org/meeting/100/materials/agenda-100-secevent-00
DESCRIPTION:Afternoon Session I\n
 \n
 Meetecho: http://www.meetecho.com/ietf100/secevent/\n
 \n
 Agenda https://datatracker.ietf.org/meeting/100/materials/agenda-100-secevent-00\n
 \n
 Session materials: https://datatracker.ietf.org/meeting/100/session/secevent\n
 \n
 See in schedule: https://datatracker.ietf.org/meeting/100/agenda#row-100-2017-11-13-mon-1330-sec-secevent\n
END:VEVENT
BEGIN:VEVENT
UID:ietf-100-9129-suit
SUMMARY:suit - Software Updates for Internet of Things
LOCATION:Canning
STATUS:CONFIRMED
CLASS:PUBLIC
DTSTART;TZID=Asia/Singapore:20171113T155000
DTEND;TZID=Asia/Singapore:20171113T172000
DTSTAMP:20171005T144003Z
URL:https://datatracker.ietf.org/meeting/100/materials/agenda-100-suit-01
DESCRIPTION:Afternoon Session II\n
 \n
 Meetecho: http://www.meetecho.com/ietf100/suit/\n
 \n
 Agenda https://datatracker.ietf.org/meeting/100/materials/agenda-100-suit-01\n
 \n
 Session materials: https://datatracker.ietf.org/meeting/100/session/suit\n
 \n
 See in schedule: https://datatracker.ietf.org/meeting/100/agenda#row-100-2017-11-13-mon-1550-sec-suit\n
END:VEVENT
BEGIN:VEVENT
UID:ietf-100-9144-trans
SUMMARY:trans - Public Notary Transparency
LOCATION:Orchard
STATUS:CONFIRMED
CLASS:PUBLIC
DTSTART;TZID=Asia/Singapore:20171113T155000
DTEND;TZID=Asia/Singapore:20171113T172000
DTSTAMP:20171005T144003Z
URL:https://datatracker.ietf.org/meeting/100/materials/agenda-100-trans-02
DESCRIPTION:Afternoon Session II\n
 \n
 Meetecho: http://www.meetecho.com/ietf100/trans/\n
 \n
 Agenda https://datatracker.ietf.org/meeting/100/materials/agenda-100-trans-02\n
 \n
 Session materials: https://datatracker.ietf.org/meeting/100/session/trans\n
 \n
 See in schedule: https://datatracker.ietf.org/meeting/100/agenda#row-100-2017-11-13-mon-1550-sec-trans\n
END:VEVENT
BEGIN:VEVENT
UID:ietf-100-9175-tls
SUMMARY:tls - Transport Layer Security
LOCATION:Padang
STATUS:CANCELLED
CLASS:PUBLIC
DTSTART;TZID=Asia/Singapore:20171113T174000
DTEND;TZID=Asia/Singapore:20171113T184000
DTSTAMP:20171005T144019Z
DESCRIPTION:Afternoon Session III\n
 \n
 Meetecho: http://www.meetecho.com/ietf100/tls/\n
 \n
 Session materials: https://datatracker.ietf.org/meeting/100/session/tls\n
 \n
 See in schedule: https://datatracker.ietf.org/meeting/100/agenda#row-100-2017-11-13-mon-1740-sec-tls\n
END:VEVENT
BEGIN:VEVENT
UID:ietf-100-9190-ace
SUMMARY:ace - Authentication and Authorization for Constrained Environments
LOCATION:Collyer
STATUS:CONFIRMED
CLASS:PUBLIC
DTSTART;TZID=Asia/Singapore:20171114T093000
DTEND;TZID=Asia/Singapore:20171114T120000
DTSTAMP:20171005T150839Z
URL:https://datatracker.ietf.org/meeting/100/materials/agenda-100-ace-01
DESCRIPTION:Morning Session I\n
 \n
 Meetecho: http://www.meetecho.com/ietf100/ace/\n
 \n
 Agenda https://datatracker.ietf.org/meeting/100/materials/agenda-100-ace-01\n
 \n
 Session materials: https://datatracker.ietf.org/meeting/100/session/ace\n
 \n
 See in schedule: https://datatracker.ietf.org/meeting/100/agenda#row-100-2017-11-14-tue-0930-sec-ace\n
END:VEVENT
BEGIN:VEVENT
UID:ietf-100-9230-dots
SUMMARY:dots - DDoS Open Threat Signaling
LOCATION:Olivia
STATUS:CONFIRMED
CLASS:PUBLIC
DTSTART;TZID=Asia/Singapore:20171114T133000
DTEND;TZID=Asia/Singapore:20171114T153000
DTSTAMP:20171005T150857Z
URL:https://datatracker.ietf.org/meeting/100/materials/agenda-100-dots-06
DESCRIPTION:Afternoon Session I\n
 \n
 Meetecho: http://www.meetecho.com/ietf100/dots/\n
 \n
 Agenda https://datatracker.ietf.org/meeting/100/materials/agenda-100-dots-06\n
 \n
 Session materials: https://datatracker.ietf.org/meeting/100/session/dots\n
 \n
 See in schedule: https://datatracker.ietf.org/meeting/100/agenda#row-100-2017-11-14-tue-1330-sec-dots\n
END:VEVENT
BEGIN:VEVENT
UID:ietf-100-9237-tokbind
SUMMARY:tokbind - Token Binding
LOCATION:VIP A
STATUS:CONFIRMED
CLASS:PUBLIC
DTSTART;TZID=Asia/Singapore:20171114T133000
DTEND;TZID=Asia/Singapore:20171114T153000
DTSTAMP:20171005T150857Z
URL:https://datatracker.ietf.org/meeting/100/materials/agenda-100-tokbind-00
DESCRIPTION:Afternoon Session I\n
 \n
 Meetecho: http://www.meetecho.com/ietf100/tokbind/\n
 \n
 Agenda https://datatracker.ietf.org/meeting/100/materials/agenda-100-tokbind-00\n
 \n
 Session materials: https://datatracker.ietf.org/meeting/100/session/tokbind\n
 \n
 See in schedule: https://datatracker.ietf.org/meeting/100/agenda#row-100-2017-11-14-tue-1330-sec-tokbind\n
END:VEVENT
BEGIN:VEVENT
UID:ietf-100-9266-i2nsf
SUMMARY:i2nsf - Interface to Network Security Functions
LOCATION:VIP A
STATUS:CONFIRMED
CLASS:PUBLIC
DTSTART;TZID=Asia/Singapore:20171114T155000
DTEND;TZID=Asia/Singapore:20171114T175000
DTSTAMP:20171005T150917Z
URL:https://datatracker.ietf.org/meeting/100/materials/agenda-100-i2nsf-01
DESCRIPTION:Afternoon Session II\n
 \n
 Meetecho: http://www.meetecho.com/ietf100/i2nsf/\n
 \n
 Agenda https://datatracker.ietf.org/meeting/100/materials/agenda-100-i2nsf-01\n
 \n
 Session materials: https://datatracker.ietf.org/meeting/100/session/i2nsf\n
 \n
 See in schedule: https://datatracker.ietf.org/meeting/100/agenda#row-100-2017-11-14-tue-1550-sec-i2nsf\n
END:VEVENT
BEGIN:VEVENT
UID:ietf-100-9263-oauth
SUMMARY:oauth - Web Authorization Protocol
LOCATION:Sophia
STATUS:CONFIRMED
CLASS:PUBLIC
DTSTART;TZID=Asia/Singapore:20171114T155000
DTEND;TZID=Asia/Singapore:20171114T175000
DTSTAMP:20171005T150917Z
URL:https://datatracker.ietf.org/meeting/100/materials/agenda-100-oauth-01
DESCRIPTION:Afternoon Session II\n
 \n
 Meetecho: http://www.meetecho.com/ietf100/oauth/\n
 \n
 Agenda https://datatracker.ietf.org/meeting/100/materials/agenda-100-oauth-01\n
 \n
 Session materials: https://datatracker.ietf.org/meeting/100/session/oauth\n
 \n
 See in schedule: https://datatracker.ietf.org/meeting/100/agenda#row-100-2017-11-14-tue-1550-sec-oauth\n
END:VEVENT
BEGIN:VEVENT
UID:ietf-100-9292-sacm
SUMMARY:sacm - Security Automation and Continuous Monitoring
LOCATION:Sophia
STATUS:CONFIRMED
CLASS:PUBLIC
DTSTART;TZID=Asia/Singapore:20171115T093000
DTEND;TZID=Asia/Singapore:20171115T120000
DTSTAMP:20171005T150936Z
URL:https://datatracker.ietf.org/meeting/100/materials/agenda-100-sacm-02
DESCRIPTION:Morning Session I\n
 \n
 Meetecho: http://www.meetecho.com/ietf100/sacm/\n
 \n
 Agenda https://datatracker.ietf.org/meeting/100/materials/agenda-100-sacm-02\n
 \n
 Session materials: https://datatracker.ietf.org/meeting/100/session/sacm\n
 \n
 See in schedule: https://datatracker.ietf.org/meeting/100/agenda#row-100-2017-11-15-wed-0930-sec-sacm\n
END:VEVENT
BEGIN:VEVENT
UID:ietf-100-9306-teep
SUMMARY:teep - Trusted Execution Environment Provisioning
LOCATION:Collyer
STATUS:CONFIRMED
CLASS:PUBLIC
DTSTART;TZID=Asia/Singapore:20171115T133000
DTEND;TZID=Asia/Singapore:20171115T150000
DTSTAMP:20171005T150958Z
URL:https://datatracker.ietf.org/meeting/100/materials/agenda-100-teep-01
DESCRIPTION:Afternoon Session I\n
 \n
 Meetecho: http://www.meetecho.com/ietf100/teep/\n
 \n
 Agenda https://datatracker.ietf.org/meeting/100/materials/agenda-100-teep-01\n
 \n
 Session materials: https://datatracker.ietf.org/meeting/100/session/teep\n
 \n
 See in schedule: https://datatracker.ietf.org/meeting/100/agenda#row-100-2017-11-15-wed-1330-sec-teep\n
END:VEVENT
BEGIN:VEVENT
UID:ietf-100-9347-oauth
SUMMARY:oauth - Web Authorization Protocol
LOCATION:Orchard
STATUS:CONFIRMED
CLASS:PUBLIC
DTSTART;TZID=Asia/Singapore:20171115T152000
DTEND;TZID=Asia/Singapore:20171115T165000
DTSTAMP:20171005T151015Z
URL:https://datatracker.ietf.org/meeting/100/materials/agenda-100-oauth-01
DESCRIPTION:Afternoon Session II\n
 \n
 Meetecho: http://www.meetecho.com/ietf100/oauth/\n
 \n
 Agenda https://datatracker.ietf.org/meeting/100/materials/agenda-100-oauth-01\n
 \n
 Session materials: https://datatracker.ietf.org/meeting/100/session/oauth\n
 \n
 See in schedule: https://datatracker.ietf.org/meeting/100/agenda#row-100-2017-11-15-wed-1520-sec-oauth\n
END:VEVENT
BEGIN:VEVENT
UID:ietf-100-9361-tls
SUMMARY:tls - Transport Layer Security
LOCATION:Canning
STATUS:CONFIRMED
CLASS:PUBLIC
DTSTART;TZID=Asia/Singapore:20171116T093000
DTEND;TZID=Asia/Singapore:20171116T120000
DTSTAMP:20171005T151036Z
URL:https://datatracker.ietf.org/meeting/100/materials/agenda-100-tls-sessa-00
DESCRIPTION:Morning Session I\n
 \n
 Meetecho: http://www.meetecho.com/ietf100/tls/\n
 \n
 Agenda https://datatracker.ietf.org/meeting/100/materials/agenda-100-tls-sessa-00\n
 \n
 Session materials: https://datatracker.ietf.org/meeting/100/session/tls\n
 \n
 See in schedule: https://datatracker.ietf.org/meeting/100/agenda#row-100-2017-11-16-thu-0930-sec-tls\n
END:VEVENT
BEGIN:VEVENT
UID:ietf-100-9407-saag
SUMMARY:saag - Security Area Open Meeting
LOCATION:Padang
STATUS:CONFIRMED
CLASS:PUBLIC
DTSTART;TZID=Asia/Singapore:20171116T133000
DTEND;TZID=Asia/Singapore:20171116T153000
DTSTAMP:20171005T151117Z
URL:https://datatracker.ietf.org/meeting/100/materials/agenda-100-saag-04
DESCRIPTION:Afternoon Session I\n
 \n
 Meetecho: http://www.meetecho.com/ietf100/saag/\n
 \n
 Agenda https://datatracker.ietf.org/meeting/100/materials/agenda-100-saag-04\n
 \n
 Session materials: https://datatracker.ietf.org/meeting/100/session/saag\n
 \n
 See in schedule: https://datatracker.ietf.org/meeting/100/agenda#row-100-2017-11-16-thu-1330-sec-saag\n
END:VEVENT
BEGIN:VEVENT
UID:ietf-100-9437-acme
SUMMARY:acme - Automated Certificate Management Environment
LOCATION:Sophia
STATUS:CONFIRMED
CLASS:PUBLIC
DTSTART;TZID=Asia/Singapore:20171116T155000
DTEND;TZID=Asia/Singapore:20171116T175000
DTSTAMP:20171005T151155Z
URL:https://datatracker.ietf.org/meeting/100/materials/agenda-100-acme-02
DESCRIPTION:Afternoon Session II\n
 \n
 Meetecho: http://www.meetecho.com/ietf100/acme/\n
 \n
 Agenda https://datatracker.ietf.org/meeting/100/materials/agenda-100-acme-02\n
 \n
 Session materials: https://datatracker.ietf.org/meeting/100/session/acme\n
 \n
 See in schedule: https://datatracker.ietf.org/meeting/100/agenda#row-100-2017-11-16-thu-1550-sec-acme\n
END:VEVENT
BEGIN:VEVENT
UID:ietf-100-9469-curdle
SUMMARY:curdle - CURves, Deprecating and a Little more Encryption
LOCATION:VIP A
STATUS:CANCELLED
CLASS:PUBLIC
DTSTART;TZID=Asia/Singapore:20171116T181000
DTEND;TZID=Asia/Singapore:20171116T191000
DTSTAMP:20171005T151206Z
DESCRIPTION:Afternoon Session III\n
 \n
 Meetecho: http://www.meetecho.com/ietf100/curdle/\n
 \n
 Session materials: https://datatracker.ietf.org/meeting/100/session/curdle\n
 \n
 See in schedule: https://datatracker.ietf.org/meeting/100/agenda#row-100-2017-11-16-thu-1810-sec-curdle\n
END:VEVENT
BEGIN:VEVENT
UID:ietf-100-9462-mile
SUMMARY:mile - Managed Incident Lightweight Exchange
LOCATION:Olivia
STATUS:CONFIRMED
CLASS:PUBLIC
DTSTART;TZID=Asia/Singapore:20171116T181000
DTEND;TZID=Asia/Singapore:20171116T191000
DTSTAMP:20171005T151206Z
URL:https://datatracker.ietf.org/meeting/100/materials/agenda-100-mile-04
DESCRIPTION:Afternoon Session III\n
 \n
 Meetecho: http://www.meetecho.com/ietf100/mile/\n
 \n
 Agenda https://datatracker.ietf.org/meeting/100/materials/agenda-100-mile-04\n
 \n
 Session materials: https://datatracker.ietf.org/meeting/100/session/mile\n
 \n
 See in schedule: https://datatracker.ietf.org/meeting/100/agenda#row-100-2017-11-16-thu-1810-sec-mile\n
END:VEVENT
END:VCALENDAR
