BEGIN:VCALENDAR
VERSION:2.0
METHOD:PUBLISH
PRODID:-//IETF//datatracker.ietf.org ical agenda//EN
BEGIN:VTIMEZONE
TZID:Asia/Singapore
X-LIC-LOCATION:Asia/Singapore
BEGIN:STANDARD
TZOFFSETFROM:+065525
TZOFFSETTO:+065525
TZNAME:SMT
DTSTART:19010101T000000
RDATE:19010101T000000
END:STANDARD
BEGIN:STANDARD
TZOFFSETFROM:+065525
TZOFFSETTO:+0700
TZNAME:MALT
DTSTART:19050601T000000
RDATE:19050601T000000
END:STANDARD
BEGIN:DAYLIGHT
TZOFFSETFROM:+0700
TZOFFSETTO:+0720
TZNAME:MALST
DTSTART:19330101T000000
RDATE:19330101T000000
END:DAYLIGHT
BEGIN:STANDARD
TZOFFSETFROM:+0720
TZOFFSETTO:+0720
TZNAME:MALT
DTSTART:19360101T000000
RDATE:19360101T000000
END:STANDARD
BEGIN:STANDARD
TZOFFSETFROM:+0720
TZOFFSETTO:+0730
TZNAME:MALT
DTSTART:19410901T000000
RDATE:19410901T000000
END:STANDARD
BEGIN:STANDARD
TZOFFSETFROM:+0730
TZOFFSETTO:+0900
TZNAME:JST
DTSTART:19420216T000000
RDATE:19420216T000000
END:STANDARD
BEGIN:STANDARD
TZOFFSETFROM:+0900
TZOFFSETTO:+0730
TZNAME:MALT
DTSTART:19450912T000000
RDATE:19450912T000000
END:STANDARD
BEGIN:STANDARD
TZOFFSETFROM:+0730
TZOFFSETTO:+0730
TZNAME:SGT
DTSTART:19650809T000000
RDATE:19650809T000000
END:STANDARD
BEGIN:STANDARD
TZOFFSETFROM:+0730
TZOFFSETTO:+0800
TZNAME:SGT
DTSTART:19820101T000000
RDATE:19820101T000000
END:STANDARD
END:VTIMEZONE
BEGIN:VEVENT
UID:ietf-100-9069-ippm
SUMMARY:ippm - IP Performance Measurement
LOCATION:Bras Basah
STATUS:CONFIRMED
CLASS:PUBLIC
DTSTART;TZID=Asia/Singapore:20171113T093000
DTEND;TZID=Asia/Singapore:20171113T120000
DTSTAMP:20171005T141304Z
URL:https://datatracker.ietf.org/meeting/100/materials/agenda-100-ippm-06
DESCRIPTION:Morning Session I\n
 \n
 Meetecho: http://www.meetecho.com/ietf100/ippm/\n
 \n
 Agenda https://datatracker.ietf.org/meeting/100/materials/agenda-100-ippm-06\n
 \n
 Session materials: https://datatracker.ietf.org/meeting/100/session/ippm\n
 \n
 See in schedule: https://datatracker.ietf.org/meeting/100/agenda#row-100-2017-11-13-mon-0930-tsv-ippm\n
END:VEVENT
BEGIN:VEVENT
UID:ietf-100-9158-tsvwg
SUMMARY:tsvwg - Transport Area Working Group
LOCATION:Canning
STATUS:CONFIRMED
CLASS:PUBLIC
DTSTART;TZID=Asia/Singapore:20171113T174000
DTEND;TZID=Asia/Singapore:20171113T184000
DTSTAMP:20171005T144019Z
URL:https://datatracker.ietf.org/meeting/100/materials/agenda-100-tsvwg-07
DESCRIPTION:Afternoon Session III\n
 \n
 Meetecho: http://www.meetecho.com/ietf100/tsvwg/\n
 \n
 Agenda https://datatracker.ietf.org/meeting/100/materials/agenda-100-tsvwg-07\n
 \n
 Session materials: https://datatracker.ietf.org/meeting/100/session/tsvwg\n
 \n
 See in schedule: https://datatracker.ietf.org/meeting/100/agenda#row-100-2017-11-13-mon-1740-tsv-tsvwg\n
END:VEVENT
BEGIN:VEVENT
UID:ietf-100-9201-taps
SUMMARY:taps - Transport Services
LOCATION:Olivia
STATUS:CONFIRMED
CLASS:PUBLIC
DTSTART;TZID=Asia/Singapore:20171114T093000
DTEND;TZID=Asia/Singapore:20171114T120000
DTSTAMP:20171005T150839Z
URL:https://datatracker.ietf.org/meeting/100/materials/agenda-100-taps-01
DESCRIPTION:Morning Session I\n
 \n
 Meetecho: http://www.meetecho.com/ietf100/taps/\n
 \n
 Agenda https://datatracker.ietf.org/meeting/100/materials/agenda-100-taps-01\n
 \n
 Session materials: https://datatracker.ietf.org/meeting/100/session/taps\n
 \n
 See in schedule: https://datatracker.ietf.org/meeting/100/agenda#row-100-2017-11-14-tue-0930-tsv-taps\n
END:VEVENT
BEGIN:VEVENT
UID:ietf-100-9233-quic
SUMMARY:quic - QUIC
LOCATION:Padang
STATUS:CONFIRMED
CLASS:PUBLIC
DTSTART;TZID=Asia/Singapore:20171114T133000
DTEND;TZID=Asia/Singapore:20171114T153000
DTSTAMP:20171005T150857Z
URL:https://datatracker.ietf.org/meeting/100/materials/agenda-100-quic-02
DESCRIPTION:Afternoon Session I\n
 \n
 Meetecho: http://www.meetecho.com/ietf100/quic/\n
 \n
 Agenda https://datatracker.ietf.org/meeting/100/materials/agenda-100-quic-02\n
 \n
 Session materials: https://datatracker.ietf.org/meeting/100/session/quic\n
 \n
 See in schedule: https://datatracker.ietf.org/meeting/100/agenda#row-100-2017-11-14-tue-1330-tsv-quic\n
END:VEVENT
BEGIN:VEVENT
UID:ietf-100-9248-mptcp
SUMMARY:mptcp - Multipath TCP
LOCATION:Collyer
STATUS:CONFIRMED
CLASS:PUBLIC
DTSTART;TZID=Asia/Singapore:20171114T155000
DTEND;TZID=Asia/Singapore:20171114T175000
DTSTAMP:20171005T150917Z
URL:https://datatracker.ietf.org/meeting/100/materials/agenda-100-mptcp-00
DESCRIPTION:Afternoon Session II\n
 \n
 Meetecho: http://www.meetecho.com/ietf100/mptcp/\n
 \n
 Agenda https://datatracker.ietf.org/meeting/100/materials/agenda-100-mptcp-00\n
 \n
 Session materials: https://datatracker.ietf.org/meeting/100/session/mptcp\n
 \n
 See in schedule: https://datatracker.ietf.org/meeting/100/agenda#row-100-2017-11-14-tue-1550-tsv-mptcp\n
END:VEVENT
BEGIN:VEVENT
UID:ietf-100-9277-quic
SUMMARY:quic - QUIC
LOCATION:Collyer
STATUS:CONFIRMED
CLASS:PUBLIC
DTSTART;TZID=Asia/Singapore:20171115T093000
DTEND;TZID=Asia/Singapore:20171115T120000
DTSTAMP:20171005T150936Z
URL:https://datatracker.ietf.org/meeting/100/materials/agenda-100-quic-02
DESCRIPTION:Morning Session I\n
 \n
 Meetecho: http://www.meetecho.com/ietf100/quic/\n
 \n
 Agenda https://datatracker.ietf.org/meeting/100/materials/agenda-100-quic-02\n
 \n
 Session materials: https://datatracker.ietf.org/meeting/100/session/quic\n
 \n
 See in schedule: https://datatracker.ietf.org/meeting/100/agenda#row-100-2017-11-15-wed-0930-tsv-quic\n
END:VEVENT
BEGIN:VEVENT
UID:ietf-100-9318-rmcat
SUMMARY:rmcat - RTP Media Congestion Avoidance Techniques
LOCATION:Orchard
STATUS:CONFIRMED
CLASS:PUBLIC
DTSTART;TZID=Asia/Singapore:20171115T133000
DTEND;TZID=Asia/Singapore:20171115T150000
DTSTAMP:20171005T150958Z
URL:https://datatracker.ietf.org/meeting/100/materials/agenda-100-rmcat-01
DESCRIPTION:Afternoon Session I\n
 \n
 Meetecho: http://www.meetecho.com/ietf100/rmcat/\n
 \n
 Agenda https://datatracker.ietf.org/meeting/100/materials/agenda-100-rmcat-01\n
 \n
 Session materials: https://datatracker.ietf.org/meeting/100/session/rmcat\n
 \n
 See in schedule: https://datatracker.ietf.org/meeting/100/agenda#row-100-2017-11-15-wed-1330-tsv-rmcat\n
END:VEVENT
BEGIN:VEVENT
UID:ietf-100-9382-dtn
SUMMARY:dtn - Delay/Disruption Tolerant Networking
LOCATION:VIP A
STATUS:CONFIRMED
CLASS:PUBLIC
DTSTART;TZID=Asia/Singapore:20171116T093000
DTEND;TZID=Asia/Singapore:20171116T120000
DTSTAMP:20171005T151036Z
URL:https://datatracker.ietf.org/meeting/100/materials/agenda-100-dtn-00
DESCRIPTION:Morning Session I\n
 \n
 Meetecho: http://www.meetecho.com/ietf100/dtn/\n
 \n
 Agenda https://datatracker.ietf.org/meeting/100/materials/agenda-100-dtn-00\n
 \n
 Session materials: https://datatracker.ietf.org/meeting/100/session/dtn\n
 \n
 See in schedule: https://datatracker.ietf.org/meeting/100/agenda#row-100-2017-11-16-thu-0930-tsv-dtn\n
END:VEVENT
BEGIN:VEVENT
UID:ietf-100-9375-tcpm
SUMMARY:tcpm - TCP Maintenance and Minor Extensions
LOCATION:Olivia
STATUS:CONFIRMED
CLASS:PUBLIC
DTSTART;TZID=Asia/Singapore:20171116T093000
DTEND;TZID=Asia/Singapore:20171116T120000
DTSTAMP:20171005T151036Z
URL:https://datatracker.ietf.org/meeting/100/materials/agenda-100-tcpm-01
DESCRIPTION:Morning Session I\n
 \n
 Meetecho: http://www.meetecho.com/ietf100/tcpm/\n
 \n
 Agenda https://datatracker.ietf.org/meeting/100/materials/agenda-100-tcpm-01\n
 \n
 Session materials: https://datatracker.ietf.org/meeting/100/session/tcpm\n
 \n
 See in schedule: https://datatracker.ietf.org/meeting/100/agenda#row-100-2017-11-16-thu-0930-tsv-tcpm\n
END:VEVENT
BEGIN:VEVENT
UID:ietf-100-9465-tsvarea
SUMMARY:tsvarea - Transport Area Open Meeting
LOCATION:Padang
STATUS:CONFIRMED
CLASS:PUBLIC
DTSTART;TZID=Asia/Singapore:20171116T181000
DTEND;TZID=Asia/Singapore:20171116T191000
DTSTAMP:20171005T151206Z
URL:https://datatracker.ietf.org/meeting/100/materials/agenda-100-tsvarea-00
DESCRIPTION:Afternoon Session III\n
 \n
 Meetecho: http://www.meetecho.com/ietf100/tsvarea/\n
 \n
 Agenda https://datatracker.ietf.org/meeting/100/materials/agenda-100-tsvarea-00\n
 \n
 Session materials: https://datatracker.ietf.org/meeting/100/session/tsvarea\n
 \n
 See in schedule: https://datatracker.ietf.org/meeting/100/agenda#row-100-2017-11-16-thu-1810-tsv-tsvarea\n
END:VEVENT
BEGIN:VEVENT
UID:ietf-100-9480-tsvwg
SUMMARY:tsvwg - Transport Area Working Group
LOCATION:Collyer
STATUS:CONFIRMED
CLASS:PUBLIC
DTSTART;TZID=Asia/Singapore:20171117T093000
DTEND;TZID=Asia/Singapore:20171117T113000
DTSTAMP:20171005T151228Z
URL:https://datatracker.ietf.org/meeting/100/materials/agenda-100-tsvwg-07
DESCRIPTION:Morning Session I\n
 \n
 Meetecho: http://www.meetecho.com/ietf100/tsvwg/\n
 \n
 Agenda https://datatracker.ietf.org/meeting/100/materials/agenda-100-tsvwg-07\n
 \n
 Session materials: https://datatracker.ietf.org/meeting/100/session/tsvwg\n
 \n
 See in schedule: https://datatracker.ietf.org/meeting/100/agenda#row-100-2017-11-17-fri-0930-tsv-tsvwg\n
END:VEVENT
END:VCALENDAR
