BEGIN:VCALENDAR
VERSION:2.0
METHOD:PUBLISH
PRODID:-//IETF//datatracker.ietf.org ical agenda//EN
BEGIN:VTIMEZONE
TZID:Europe/London
X-LIC-LOCATION:Europe/London
BEGIN:DAYLIGHT
TZOFFSETFROM:+0000
TZOFFSETTO:+0100
TZNAME:BST
DTSTART:19810329T010000
RRULE:FREQ=YEARLY;BYMONTH=3;BYDAY=-1SU
END:DAYLIGHT
BEGIN:STANDARD
TZOFFSETFROM:+0100
TZOFFSETTO:+0000
TZNAME:GMT
DTSTART:19961027T020000
RRULE:FREQ=YEARLY;BYMONTH=10;BYDAY=-1SU
END:STANDARD
BEGIN:STANDARD
TZOFFSETFROM:-000115
TZOFFSETTO:+0000
TZNAME:GMT
DTSTART:18471201T000000
RDATE:18471201T000000
END:STANDARD
BEGIN:DAYLIGHT
TZOFFSETFROM:+0000
TZOFFSETTO:+0100
TZNAME:BST
DTSTART:19160521T020000
RDATE:19160521T020000
RDATE:19170408T020000
RDATE:19180324T020000
RDATE:19190330T020000
RDATE:19200328T020000
RDATE:19210403T020000
RDATE:19220326T020000
RDATE:19230422T020000
RDATE:19240413T020000
RDATE:19250419T020000
RDATE:19260418T020000
RDATE:19270410T020000
RDATE:19280422T020000
RDATE:19290421T020000
RDATE:19300413T020000
RDATE:19310419T020000
RDATE:19320417T020000
RDATE:19330409T020000
RDATE:19340422T020000
RDATE:19350414T020000
RDATE:19360419T020000
RDATE:19370418T020000
RDATE:19380410T020000
RDATE:19390416T020000
RDATE:19400225T020000
RDATE:19460414T020000
RDATE:19470316T020000
RDATE:19480314T020000
RDATE:19490403T020000
RDATE:19500416T020000
RDATE:19510415T020000
RDATE:19520420T020000
RDATE:19530419T020000
RDATE:19540411T020000
RDATE:19550417T020000
RDATE:19560422T020000
RDATE:19570414T020000
RDATE:19580420T020000
RDATE:19590419T020000
RDATE:19600410T020000
RDATE:19610326T020000
RDATE:19620325T020000
RDATE:19630331T020000
RDATE:19640322T020000
RDATE:19650321T020000
RDATE:19660320T020000
RDATE:19670319T020000
RDATE:19680218T020000
RDATE:19720319T020000
RDATE:19730318T020000
RDATE:19740317T020000
RDATE:19750316T020000
RDATE:19760321T020000
RDATE:19770320T020000
RDATE:19780319T020000
RDATE:19790318T020000
RDATE:19800316T020000
END:DAYLIGHT
BEGIN:STANDARD
TZOFFSETFROM:+0100
TZOFFSETTO:+0000
TZNAME:GMT
DTSTART:19161001T030000
RDATE:19161001T030000
RDATE:19170917T030000
RDATE:19180930T030000
RDATE:19190929T030000
RDATE:19201025T030000
RDATE:19211003T030000
RDATE:19221008T030000
RDATE:19230916T030000
RDATE:19240921T030000
RDATE:19251004T030000
RDATE:19261003T030000
RDATE:19271002T030000
RDATE:19281007T030000
RDATE:19291006T030000
RDATE:19301005T030000
RDATE:19311004T030000
RDATE:19321002T030000
RDATE:19331008T030000
RDATE:19341007T030000
RDATE:19351006T030000
RDATE:19361004T030000
RDATE:19371003T030000
RDATE:19381002T030000
RDATE:19391119T030000
RDATE:19451007T030000
RDATE:19461006T030000
RDATE:19471102T030000
RDATE:19481031T030000
RDATE:19491030T030000
RDATE:19501022T030000
RDATE:19511021T030000
RDATE:19521026T030000
RDATE:19531004T030000
RDATE:19541003T030000
RDATE:19551002T030000
RDATE:19561007T030000
RDATE:19571006T030000
RDATE:19581005T030000
RDATE:19591004T030000
RDATE:19601002T030000
RDATE:19611029T030000
RDATE:19621028T030000
RDATE:19631027T030000
RDATE:19641025T030000
RDATE:19651024T030000
RDATE:19661023T030000
RDATE:19671029T030000
RDATE:19711031T030000
RDATE:19721029T030000
RDATE:19731028T030000
RDATE:19741027T030000
RDATE:19751026T030000
RDATE:19761024T030000
RDATE:19771023T030000
RDATE:19781029T030000
RDATE:19791028T030000
RDATE:19801026T030000
RDATE:19811025T020000
RDATE:19821024T020000
RDATE:19831023T020000
RDATE:19841028T020000
RDATE:19851027T020000
RDATE:19861026T020000
RDATE:19871025T020000
RDATE:19881023T020000
RDATE:19891029T020000
RDATE:19901028T020000
RDATE:19911027T020000
RDATE:19921025T020000
RDATE:19931024T020000
RDATE:19941023T020000
RDATE:19951022T020000
END:STANDARD
BEGIN:DAYLIGHT
TZOFFSETFROM:+0100
TZOFFSETTO:+0200
TZNAME:BDST
DTSTART:19410504T020000
RDATE:19410504T020000
RDATE:19420405T020000
RDATE:19430404T020000
RDATE:19440402T020000
RDATE:19450402T020000
RDATE:19470413T020000
END:DAYLIGHT
BEGIN:DAYLIGHT
TZOFFSETFROM:+0200
TZOFFSETTO:+0100
TZNAME:BST
DTSTART:19410810T030000
RDATE:19410810T030000
RDATE:19420809T030000
RDATE:19430815T030000
RDATE:19440917T030000
RDATE:19450715T030000
RDATE:19470810T030000
END:DAYLIGHT
BEGIN:STANDARD
TZOFFSETFROM:+0100
TZOFFSETTO:+0100
TZNAME:BST
DTSTART:19681027T000000
RDATE:19681027T000000
END:STANDARD
BEGIN:STANDARD
TZOFFSETFROM:+0000
TZOFFSETTO:+0000
TZNAME:GMT
DTSTART:19960101T000000
RDATE:19960101T000000
END:STANDARD
END:VTIMEZONE
BEGIN:VEVENT
UID:ietf-101-9872-dispatch
SUMMARY:dispatch - Dispatch (0930-1100 Joint with ARTAREA)
LOCATION:Blenheim
STATUS:CONFIRMED
CLASS:PUBLIC
DTSTART;TZID=Europe/London:20180319T093000
DTEND;TZID=Europe/London:20180319T120000
DTSTAMP:20180211T084521Z
URL:https://datatracker.ietf.org/meeting/101/materials/agenda-101-dispatch-01
DESCRIPTION:Morning Session I\n
 Note: 0930-1100 Joint with ARTAREA\n
 \n
 Meetecho: http://www.meetecho.com/ietf101/dispatch/\n
 \n
 Agenda https://datatracker.ietf.org/meeting/101/materials/agenda-101-dispatch-01\n
 \n
 Session materials: https://datatracker.ietf.org/meeting/101/session/dispatch\n
 \n
 See in schedule: https://datatracker.ietf.org/meeting/101/agenda#row-101-2018-03-19-mon-0930-art-dispatch\n
END:VEVENT
BEGIN:VEVENT
UID:ietf-101-9872-modern
SUMMARY:modern - Managing, Ordering, Distributing, Exposing, & Registering telephone Numbers (1100-1200)
LOCATION:Blenheim
STATUS:CONFIRMED
CLASS:PUBLIC
DTSTART;TZID=Europe/London:20180319T093000
DTEND;TZID=Europe/London:20180319T120000
DTSTAMP:20180211T084521Z
URL:https://datatracker.ietf.org/meeting/101/materials/agenda-101-modern-00
DESCRIPTION:Morning Session I\n
 Note: 1100-1200\n
 \n
 Meetecho: http://www.meetecho.com/ietf101/modern/\n
 \n
 Agenda https://datatracker.ietf.org/meeting/101/materials/agenda-101-modern-00\n
 \n
 Session materials: https://datatracker.ietf.org/meeting/101/session/modern\n
 \n
 See in schedule: https://datatracker.ietf.org/meeting/101/agenda#row-101-2018-03-19-mon-0930-art-modern\n
END:VEVENT
BEGIN:VEVENT
UID:ietf-101-9868-core
SUMMARY:core - Constrained RESTful Environments
LOCATION:Richmond/Chelsea/Tower
STATUS:CONFIRMED
CLASS:PUBLIC
DTSTART;TZID=Europe/London:20180319T133000
DTEND;TZID=Europe/London:20180319T153000
DTSTAMP:20180211T084521Z
URL:https://datatracker.ietf.org/meeting/101/materials/agenda-101-core-04
DESCRIPTION:Afternoon Session I\n
 \n
 Meetecho: http://www.meetecho.com/ietf101/core/\n
 \n
 Agenda https://datatracker.ietf.org/meeting/101/materials/agenda-101-core-04\n
 \n
 Session materials: https://datatracker.ietf.org/meeting/101/session/core\n
 \n
 See in schedule: https://datatracker.ietf.org/meeting/101/agenda#row-101-2018-03-19-mon-1330-art-core\n
END:VEVENT
BEGIN:VEVENT
UID:ietf-101-9856-netvc
SUMMARY:netvc - Internet Video Codec
LOCATION:Blenheim
STATUS:CONFIRMED
CLASS:PUBLIC
DTSTART;TZID=Europe/London:20180319T155000
DTEND;TZID=Europe/London:20180319T172000
DTSTAMP:20180216T101730Z
URL:https://datatracker.ietf.org/meeting/101/materials/agenda-101-netvc-01
DESCRIPTION:Afternoon Session II\n
 \n
 Meetecho: http://www.meetecho.com/ietf101/netvc/\n
 \n
 Agenda https://datatracker.ietf.org/meeting/101/materials/agenda-101-netvc-01\n
 \n
 Session materials: https://datatracker.ietf.org/meeting/101/session/netvc\n
 \n
 See in schedule: https://datatracker.ietf.org/meeting/101/agenda#row-101-2018-03-19-mon-1550-art-netvc\n
END:VEVENT
BEGIN:VEVENT
UID:ietf-101-9852-dmarc
SUMMARY:dmarc - Domain-based Message Authentication, Reporting & Conformance
LOCATION:Richmond/Chelsea/Tower
STATUS:CONFIRMED
CLASS:PUBLIC
DTSTART;TZID=Europe/London:20180319T174000
DTEND;TZID=Europe/London:20180319T184000
DTSTAMP:20180211T084520Z
URL:https://datatracker.ietf.org/meeting/101/materials/agenda-101-dmarc-01
DESCRIPTION:Afternoon Session III\n
 \n
 Meetecho: http://www.meetecho.com/ietf101/dmarc/\n
 \n
 Agenda https://datatracker.ietf.org/meeting/101/materials/agenda-101-dmarc-01\n
 \n
 Session materials: https://datatracker.ietf.org/meeting/101/session/dmarc\n
 \n
 See in schedule: https://datatracker.ietf.org/meeting/101/agenda#row-101-2018-03-19-mon-1740-art-dmarc\n
END:VEVENT
BEGIN:VEVENT
UID:ietf-101-9851-regext
SUMMARY:regext - Registration Protocols Extensions
LOCATION:Park Suite
STATUS:CONFIRMED
CLASS:PUBLIC
DTSTART;TZID=Europe/London:20180319T174000
DTEND;TZID=Europe/London:20180319T184000
DTSTAMP:20180211T084520Z
URL:https://datatracker.ietf.org/meeting/101/materials/agenda-101-regext-01
DESCRIPTION:Afternoon Session III\n
 \n
 Meetecho: http://www.meetecho.com/ietf101/regext/\n
 \n
 Agenda https://datatracker.ietf.org/meeting/101/materials/agenda-101-regext-01\n
 \n
 Session materials: https://datatracker.ietf.org/meeting/101/session/regext\n
 \n
 See in schedule: https://datatracker.ietf.org/meeting/101/agenda#row-101-2018-03-19-mon-1740-art-regext\n
END:VEVENT
BEGIN:VEVENT
UID:ietf-101-9846-core
SUMMARY:core - Constrained RESTful Environments
LOCATION:Viscount
STATUS:CONFIRMED
CLASS:PUBLIC
DTSTART;TZID=Europe/London:20180320T093000
DTEND;TZID=Europe/London:20180320T120000
DTSTAMP:20180211T084520Z
URL:https://datatracker.ietf.org/meeting/101/materials/agenda-101-core-04
DESCRIPTION:Morning Session I\n
 \n
 Meetecho: http://www.meetecho.com/ietf101/core/\n
 \n
 Agenda https://datatracker.ietf.org/meeting/101/materials/agenda-101-core-04\n
 \n
 Session materials: https://datatracker.ietf.org/meeting/101/session/core\n
 \n
 See in schedule: https://datatracker.ietf.org/meeting/101/agenda#row-101-2018-03-20-tue-0930-art-core\n
END:VEVENT
BEGIN:VEVENT
UID:ietf-101-9834-capport
SUMMARY:capport - Captive Portal Interaction (Moved from Friday 1150)
LOCATION:Palace C
STATUS:CONFIRMED
CLASS:PUBLIC
DTSTART;TZID=Europe/London:20180320T133000
DTEND;TZID=Europe/London:20180320T153000
DTSTAMP:20180211T084520Z
URL:https://datatracker.ietf.org/meeting/101/materials/agenda-101-capport-00
DESCRIPTION:Afternoon Session I\n
 Note: Moved from Friday 1150\n
 \n
 Meetecho: http://www.meetecho.com/ietf101/capport/\n
 \n
 Agenda https://datatracker.ietf.org/meeting/101/materials/agenda-101-capport-00\n
 \n
 Session materials: https://datatracker.ietf.org/meeting/101/session/capport\n
 \n
 See in schedule: https://datatracker.ietf.org/meeting/101/agenda#row-101-2018-03-20-tue-1330-art-capport\n
END:VEVENT
BEGIN:VEVENT
UID:ietf-101-9835-cbor
SUMMARY:cbor - Concise Binary Object Representation Maintenance and Extensions
LOCATION:Park Suite
STATUS:CONFIRMED
CLASS:PUBLIC
DTSTART;TZID=Europe/London:20180320T133000
DTEND;TZID=Europe/London:20180320T153000
DTSTAMP:20180211T084520Z
URL:https://datatracker.ietf.org/meeting/101/materials/agenda-101-cbor-01
DESCRIPTION:Afternoon Session I\n
 \n
 Meetecho: http://www.meetecho.com/ietf101/cbor/\n
 \n
 Agenda https://datatracker.ietf.org/meeting/101/materials/agenda-101-cbor-01\n
 \n
 Session materials: https://datatracker.ietf.org/meeting/101/session/cbor\n
 \n
 See in schedule: https://datatracker.ietf.org/meeting/101/agenda#row-101-2018-03-20-tue-1330-art-cbor\n
END:VEVENT
BEGIN:VEVENT
UID:ietf-101-9834-ice
SUMMARY:ice - Interactive Connectivity Establishment
LOCATION:Palace C
STATUS:CANCELLED
CLASS:PUBLIC
DTSTART;TZID=Europe/London:20180320T133000
DTEND;TZID=Europe/London:20180320T153000
DTSTAMP:20180211T084520Z
DESCRIPTION:Afternoon Session I\n
 \n
 Meetecho: http://www.meetecho.com/ietf101/ice/\n
 \n
 Session materials: https://datatracker.ietf.org/meeting/101/session/ice\n
 \n
 See in schedule: https://datatracker.ietf.org/meeting/101/agenda#row-101-2018-03-20-tue-1330-art-ice\n
END:VEVENT
BEGIN:VEVENT
UID:ietf-101-9879-httpbis
SUMMARY:httpbis - Hypertext Transfer Protocol
LOCATION:Balmoral
STATUS:CONFIRMED
CLASS:PUBLIC
DTSTART;TZID=Europe/London:20180320T155000
DTEND;TZID=Europe/London:20180320T182000
DTSTAMP:20180216T101950Z
URL:https://datatracker.ietf.org/meeting/101/materials/agenda-101-httpbis-00
DESCRIPTION:Afternoon Session II\n
 \n
 Meetecho: http://www.meetecho.com/ietf101/httpbis/\n
 \n
 Agenda https://datatracker.ietf.org/meeting/101/materials/agenda-101-httpbis-00\n
 \n
 Session materials: https://datatracker.ietf.org/meeting/101/session/httpbis\n
 \n
 See in schedule: https://datatracker.ietf.org/meeting/101/agenda#row-101-2018-03-20-tue-1550-art-httpbis\n
END:VEVENT
BEGIN:VEVENT
UID:ietf-101-9804-regext
SUMMARY:regext - Registration Protocols Extensions
LOCATION:Richmond/Chelsea/Tower
STATUS:CONFIRMED
CLASS:PUBLIC
DTSTART;TZID=Europe/London:20180321T152000
DTEND;TZID=Europe/London:20180321T165000
DTSTAMP:20180211T084520Z
URL:https://datatracker.ietf.org/meeting/101/materials/agenda-101-regext-01
DESCRIPTION:Afternoon Session II\n
 \n
 Meetecho: http://www.meetecho.com/ietf101/regext/\n
 \n
 Agenda https://datatracker.ietf.org/meeting/101/materials/agenda-101-regext-01\n
 \n
 Session materials: https://datatracker.ietf.org/meeting/101/session/regext\n
 \n
 See in schedule: https://datatracker.ietf.org/meeting/101/agenda#row-101-2018-03-21-wed-1520-art-regext\n
END:VEVENT
BEGIN:VEVENT
UID:ietf-101-9794-calext
SUMMARY:calext - Calendaring Extensions (1100 - 1130)
LOCATION:Palace C
STATUS:CONFIRMED
CLASS:PUBLIC
DTSTART;TZID=Europe/London:20180322T093000
DTEND;TZID=Europe/London:20180322T120000
DTSTAMP:20180211T084520Z
URL:https://datatracker.ietf.org/meeting/101/materials/agenda-101-calext-00
DESCRIPTION:Morning Session I\n
 Note: 1100 - 1130\n
 \n
 Meetecho: http://www.meetecho.com/ietf101/calext/\n
 \n
 Agenda https://datatracker.ietf.org/meeting/101/materials/agenda-101-calext-00\n
 \n
 Session materials: https://datatracker.ietf.org/meeting/101/session/calext\n
 \n
 See in schedule: https://datatracker.ietf.org/meeting/101/agenda#row-101-2018-03-22-thu-0930-art-calext\n
END:VEVENT
BEGIN:VEVENT
UID:ietf-101-9794-extra
SUMMARY:extra - Email mailstore and eXtensions To Revise or Amend (0930 - 1030)
LOCATION:Palace C
STATUS:CONFIRMED
CLASS:PUBLIC
DTSTART;TZID=Europe/London:20180322T093000
DTEND;TZID=Europe/London:20180322T120000
DTSTAMP:20180211T084520Z
URL:https://datatracker.ietf.org/meeting/101/materials/agenda-101-extra-00
DESCRIPTION:Morning Session I\n
 Note: 0930 - 1030\n
 \n
 Meetecho: http://www.meetecho.com/ietf101/extra/\n
 \n
 Agenda https://datatracker.ietf.org/meeting/101/materials/agenda-101-extra-00\n
 \n
 Session materials: https://datatracker.ietf.org/meeting/101/session/extra\n
 \n
 See in schedule: https://datatracker.ietf.org/meeting/101/agenda#row-101-2018-03-22-thu-0930-art-extra\n
END:VEVENT
BEGIN:VEVENT
UID:ietf-101-9798-sipcore
SUMMARY:sipcore - Session Initiation Protocol Core (0930 - 1000)
LOCATION:Viscount
STATUS:CONFIRMED
CLASS:PUBLIC
DTSTART;TZID=Europe/London:20180322T093000
DTEND;TZID=Europe/London:20180322T120000
DTSTAMP:20180211T084520Z
URL:https://datatracker.ietf.org/meeting/101/materials/agenda-101-sipcore-00
DESCRIPTION:Morning Session I\n
 Note: 0930 - 1000\n
 \n
 Meetecho: http://www.meetecho.com/ietf101/sipcore/\n
 \n
 Agenda https://datatracker.ietf.org/meeting/101/materials/agenda-101-sipcore-00\n
 \n
 Session materials: https://datatracker.ietf.org/meeting/101/session/sipcore\n
 \n
 See in schedule: https://datatracker.ietf.org/meeting/101/agenda#row-101-2018-03-22-thu-0930-art-sipcore\n
END:VEVENT
BEGIN:VEVENT
UID:ietf-101-9798-stir
SUMMARY:stir - Secure Telephone Identity Revisited (1030 - 1200)
LOCATION:Viscount
STATUS:CONFIRMED
CLASS:PUBLIC
DTSTART;TZID=Europe/London:20180322T093000
DTEND;TZID=Europe/London:20180322T120000
DTSTAMP:20180211T084520Z
URL:https://datatracker.ietf.org/meeting/101/materials/agenda-101-stir-02
DESCRIPTION:Morning Session I\n
 Note: 1030 - 1200\n
 \n
 Meetecho: http://www.meetecho.com/ietf101/stir/\n
 \n
 Agenda https://datatracker.ietf.org/meeting/101/materials/agenda-101-stir-02\n
 \n
 Session materials: https://datatracker.ietf.org/meeting/101/session/stir\n
 \n
 See in schedule: https://datatracker.ietf.org/meeting/101/agenda#row-101-2018-03-22-thu-0930-art-stir\n
END:VEVENT
BEGIN:VEVENT
UID:ietf-101-9787-avtcore
SUMMARY:avtcore - Audio/Video Transport Core Maintenance (1330 - 1415)
LOCATION:Park Suite
STATUS:CONFIRMED
CLASS:PUBLIC
DTSTART;TZID=Europe/London:20180322T133000
DTEND;TZID=Europe/London:20180322T153000
DTSTAMP:20180211T084520Z
URL:https://datatracker.ietf.org/meeting/101/materials/agenda-101-avtcore-00
DESCRIPTION:Afternoon Session I\n
 Note: 1330 - 1415\n
 \n
 Meetecho: http://www.meetecho.com/ietf101/avtcore/\n
 \n
 Agenda https://datatracker.ietf.org/meeting/101/materials/agenda-101-avtcore-00\n
 \n
 Session materials: https://datatracker.ietf.org/meeting/101/session/avtcore\n
 \n
 See in schedule: https://datatracker.ietf.org/meeting/101/agenda#row-101-2018-03-22-thu-1330-art-avtcore\n
END:VEVENT
BEGIN:VEVENT
UID:ietf-101-9784-doh
SUMMARY:doh - DNS Over HTTPS
LOCATION:Blenheim
STATUS:CONFIRMED
CLASS:PUBLIC
DTSTART;TZID=Europe/London:20180322T133000
DTEND;TZID=Europe/London:20180322T153000
DTSTAMP:20180211T084520Z
URL:https://datatracker.ietf.org/meeting/101/materials/agenda-101-doh-03
DESCRIPTION:Afternoon Session I\n
 \n
 Meetecho: http://www.meetecho.com/ietf101/doh/\n
 \n
 Agenda https://datatracker.ietf.org/meeting/101/materials/agenda-101-doh-03\n
 \n
 Session materials: https://datatracker.ietf.org/meeting/101/session/doh\n
 \n
 See in schedule: https://datatracker.ietf.org/meeting/101/agenda#row-101-2018-03-22-thu-1330-art-doh\n
END:VEVENT
BEGIN:VEVENT
UID:ietf-101-9787-payload
SUMMARY:payload - Audio/Video Transport Payloads (1415 - 1500)
LOCATION:Park Suite
STATUS:CONFIRMED
CLASS:PUBLIC
DTSTART;TZID=Europe/London:20180322T133000
DTEND;TZID=Europe/London:20180322T153000
DTSTAMP:20180211T084520Z
URL:https://datatracker.ietf.org/meeting/101/materials/agenda-101-payload-01
DESCRIPTION:Afternoon Session I\n
 Note: 1415 - 1500\n
 \n
 Meetecho: http://www.meetecho.com/ietf101/payload/\n
 \n
 Agenda https://datatracker.ietf.org/meeting/101/materials/agenda-101-payload-01\n
 \n
 Session materials: https://datatracker.ietf.org/meeting/101/session/payload\n
 \n
 See in schedule: https://datatracker.ietf.org/meeting/101/agenda#row-101-2018-03-22-thu-1330-art-payload\n
END:VEVENT
BEGIN:VEVENT
UID:ietf-101-9787-xrblock
SUMMARY:xrblock - Metric Blocks for use with RTCP's Extended Report Framework (1500 - 1530)
LOCATION:Park Suite
STATUS:CONFIRMED
CLASS:PUBLIC
DTSTART;TZID=Europe/London:20180322T133000
DTEND;TZID=Europe/London:20180322T153000
DTSTAMP:20180211T084520Z
URL:https://datatracker.ietf.org/meeting/101/materials/agenda-101-xrblock-01
DESCRIPTION:Afternoon Session I\n
 Note: 1500 - 1530\n
 \n
 Meetecho: http://www.meetecho.com/ietf101/xrblock/\n
 \n
 Agenda https://datatracker.ietf.org/meeting/101/materials/agenda-101-xrblock-01\n
 \n
 Session materials: https://datatracker.ietf.org/meeting/101/session/xrblock\n
 \n
 See in schedule: https://datatracker.ietf.org/meeting/101/agenda#row-101-2018-03-22-thu-1330-art-xrblock\n
END:VEVENT
BEGIN:VEVENT
UID:ietf-101-9780-jmap
SUMMARY:jmap - JSON Mail Access Protocol
LOCATION:Richmond/Chelsea/Tower
STATUS:CONFIRMED
CLASS:PUBLIC
DTSTART;TZID=Europe/London:20180322T155000
DTEND;TZID=Europe/London:20180322T175000
DTSTAMP:20180211T084520Z
URL:https://datatracker.ietf.org/meeting/101/materials/agenda-101-jmap-00
DESCRIPTION:Afternoon Session II\n
 \n
 Meetecho: http://www.meetecho.com/ietf101/jmap/\n
 \n
 Agenda https://datatracker.ietf.org/meeting/101/materials/agenda-101-jmap-00\n
 \n
 Session materials: https://datatracker.ietf.org/meeting/101/session/jmap\n
 \n
 See in schedule: https://datatracker.ietf.org/meeting/101/agenda#row-101-2018-03-22-thu-1550-art-jmap\n
END:VEVENT
BEGIN:VEVENT
UID:ietf-101-9769-perc
SUMMARY:perc - Privacy Enhanced RTP Conferencing 
LOCATION:Buckingham
STATUS:CANCELLED
CLASS:PUBLIC
DTSTART;TZID=Europe/London:20180322T181000
DTEND;TZID=Europe/London:20180322T191000
DTSTAMP:20180211T084520Z
URL:https://datatracker.ietf.org/meeting/101/materials/agenda-101-perc-00
DESCRIPTION:Afternoon Session III\n
 \n
 Meetecho: http://www.meetecho.com/ietf101/perc/\n
 \n
 Agenda https://datatracker.ietf.org/meeting/101/materials/agenda-101-perc-00\n
 \n
 Session materials: https://datatracker.ietf.org/meeting/101/session/perc\n
 \n
 See in schedule: https://datatracker.ietf.org/meeting/101/agenda#row-101-2018-03-22-thu-1810-art-perc\n
END:VEVENT
BEGIN:VEVENT
UID:ietf-101-9768-uta
SUMMARY:uta - Using TLS in Applications
LOCATION:Blenheim
STATUS:CONFIRMED
CLASS:PUBLIC
DTSTART;TZID=Europe/London:20180322T181000
DTEND;TZID=Europe/London:20180322T191000
DTSTAMP:20180211T084520Z
URL:https://datatracker.ietf.org/meeting/101/materials/agenda-101-uta-00
DESCRIPTION:Afternoon Session III\n
 \n
 Meetecho: http://www.meetecho.com/ietf101/uta/\n
 \n
 Agenda https://datatracker.ietf.org/meeting/101/materials/agenda-101-uta-00\n
 \n
 Session materials: https://datatracker.ietf.org/meeting/101/session/uta\n
 \n
 See in schedule: https://datatracker.ietf.org/meeting/101/agenda#row-101-2018-03-22-thu-1810-art-uta\n
END:VEVENT
BEGIN:VEVENT
UID:ietf-101-9764-mmusic
SUMMARY:mmusic - Multiparty Multimedia Session Control
LOCATION:Richmond/Chelsea/Tower
STATUS:CONFIRMED
CLASS:PUBLIC
DTSTART;TZID=Europe/London:20180323T093000
DTEND;TZID=Europe/London:20180323T113000
DTSTAMP:20180211T084520Z
URL:https://datatracker.ietf.org/meeting/101/materials/agenda-101-mmusic-00
DESCRIPTION:Morning Session I\n
 \n
 Meetecho: http://www.meetecho.com/ietf101/mmusic/\n
 \n
 Agenda https://datatracker.ietf.org/meeting/101/materials/agenda-101-mmusic-00\n
 \n
 Session materials: https://datatracker.ietf.org/meeting/101/session/mmusic\n
 \n
 See in schedule: https://datatracker.ietf.org/meeting/101/agenda#row-101-2018-03-23-fri-0930-art-mmusic\n
END:VEVENT
END:VCALENDAR
