BEGIN:VCALENDAR
VERSION:2.0
METHOD:PUBLISH
PRODID:-//IETF//datatracker.ietf.org ical agenda//EN
BEGIN:VTIMEZONE
TZID:Europe/London
X-LIC-LOCATION:Europe/London
BEGIN:DAYLIGHT
TZOFFSETFROM:+0000
TZOFFSETTO:+0100
TZNAME:BST
DTSTART:19810329T010000
RRULE:FREQ=YEARLY;BYMONTH=3;BYDAY=-1SU
END:DAYLIGHT
BEGIN:STANDARD
TZOFFSETFROM:+0100
TZOFFSETTO:+0000
TZNAME:GMT
DTSTART:19961027T020000
RRULE:FREQ=YEARLY;BYMONTH=10;BYDAY=-1SU
END:STANDARD
BEGIN:STANDARD
TZOFFSETFROM:-000115
TZOFFSETTO:+0000
TZNAME:GMT
DTSTART:18471201T000000
RDATE:18471201T000000
END:STANDARD
BEGIN:DAYLIGHT
TZOFFSETFROM:+0000
TZOFFSETTO:+0100
TZNAME:BST
DTSTART:19160521T020000
RDATE:19160521T020000
RDATE:19170408T020000
RDATE:19180324T020000
RDATE:19190330T020000
RDATE:19200328T020000
RDATE:19210403T020000
RDATE:19220326T020000
RDATE:19230422T020000
RDATE:19240413T020000
RDATE:19250419T020000
RDATE:19260418T020000
RDATE:19270410T020000
RDATE:19280422T020000
RDATE:19290421T020000
RDATE:19300413T020000
RDATE:19310419T020000
RDATE:19320417T020000
RDATE:19330409T020000
RDATE:19340422T020000
RDATE:19350414T020000
RDATE:19360419T020000
RDATE:19370418T020000
RDATE:19380410T020000
RDATE:19390416T020000
RDATE:19400225T020000
RDATE:19460414T020000
RDATE:19470316T020000
RDATE:19480314T020000
RDATE:19490403T020000
RDATE:19500416T020000
RDATE:19510415T020000
RDATE:19520420T020000
RDATE:19530419T020000
RDATE:19540411T020000
RDATE:19550417T020000
RDATE:19560422T020000
RDATE:19570414T020000
RDATE:19580420T020000
RDATE:19590419T020000
RDATE:19600410T020000
RDATE:19610326T020000
RDATE:19620325T020000
RDATE:19630331T020000
RDATE:19640322T020000
RDATE:19650321T020000
RDATE:19660320T020000
RDATE:19670319T020000
RDATE:19680218T020000
RDATE:19720319T020000
RDATE:19730318T020000
RDATE:19740317T020000
RDATE:19750316T020000
RDATE:19760321T020000
RDATE:19770320T020000
RDATE:19780319T020000
RDATE:19790318T020000
RDATE:19800316T020000
END:DAYLIGHT
BEGIN:STANDARD
TZOFFSETFROM:+0100
TZOFFSETTO:+0000
TZNAME:GMT
DTSTART:19161001T030000
RDATE:19161001T030000
RDATE:19170917T030000
RDATE:19180930T030000
RDATE:19190929T030000
RDATE:19201025T030000
RDATE:19211003T030000
RDATE:19221008T030000
RDATE:19230916T030000
RDATE:19240921T030000
RDATE:19251004T030000
RDATE:19261003T030000
RDATE:19271002T030000
RDATE:19281007T030000
RDATE:19291006T030000
RDATE:19301005T030000
RDATE:19311004T030000
RDATE:19321002T030000
RDATE:19331008T030000
RDATE:19341007T030000
RDATE:19351006T030000
RDATE:19361004T030000
RDATE:19371003T030000
RDATE:19381002T030000
RDATE:19391119T030000
RDATE:19451007T030000
RDATE:19461006T030000
RDATE:19471102T030000
RDATE:19481031T030000
RDATE:19491030T030000
RDATE:19501022T030000
RDATE:19511021T030000
RDATE:19521026T030000
RDATE:19531004T030000
RDATE:19541003T030000
RDATE:19551002T030000
RDATE:19561007T030000
RDATE:19571006T030000
RDATE:19581005T030000
RDATE:19591004T030000
RDATE:19601002T030000
RDATE:19611029T030000
RDATE:19621028T030000
RDATE:19631027T030000
RDATE:19641025T030000
RDATE:19651024T030000
RDATE:19661023T030000
RDATE:19671029T030000
RDATE:19711031T030000
RDATE:19721029T030000
RDATE:19731028T030000
RDATE:19741027T030000
RDATE:19751026T030000
RDATE:19761024T030000
RDATE:19771023T030000
RDATE:19781029T030000
RDATE:19791028T030000
RDATE:19801026T030000
RDATE:19811025T020000
RDATE:19821024T020000
RDATE:19831023T020000
RDATE:19841028T020000
RDATE:19851027T020000
RDATE:19861026T020000
RDATE:19871025T020000
RDATE:19881023T020000
RDATE:19891029T020000
RDATE:19901028T020000
RDATE:19911027T020000
RDATE:19921025T020000
RDATE:19931024T020000
RDATE:19941023T020000
RDATE:19951022T020000
END:STANDARD
BEGIN:DAYLIGHT
TZOFFSETFROM:+0100
TZOFFSETTO:+0200
TZNAME:BDST
DTSTART:19410504T020000
RDATE:19410504T020000
RDATE:19420405T020000
RDATE:19430404T020000
RDATE:19440402T020000
RDATE:19450402T020000
RDATE:19470413T020000
END:DAYLIGHT
BEGIN:DAYLIGHT
TZOFFSETFROM:+0200
TZOFFSETTO:+0100
TZNAME:BST
DTSTART:19410810T030000
RDATE:19410810T030000
RDATE:19420809T030000
RDATE:19430815T030000
RDATE:19440917T030000
RDATE:19450715T030000
RDATE:19470810T030000
END:DAYLIGHT
BEGIN:STANDARD
TZOFFSETFROM:+0100
TZOFFSETTO:+0100
TZNAME:BST
DTSTART:19681027T000000
RDATE:19681027T000000
END:STANDARD
BEGIN:STANDARD
TZOFFSETFROM:+0000
TZOFFSETTO:+0000
TZNAME:GMT
DTSTART:19960101T000000
RDATE:19960101T000000
END:STANDARD
END:VTIMEZONE
BEGIN:VEVENT
UID:ietf-101-9893-hackathon
SUMMARY:Hackathon
LOCATION:Sovereign
STATUS:CONFIRMED
CLASS:PUBLIC
DTSTART;TZID=Europe/London:20180317T090000
DTEND;TZID=Europe/London:20180317T220000
DTSTAMP:20180216T121647Z
URL:https://datatracker.ietf.org/meeting/101/materials/agenda-101-hackathon-sessa-01
DESCRIPTION:Hackathon\n
 \n
 Agenda https://datatracker.ietf.org/meeting/101/materials/agenda-101-hackathon-sessa-01\n
 \n
 Session materials: https://datatracker.ietf.org/meeting/101/session/hackathon\n
 \n
 See in schedule: https://datatracker.ietf.org/meeting/101/agenda#row-101-2018-03-17-sat-0900-hackathon-hackathon\n
END:VEVENT
BEGIN:VEVENT
UID:ietf-101-9895-tools
SUMMARY:Code Sprint
LOCATION:Cadogan/Berkeley
STATUS:CONFIRMED
CLASS:PUBLIC
DTSTART;TZID=Europe/London:20180317T093000
DTEND;TZID=Europe/London:20180317T173000
DTSTAMP:20180216T120608Z
DESCRIPTION:Code Sprint\n
 \n
 Session materials: https://datatracker.ietf.org/meeting/101/session/tools\n
 \n
 See in schedule: https://datatracker.ietf.org/meeting/101/agenda#row-101-2018-03-17-sat-0930-tools-code-sprint\n
END:VEVENT
BEGIN:VEVENT
UID:ietf-101-9894-hackathon
SUMMARY:Hackathon
LOCATION:Sovereign
STATUS:CONFIRMED
CLASS:PUBLIC
DTSTART;TZID=Europe/London:20180318T090000
DTEND;TZID=Europe/London:20180318T160000
DTSTAMP:20180216T120628Z
URL:https://datatracker.ietf.org/meeting/101/materials/agenda-101-hackathon-sessb-00
DESCRIPTION:Hackathon\n
 \n
 Agenda https://datatracker.ietf.org/meeting/101/materials/agenda-101-hackathon-sessb-00\n
 \n
 Session materials: https://datatracker.ietf.org/meeting/101/session/hackathon\n
 \n
 See in schedule: https://datatracker.ietf.org/meeting/101/agenda#row-101-2018-03-18-sun-0900-hackathon-hackathon\n
END:VEVENT
BEGIN:VEVENT
UID:ietf-101-9903-iepg
SUMMARY:IEPG Meeting
LOCATION:Blenheim
STATUS:CONFIRMED
CLASS:PUBLIC
DTSTART;TZID=Europe/London:20180318T100000
DTEND;TZID=Europe/London:20180318T120000
DTSTAMP:20180216T123436Z
DESCRIPTION:IEPG Meeting\n
 \n
 Meetecho: http://www.meetecho.com/ietf101/iepg/\n
 \n
 Session materials: https://datatracker.ietf.org/meeting/101/session/iepg\n
 \n
 See in schedule: https://datatracker.ietf.org/meeting/101/agenda#row-101-2018-03-18-sun-1000-iepg-iepg-meeting\n
END:VEVENT
BEGIN:VEVENT
UID:ietf-101-9904-edu
SUMMARY:Newcomers Tutorial
LOCATION:Blenheim
STATUS:CONFIRMED
CLASS:PUBLIC
DTSTART;TZID=Europe/London:20180318T123000
DTEND;TZID=Europe/London:20180318T133000
DTSTAMP:20180216T123530Z
URL:https://datatracker.ietf.org/meeting/101/materials/agenda-101-edu-sessb-00
DESCRIPTION:Newcomers Tutorial\n
 \n
 Meetecho: http://www.meetecho.com/ietf101/edu/\n
 \n
 Agenda https://datatracker.ietf.org/meeting/101/materials/agenda-101-edu-sessb-00\n
 \n
 Session materials: https://datatracker.ietf.org/meeting/101/session/edu\n
 \n
 See in schedule: https://datatracker.ietf.org/meeting/101/agenda#row-101-2018-03-18-sun-1230-edu-newcomers-tutorial\n
END:VEVENT
BEGIN:VEVENT
UID:ietf-101-9936-edu
SUMMARY:OAUTH Tutorial
LOCATION:Buckingham
STATUS:CONFIRMED
CLASS:PUBLIC
DTSTART;TZID=Europe/London:20180318T123000
DTEND;TZID=Europe/London:20180318T133000
DTSTAMP:20180301T100201Z
URL:https://datatracker.ietf.org/meeting/101/materials/agenda-101-edu-sesse-00
DESCRIPTION:OAUTH Tutorial\n
 \n
 Meetecho: http://www.meetecho.com/ietf101/edu/\n
 \n
 Agenda https://datatracker.ietf.org/meeting/101/materials/agenda-101-edu-sesse-00\n
 \n
 Session materials: https://datatracker.ietf.org/meeting/101/session/edu\n
 \n
 See in schedule: https://datatracker.ietf.org/meeting/101/agenda#row-101-2018-03-18-sun-1230-edu-oauth-tutorial\n
END:VEVENT
BEGIN:VEVENT
UID:ietf-101-9937-edu
SUMMARY:Transport Area Overview
LOCATION:Buckingham
STATUS:CONFIRMED
CLASS:PUBLIC
DTSTART;TZID=Europe/London:20180318T134500
DTEND;TZID=Europe/London:20180318T144500
DTSTAMP:20180301T100251Z
URL:https://datatracker.ietf.org/meeting/101/materials/agenda-101-edu-sessf-00
DESCRIPTION:Transport Area Overview\n
 \n
 Meetecho: http://www.meetecho.com/ietf101/edu/\n
 \n
 Agenda https://datatracker.ietf.org/meeting/101/materials/agenda-101-edu-sessf-00\n
 \n
 Session materials: https://datatracker.ietf.org/meeting/101/session/edu\n
 \n
 See in schedule: https://datatracker.ietf.org/meeting/101/agenda#row-101-2018-03-18-sun-1345-edu-transport-area-overview\n
END:VEVENT
BEGIN:VEVENT
UID:ietf-101-9902-edu
SUMMARY:Tutorial: What Makes a Good Internet-Draft?
LOCATION:Blenheim
STATUS:CONFIRMED
CLASS:PUBLIC
DTSTART;TZID=Europe/London:20180318T134500
DTEND;TZID=Europe/London:20180318T144500
DTSTAMP:20180216T123314Z
URL:https://datatracker.ietf.org/meeting/101/materials/agenda-101-edu-sessa-00
DESCRIPTION:Tutorial: What Makes a Good Internet-Draft?\n
 \n
 Meetecho: http://www.meetecho.com/ietf101/edu/\n
 \n
 Agenda https://datatracker.ietf.org/meeting/101/materials/agenda-101-edu-sessa-00\n
 \n
 Session materials: https://datatracker.ietf.org/meeting/101/session/edu\n
 \n
 See in schedule: https://datatracker.ietf.org/meeting/101/agenda#row-101-2018-03-18-sun-1345-edu-tutorial-what-makes-a-good-internet-draft\n
END:VEVENT
BEGIN:VEVENT
UID:ietf-101-9905-mentor
SUMMARY:Quick Connections (Note that pre-registration is required)
LOCATION:Sandringham
STATUS:CONFIRMED
CLASS:PUBLIC
DTSTART;TZID=Europe/London:20180318T150000
DTEND;TZID=Europe/London:20180318T160000
DTSTAMP:20180306T194830Z
DESCRIPTION:Quick Connections (Note that pre-registration is required)\n
 \n
 Meetecho: http://www.meetecho.com/ietf101/plenary\n
 \n
 Session materials: https://datatracker.ietf.org/meeting/101/session/mentor\n
 \n
 See in schedule: https://datatracker.ietf.org/meeting/101/agenda#row-101-2018-03-18-sun-1500-mentor-quick-connections-note-that-pre-registration-is-required\n
END:VEVENT
BEGIN:VEVENT
UID:ietf-101-9942-hackathon
SUMMARY:Hackdemo Happy Hour
LOCATION:Sovereign
STATUS:CONFIRMED
CLASS:PUBLIC
DTSTART;TZID=Europe/London:20180319T180000
DTEND;TZID=Europe/London:20180319T200000
DTSTAMP:20180316T111456Z
DESCRIPTION:Hackdemo Happy Hour\n
 \n
 Session materials: https://datatracker.ietf.org/meeting/101/session/hackathon\n
 \n
 See in schedule: https://datatracker.ietf.org/meeting/101/agenda#row-101-2018-03-19-mon-1800-hackathon-hackdemo-happy-hour\n
END:VEVENT
BEGIN:VEVENT
UID:ietf-101-9838-iasa20
SUMMARY:iasa20 - IASA 2.0
LOCATION:Viscount
STATUS:CONFIRMED
CLASS:PUBLIC
DTSTART;TZID=Europe/London:20180320T133000
DTEND;TZID=Europe/London:20180320T153000
DTSTAMP:20180211T084520Z
URL:https://datatracker.ietf.org/meeting/101/materials/agenda-101-iasa20-00
DESCRIPTION:Afternoon Session I\n
 \n
 Meetecho: http://www.meetecho.com/ietf101/iasa20/\n
 \n
 Agenda https://datatracker.ietf.org/meeting/101/materials/agenda-101-iasa20-00\n
 \n
 Session materials: https://datatracker.ietf.org/meeting/101/session/iasa20\n
 \n
 See in schedule: https://datatracker.ietf.org/meeting/101/agenda#row-101-2018-03-20-tue-1330-gen-iasa20\n
END:VEVENT
BEGIN:VEVENT
UID:ietf-101-9044-edu
SUMMARY:WG Chairs Forum (For WG Chairs Only)
LOCATION:Balmoral
STATUS:CONFIRMED
CLASS:PUBLIC
DTSTART;TZID=Europe/London:20180321T121500
DTEND;TZID=Europe/London:20180321T131500
DTSTAMP:20180221T131414Z
URL:https://datatracker.ietf.org/meeting/101/materials/agenda-101-edu-sessc-00
DESCRIPTION:WG Chairs Forum (For WG Chairs Only)\n
 \n
 Meetecho: http://www.meetecho.com/ietf101/edu/\n
 \n
 Agenda https://datatracker.ietf.org/meeting/101/materials/agenda-101-edu-sessc-00\n
 \n
 Session materials: https://datatracker.ietf.org/meeting/101/session/edu\n
 \n
 See in schedule: https://datatracker.ietf.org/meeting/101/agenda#row-101-2018-03-21-wed-1215-edu-wg-chairs-forum-for-wg-chairs-only\n
END:VEVENT
BEGIN:VEVENT
UID:ietf-101-9039-ietf
SUMMARY:IETF Plenary
LOCATION:Sandringham
STATUS:CONFIRMED
CLASS:PUBLIC
DTSTART;TZID=Europe/London:20180321T171000
DTEND;TZID=Europe/London:20180321T194000
DTSTAMP:20180216T144013Z
URL:https://datatracker.ietf.org/meeting/101/materials/agenda-101-ietf-sessb-03
DESCRIPTION:IETF Plenary\n
 \n
 Meetecho: http://www.meetecho.com/ietf101/plenary\n
 \n
 Agenda https://datatracker.ietf.org/meeting/101/materials/agenda-101-ietf-sessb-03\n
 \n
 Session materials: https://datatracker.ietf.org/meeting/101/session/ietf\n
 \n
 See in schedule: https://datatracker.ietf.org/meeting/101/agenda#row-101-2018-03-21-wed-1710-1plenary-ietf\n
END:VEVENT
BEGIN:VEVENT
UID:ietf-101-9938-edu
SUMMARY:Newcomers Feedback Session
LOCATION:Hilton Meeting Rooms 1-4
STATUS:CONFIRMED
CLASS:PUBLIC
DTSTART;TZID=Europe/London:20180322T083000
DTEND;TZID=Europe/London:20180322T093000
DTSTAMP:20180301T134844Z
DESCRIPTION:Newcomers Feedback Session\n
 \n
 Session materials: https://datatracker.ietf.org/meeting/101/session/edu\n
 \n
 See in schedule: https://datatracker.ietf.org/meeting/101/agenda#row-101-2018-03-22-thu-0830-edu-newcomers-feedback-session\n
END:VEVENT
BEGIN:VEVENT
UID:ietf-101-9791-coms
SUMMARY:coms - Common Operations and Management on network Slices
LOCATION:Balmoral
STATUS:CONFIRMED
CLASS:PUBLIC
DTSTART;TZID=Europe/London:20180322T093000
DTEND;TZID=Europe/London:20180322T120000
DTSTAMP:20180211T084520Z
URL:https://datatracker.ietf.org/meeting/101/materials/agenda-101-coms-01
DESCRIPTION:Morning Session I\n
 \n
 Meetecho: http://www.meetecho.com/ietf101/coms/\n
 \n
 Agenda https://datatracker.ietf.org/meeting/101/materials/agenda-101-coms-01\n
 \n
 Session materials: https://datatracker.ietf.org/meeting/101/session/coms\n
 \n
 See in schedule: https://datatracker.ietf.org/meeting/101/agenda#row-101-2018-03-22-thu-0930-ops-coms\n
END:VEVENT
BEGIN:VEVENT
UID:ietf-101-9031-edu
SUMMARY:Thursday Lunch Speaker Series
LOCATION:Balmoral
STATUS:CONFIRMED
CLASS:PUBLIC
DTSTART;TZID=Europe/London:20180322T123000
DTEND;TZID=Europe/London:20180322T131500
DTSTAMP:20180216T144129Z
URL:https://datatracker.ietf.org/meeting/101/materials/agenda-101-edu-sessd-01
DESCRIPTION:Thursday Lunch Speaker Series\n
 \n
 Meetecho: http://www.meetecho.com/ietf101/edu/\n
 \n
 Agenda https://datatracker.ietf.org/meeting/101/materials/agenda-101-edu-sessd-01\n
 \n
 Session materials: https://datatracker.ietf.org/meeting/101/session/edu\n
 \n
 See in schedule: https://datatracker.ietf.org/meeting/101/agenda#row-101-2018-03-22-thu-1230-edu-thursday-lunch-speaker-series\n
END:VEVENT
BEGIN:VEVENT
UID:ietf-101-9777-mls
SUMMARY:mls - Messaging Layer Security
LOCATION:Buckingham
STATUS:CONFIRMED
CLASS:PUBLIC
DTSTART;TZID=Europe/London:20180322T155000
DTEND;TZID=Europe/London:20180322T175000
DTSTAMP:20180211T084520Z
URL:https://datatracker.ietf.org/meeting/101/materials/agenda-101-mls-03
DESCRIPTION:Afternoon Session II\n
 \n
 Meetecho: http://www.meetecho.com/ietf101/mls/\n
 \n
 Agenda https://datatracker.ietf.org/meeting/101/materials/agenda-101-mls-03\n
 \n
 Session materials: https://datatracker.ietf.org/meeting/101/session/mls\n
 \n
 See in schedule: https://datatracker.ietf.org/meeting/101/agenda#row-101-2018-03-22-thu-1550-sec-mls\n
END:VEVENT
BEGIN:VEVENT
UID:ietf-101-9774-ila
SUMMARY:ila - Identifier Locator Addressing
LOCATION:Viscount
STATUS:CONFIRMED
CLASS:PUBLIC
DTSTART;TZID=Europe/London:20180322T181000
DTEND;TZID=Europe/London:20180322T191000
DTSTAMP:20180211T084520Z
URL:https://datatracker.ietf.org/meeting/101/materials/agenda-101-ila-02
DESCRIPTION:Afternoon Session III\n
 \n
 Meetecho: http://www.meetecho.com/ietf101/ila/\n
 \n
 Agenda https://datatracker.ietf.org/meeting/101/materials/agenda-101-ila-02\n
 \n
 Session materials: https://datatracker.ietf.org/meeting/101/session/ila\n
 \n
 See in schedule: https://datatracker.ietf.org/meeting/101/agenda#row-101-2018-03-22-thu-1810-int-ila\n
END:VEVENT
END:VCALENDAR
