BEGIN:VCALENDAR
VERSION:2.0
METHOD:PUBLISH
PRODID:-//IETF//datatracker.ietf.org ical agenda//EN
BEGIN:VTIMEZONE
TZID:Europe/London
X-LIC-LOCATION:Europe/London
BEGIN:DAYLIGHT
TZOFFSETFROM:+0000
TZOFFSETTO:+0100
TZNAME:BST
DTSTART:19810329T010000
RRULE:FREQ=YEARLY;BYMONTH=3;BYDAY=-1SU
END:DAYLIGHT
BEGIN:STANDARD
TZOFFSETFROM:+0100
TZOFFSETTO:+0000
TZNAME:GMT
DTSTART:19961027T020000
RRULE:FREQ=YEARLY;BYMONTH=10;BYDAY=-1SU
END:STANDARD
BEGIN:STANDARD
TZOFFSETFROM:-000115
TZOFFSETTO:+0000
TZNAME:GMT
DTSTART:18471201T000000
RDATE:18471201T000000
END:STANDARD
BEGIN:DAYLIGHT
TZOFFSETFROM:+0000
TZOFFSETTO:+0100
TZNAME:BST
DTSTART:19160521T020000
RDATE:19160521T020000
RDATE:19170408T020000
RDATE:19180324T020000
RDATE:19190330T020000
RDATE:19200328T020000
RDATE:19210403T020000
RDATE:19220326T020000
RDATE:19230422T020000
RDATE:19240413T020000
RDATE:19250419T020000
RDATE:19260418T020000
RDATE:19270410T020000
RDATE:19280422T020000
RDATE:19290421T020000
RDATE:19300413T020000
RDATE:19310419T020000
RDATE:19320417T020000
RDATE:19330409T020000
RDATE:19340422T020000
RDATE:19350414T020000
RDATE:19360419T020000
RDATE:19370418T020000
RDATE:19380410T020000
RDATE:19390416T020000
RDATE:19400225T020000
RDATE:19460414T020000
RDATE:19470316T020000
RDATE:19480314T020000
RDATE:19490403T020000
RDATE:19500416T020000
RDATE:19510415T020000
RDATE:19520420T020000
RDATE:19530419T020000
RDATE:19540411T020000
RDATE:19550417T020000
RDATE:19560422T020000
RDATE:19570414T020000
RDATE:19580420T020000
RDATE:19590419T020000
RDATE:19600410T020000
RDATE:19610326T020000
RDATE:19620325T020000
RDATE:19630331T020000
RDATE:19640322T020000
RDATE:19650321T020000
RDATE:19660320T020000
RDATE:19670319T020000
RDATE:19680218T020000
RDATE:19720319T020000
RDATE:19730318T020000
RDATE:19740317T020000
RDATE:19750316T020000
RDATE:19760321T020000
RDATE:19770320T020000
RDATE:19780319T020000
RDATE:19790318T020000
RDATE:19800316T020000
END:DAYLIGHT
BEGIN:STANDARD
TZOFFSETFROM:+0100
TZOFFSETTO:+0000
TZNAME:GMT
DTSTART:19161001T030000
RDATE:19161001T030000
RDATE:19170917T030000
RDATE:19180930T030000
RDATE:19190929T030000
RDATE:19201025T030000
RDATE:19211003T030000
RDATE:19221008T030000
RDATE:19230916T030000
RDATE:19240921T030000
RDATE:19251004T030000
RDATE:19261003T030000
RDATE:19271002T030000
RDATE:19281007T030000
RDATE:19291006T030000
RDATE:19301005T030000
RDATE:19311004T030000
RDATE:19321002T030000
RDATE:19331008T030000
RDATE:19341007T030000
RDATE:19351006T030000
RDATE:19361004T030000
RDATE:19371003T030000
RDATE:19381002T030000
RDATE:19391119T030000
RDATE:19451007T030000
RDATE:19461006T030000
RDATE:19471102T030000
RDATE:19481031T030000
RDATE:19491030T030000
RDATE:19501022T030000
RDATE:19511021T030000
RDATE:19521026T030000
RDATE:19531004T030000
RDATE:19541003T030000
RDATE:19551002T030000
RDATE:19561007T030000
RDATE:19571006T030000
RDATE:19581005T030000
RDATE:19591004T030000
RDATE:19601002T030000
RDATE:19611029T030000
RDATE:19621028T030000
RDATE:19631027T030000
RDATE:19641025T030000
RDATE:19651024T030000
RDATE:19661023T030000
RDATE:19671029T030000
RDATE:19711031T030000
RDATE:19721029T030000
RDATE:19731028T030000
RDATE:19741027T030000
RDATE:19751026T030000
RDATE:19761024T030000
RDATE:19771023T030000
RDATE:19781029T030000
RDATE:19791028T030000
RDATE:19801026T030000
RDATE:19811025T020000
RDATE:19821024T020000
RDATE:19831023T020000
RDATE:19841028T020000
RDATE:19851027T020000
RDATE:19861026T020000
RDATE:19871025T020000
RDATE:19881023T020000
RDATE:19891029T020000
RDATE:19901028T020000
RDATE:19911027T020000
RDATE:19921025T020000
RDATE:19931024T020000
RDATE:19941023T020000
RDATE:19951022T020000
END:STANDARD
BEGIN:DAYLIGHT
TZOFFSETFROM:+0100
TZOFFSETTO:+0200
TZNAME:BDST
DTSTART:19410504T020000
RDATE:19410504T020000
RDATE:19420405T020000
RDATE:19430404T020000
RDATE:19440402T020000
RDATE:19450402T020000
RDATE:19470413T020000
END:DAYLIGHT
BEGIN:DAYLIGHT
TZOFFSETFROM:+0200
TZOFFSETTO:+0100
TZNAME:BST
DTSTART:19410810T030000
RDATE:19410810T030000
RDATE:19420809T030000
RDATE:19430815T030000
RDATE:19440917T030000
RDATE:19450715T030000
RDATE:19470810T030000
END:DAYLIGHT
BEGIN:STANDARD
TZOFFSETFROM:+0100
TZOFFSETTO:+0100
TZNAME:BST
DTSTART:19681027T000000
RDATE:19681027T000000
END:STANDARD
BEGIN:STANDARD
TZOFFSETFROM:+0000
TZOFFSETTO:+0000
TZNAME:GMT
DTSTART:19960101T000000
RDATE:19960101T000000
END:STANDARD
END:VTIMEZONE
BEGIN:VEVENT
UID:ietf-101-9877-ipwave
SUMMARY:ipwave - IP Wireless Access in Vehicular Environments
LOCATION:Sandringham
STATUS:CONFIRMED
CLASS:PUBLIC
DTSTART;TZID=Europe/London:20180319T093000
DTEND;TZID=Europe/London:20180319T120000
DTSTAMP:20180211T084521Z
URL:https://datatracker.ietf.org/meeting/101/materials/agenda-101-ipwave-05
DESCRIPTION:Morning Session I\n
 \n
 Meetecho: http://www.meetecho.com/ietf101/ipwave/\n
 \n
 Agenda https://datatracker.ietf.org/meeting/101/materials/agenda-101-ipwave-05\n
 \n
 Session materials: https://datatracker.ietf.org/meeting/101/session/ipwave\n
 \n
 See in schedule: https://datatracker.ietf.org/meeting/101/agenda#row-101-2018-03-19-mon-0930-int-ipwave\n
END:VEVENT
BEGIN:VEVENT
UID:ietf-101-9870-6man
SUMMARY:6man - IPv6 Maintenance
LOCATION:Viscount
STATUS:CONFIRMED
CLASS:PUBLIC
DTSTART;TZID=Europe/London:20180319T133000
DTEND;TZID=Europe/London:20180319T153000
DTSTAMP:20180211T084521Z
URL:https://datatracker.ietf.org/meeting/101/materials/agenda-101-6man-11
DESCRIPTION:Afternoon Session I\n
 \n
 Meetecho: http://www.meetecho.com/ietf101/6man/\n
 \n
 Agenda https://datatracker.ietf.org/meeting/101/materials/agenda-101-6man-11\n
 \n
 Session materials: https://datatracker.ietf.org/meeting/101/session/6man\n
 \n
 See in schedule: https://datatracker.ietf.org/meeting/101/agenda#row-101-2018-03-19-mon-1330-int-6man\n
END:VEVENT
BEGIN:VEVENT
UID:ietf-101-9861-intarea
SUMMARY:intarea - Internet Area Working Group
LOCATION:Sandringham
STATUS:CONFIRMED
CLASS:PUBLIC
DTSTART;TZID=Europe/London:20180319T155000
DTEND;TZID=Europe/London:20180319T172000
DTSTAMP:20180216T101730Z
URL:https://datatracker.ietf.org/meeting/101/materials/agenda-101-intarea-02
DESCRIPTION:Afternoon Session II\n
 \n
 Meetecho: http://www.meetecho.com/ietf101/intarea/\n
 \n
 Agenda https://datatracker.ietf.org/meeting/101/materials/agenda-101-intarea-02\n
 \n
 Session materials: https://datatracker.ietf.org/meeting/101/session/intarea\n
 \n
 See in schedule: https://datatracker.ietf.org/meeting/101/agenda#row-101-2018-03-19-mon-1550-int-intarea\n
END:VEVENT
BEGIN:VEVENT
UID:ietf-101-9854-dhc
SUMMARY:dhc - Dynamic Host Configuration
LOCATION:Viscount
STATUS:CONFIRMED
CLASS:PUBLIC
DTSTART;TZID=Europe/London:20180319T174000
DTEND;TZID=Europe/London:20180319T184000
DTSTAMP:20180211T084521Z
URL:https://datatracker.ietf.org/meeting/101/materials/agenda-101-dhc-02
DESCRIPTION:Afternoon Session III\n
 \n
 Meetecho: http://www.meetecho.com/ietf101/dhc/\n
 \n
 Agenda https://datatracker.ietf.org/meeting/101/materials/agenda-101-dhc-02\n
 \n
 Session materials: https://datatracker.ietf.org/meeting/101/session/dhc\n
 \n
 See in schedule: https://datatracker.ietf.org/meeting/101/agenda#row-101-2018-03-19-mon-1740-int-dhc\n
END:VEVENT
BEGIN:VEVENT
UID:ietf-101-9884-dmm
SUMMARY:dmm - Distributed Mobility Management
LOCATION:Palace C
STATUS:CONFIRMED
CLASS:PUBLIC
DTSTART;TZID=Europe/London:20180320T155000
DTEND;TZID=Europe/London:20180320T182000
DTSTAMP:20180216T101950Z
URL:https://datatracker.ietf.org/meeting/101/materials/agenda-101-dmm-04
DESCRIPTION:Afternoon Session II\n
 \n
 Meetecho: http://www.meetecho.com/ietf101/dmm/\n
 \n
 Agenda https://datatracker.ietf.org/meeting/101/materials/agenda-101-dmm-04\n
 \n
 Session materials: https://datatracker.ietf.org/meeting/101/session/dmm\n
 \n
 See in schedule: https://datatracker.ietf.org/meeting/101/agenda#row-101-2018-03-20-tue-1550-int-dmm\n
END:VEVENT
BEGIN:VEVENT
UID:ietf-101-9822-lpwan
SUMMARY:lpwan - IPv6 over Low Power Wide-Area Networks
LOCATION:Viscount
STATUS:CONFIRMED
CLASS:PUBLIC
DTSTART;TZID=Europe/London:20180321T093000
DTEND;TZID=Europe/London:20180321T120000
DTSTAMP:20180211T084520Z
URL:https://datatracker.ietf.org/meeting/101/materials/agenda-101-lpwan-00
DESCRIPTION:Morning Session I\n
 \n
 Meetecho: http://www.meetecho.com/ietf101/lpwan/\n
 \n
 Agenda https://datatracker.ietf.org/meeting/101/materials/agenda-101-lpwan-00\n
 \n
 Session materials: https://datatracker.ietf.org/meeting/101/session/lpwan\n
 \n
 See in schedule: https://datatracker.ietf.org/meeting/101/agenda#row-101-2018-03-21-wed-0930-int-lpwan\n
END:VEVENT
BEGIN:VEVENT
UID:ietf-101-9814-6tisch
SUMMARY:6tisch - IPv6 over the TSCH mode of IEEE 802.15.4e
LOCATION:Viscount
STATUS:CONFIRMED
CLASS:PUBLIC
DTSTART;TZID=Europe/London:20180321T133000
DTEND;TZID=Europe/London:20180321T150000
DTSTAMP:20180211T084520Z
URL:https://datatracker.ietf.org/meeting/101/materials/agenda-101-6tisch-03
DESCRIPTION:Afternoon Session I\n
 \n
 Meetecho: http://www.meetecho.com/ietf101/6tisch/\n
 \n
 Agenda https://datatracker.ietf.org/meeting/101/materials/agenda-101-6tisch-03\n
 \n
 Session materials: https://datatracker.ietf.org/meeting/101/session/6tisch\n
 \n
 See in schedule: https://datatracker.ietf.org/meeting/101/agenda#row-101-2018-03-21-wed-1330-int-6tisch\n
END:VEVENT
BEGIN:VEVENT
UID:ietf-101-9807-dprive
SUMMARY:dprive - DNS PRIVate Exchange
LOCATION:Balmoral
STATUS:CONFIRMED
CLASS:PUBLIC
DTSTART;TZID=Europe/London:20180321T133000
DTEND;TZID=Europe/London:20180321T150000
DTSTAMP:20180211T084520Z
URL:https://datatracker.ietf.org/meeting/101/materials/agenda-101-dprive-01
DESCRIPTION:Afternoon Session I\n
 \n
 Meetecho: http://www.meetecho.com/ietf101/dprive/\n
 \n
 Agenda https://datatracker.ietf.org/meeting/101/materials/agenda-101-dprive-01\n
 \n
 Session materials: https://datatracker.ietf.org/meeting/101/session/dprive\n
 \n
 See in schedule: https://datatracker.ietf.org/meeting/101/agenda#row-101-2018-03-21-wed-1330-int-dprive\n
END:VEVENT
BEGIN:VEVENT
UID:ietf-101-9803-lwig
SUMMARY:lwig - Light-Weight Implementation Guidance
LOCATION:Park Suite
STATUS:CONFIRMED
CLASS:PUBLIC
DTSTART;TZID=Europe/London:20180321T152000
DTEND;TZID=Europe/London:20180321T165000
DTSTAMP:20180211T084520Z
URL:https://datatracker.ietf.org/meeting/101/materials/agenda-101-lwig-00
DESCRIPTION:Afternoon Session II\n
 \n
 Meetecho: http://www.meetecho.com/ietf101/lwig/\n
 \n
 Agenda https://datatracker.ietf.org/meeting/101/materials/agenda-101-lwig-00\n
 \n
 Session materials: https://datatracker.ietf.org/meeting/101/session/lwig\n
 \n
 See in schedule: https://datatracker.ietf.org/meeting/101/agenda#row-101-2018-03-21-wed-1520-int-lwig\n
END:VEVENT
BEGIN:VEVENT
UID:ietf-101-9793-dnssd
SUMMARY:dnssd - Extensions for Scalable DNS Service Discovery 
LOCATION:Buckingham
STATUS:CONFIRMED
CLASS:PUBLIC
DTSTART;TZID=Europe/London:20180322T093000
DTEND;TZID=Europe/London:20180322T120000
DTSTAMP:20180211T084520Z
URL:https://datatracker.ietf.org/meeting/101/materials/agenda-101-dnssd-03
DESCRIPTION:Morning Session I\n
 \n
 Meetecho: http://www.meetecho.com/ietf101/dnssd/\n
 \n
 Agenda https://datatracker.ietf.org/meeting/101/materials/agenda-101-dnssd-03\n
 \n
 Session materials: https://datatracker.ietf.org/meeting/101/session/dnssd\n
 \n
 See in schedule: https://datatracker.ietf.org/meeting/101/agenda#row-101-2018-03-22-thu-0930-int-dnssd\n
END:VEVENT
BEGIN:VEVENT
UID:ietf-101-9785-6lo
SUMMARY:6lo - IPv6 over Networks of Resource-constrained Nodes
LOCATION:Buckingham
STATUS:CONFIRMED
CLASS:PUBLIC
DTSTART;TZID=Europe/London:20180322T133000
DTEND;TZID=Europe/London:20180322T153000
DTSTAMP:20180211T084520Z
URL:https://datatracker.ietf.org/meeting/101/materials/agenda-101-6lo-02
DESCRIPTION:Afternoon Session I\n
 \n
 Meetecho: http://www.meetecho.com/ietf101/6lo/\n
 \n
 Agenda https://datatracker.ietf.org/meeting/101/materials/agenda-101-6lo-02\n
 \n
 Session materials: https://datatracker.ietf.org/meeting/101/session/6lo\n
 \n
 See in schedule: https://datatracker.ietf.org/meeting/101/agenda#row-101-2018-03-22-thu-1330-int-6lo\n
END:VEVENT
BEGIN:VEVENT
UID:ietf-101-9778-ntp
SUMMARY:ntp - Network Time Protocol (Joint session with TICTOC)
LOCATION:Palace C
STATUS:CONFIRMED
CLASS:PUBLIC
DTSTART;TZID=Europe/London:20180322T155000
DTEND;TZID=Europe/London:20180322T175000
DTSTAMP:20180211T084520Z
URL:https://datatracker.ietf.org/meeting/101/materials/agenda-101-ntp-01
DESCRIPTION:Afternoon Session II\n
 Note: Joint session with TICTOC\n
 \n
 Meetecho: http://www.meetecho.com/ietf101/ntp/\n
 \n
 Agenda https://datatracker.ietf.org/meeting/101/materials/agenda-101-ntp-01\n
 \n
 Session materials: https://datatracker.ietf.org/meeting/101/session/ntp\n
 \n
 See in schedule: https://datatracker.ietf.org/meeting/101/agenda#row-101-2018-03-22-thu-1550-int-ntp\n
END:VEVENT
BEGIN:VEVENT
UID:ietf-101-9778-tictoc
SUMMARY:tictoc - Timing over IP Connection and Transfer of Clock (Joint session with NTP)
LOCATION:Palace C
STATUS:CONFIRMED
CLASS:PUBLIC
DTSTART;TZID=Europe/London:20180322T155000
DTEND;TZID=Europe/London:20180322T175000
DTSTAMP:20180211T084520Z
URL:https://datatracker.ietf.org/meeting/101/materials/agenda-101-tictoc-01
DESCRIPTION:Afternoon Session II\n
 Note: Joint session with NTP\n
 \n
 Meetecho: http://www.meetecho.com/ietf101/tictoc/\n
 \n
 Agenda https://datatracker.ietf.org/meeting/101/materials/agenda-101-tictoc-01\n
 \n
 Session materials: https://datatracker.ietf.org/meeting/101/session/tictoc\n
 \n
 See in schedule: https://datatracker.ietf.org/meeting/101/agenda#row-101-2018-03-22-thu-1550-int-tictoc\n
END:VEVENT
BEGIN:VEVENT
UID:ietf-101-9774-ila
SUMMARY:ila - Identifier Locator Addressing
LOCATION:Viscount
STATUS:CONFIRMED
CLASS:PUBLIC
DTSTART;TZID=Europe/London:20180322T181000
DTEND;TZID=Europe/London:20180322T191000
DTSTAMP:20180211T084520Z
URL:https://datatracker.ietf.org/meeting/101/materials/agenda-101-ila-02
DESCRIPTION:Afternoon Session III\n
 \n
 Meetecho: http://www.meetecho.com/ietf101/ila/\n
 \n
 Agenda https://datatracker.ietf.org/meeting/101/materials/agenda-101-ila-02\n
 \n
 Session materials: https://datatracker.ietf.org/meeting/101/session/ila\n
 \n
 See in schedule: https://datatracker.ietf.org/meeting/101/agenda#row-101-2018-03-22-thu-1810-int-ila\n
END:VEVENT
BEGIN:VEVENT
UID:ietf-101-9765-homenet
SUMMARY:homenet - Home Networking
LOCATION:Sandringham
STATUS:CONFIRMED
CLASS:PUBLIC
DTSTART;TZID=Europe/London:20180323T093000
DTEND;TZID=Europe/London:20180323T113000
DTSTAMP:20180211T084520Z
URL:https://datatracker.ietf.org/meeting/101/materials/agenda-101-homenet-01
DESCRIPTION:Morning Session I\n
 \n
 Meetecho: http://www.meetecho.com/ietf101/homenet/\n
 \n
 Agenda https://datatracker.ietf.org/meeting/101/materials/agenda-101-homenet-01\n
 \n
 Session materials: https://datatracker.ietf.org/meeting/101/session/homenet\n
 \n
 See in schedule: https://datatracker.ietf.org/meeting/101/agenda#row-101-2018-03-23-fri-0930-int-homenet\n
END:VEVENT
END:VCALENDAR
