BEGIN:VCALENDAR
VERSION:2.0
METHOD:PUBLISH
PRODID:-//IETF//datatracker.ietf.org ical agenda//EN
BEGIN:VTIMEZONE
TZID:Europe/London
X-LIC-LOCATION:Europe/London
BEGIN:DAYLIGHT
TZOFFSETFROM:+0000
TZOFFSETTO:+0100
TZNAME:BST
DTSTART:19810329T010000
RRULE:FREQ=YEARLY;BYMONTH=3;BYDAY=-1SU
END:DAYLIGHT
BEGIN:STANDARD
TZOFFSETFROM:+0100
TZOFFSETTO:+0000
TZNAME:GMT
DTSTART:19961027T020000
RRULE:FREQ=YEARLY;BYMONTH=10;BYDAY=-1SU
END:STANDARD
BEGIN:STANDARD
TZOFFSETFROM:-000115
TZOFFSETTO:+0000
TZNAME:GMT
DTSTART:18471201T000000
RDATE:18471201T000000
END:STANDARD
BEGIN:DAYLIGHT
TZOFFSETFROM:+0000
TZOFFSETTO:+0100
TZNAME:BST
DTSTART:19160521T020000
RDATE:19160521T020000
RDATE:19170408T020000
RDATE:19180324T020000
RDATE:19190330T020000
RDATE:19200328T020000
RDATE:19210403T020000
RDATE:19220326T020000
RDATE:19230422T020000
RDATE:19240413T020000
RDATE:19250419T020000
RDATE:19260418T020000
RDATE:19270410T020000
RDATE:19280422T020000
RDATE:19290421T020000
RDATE:19300413T020000
RDATE:19310419T020000
RDATE:19320417T020000
RDATE:19330409T020000
RDATE:19340422T020000
RDATE:19350414T020000
RDATE:19360419T020000
RDATE:19370418T020000
RDATE:19380410T020000
RDATE:19390416T020000
RDATE:19400225T020000
RDATE:19460414T020000
RDATE:19470316T020000
RDATE:19480314T020000
RDATE:19490403T020000
RDATE:19500416T020000
RDATE:19510415T020000
RDATE:19520420T020000
RDATE:19530419T020000
RDATE:19540411T020000
RDATE:19550417T020000
RDATE:19560422T020000
RDATE:19570414T020000
RDATE:19580420T020000
RDATE:19590419T020000
RDATE:19600410T020000
RDATE:19610326T020000
RDATE:19620325T020000
RDATE:19630331T020000
RDATE:19640322T020000
RDATE:19650321T020000
RDATE:19660320T020000
RDATE:19670319T020000
RDATE:19680218T020000
RDATE:19720319T020000
RDATE:19730318T020000
RDATE:19740317T020000
RDATE:19750316T020000
RDATE:19760321T020000
RDATE:19770320T020000
RDATE:19780319T020000
RDATE:19790318T020000
RDATE:19800316T020000
END:DAYLIGHT
BEGIN:STANDARD
TZOFFSETFROM:+0100
TZOFFSETTO:+0000
TZNAME:GMT
DTSTART:19161001T030000
RDATE:19161001T030000
RDATE:19170917T030000
RDATE:19180930T030000
RDATE:19190929T030000
RDATE:19201025T030000
RDATE:19211003T030000
RDATE:19221008T030000
RDATE:19230916T030000
RDATE:19240921T030000
RDATE:19251004T030000
RDATE:19261003T030000
RDATE:19271002T030000
RDATE:19281007T030000
RDATE:19291006T030000
RDATE:19301005T030000
RDATE:19311004T030000
RDATE:19321002T030000
RDATE:19331008T030000
RDATE:19341007T030000
RDATE:19351006T030000
RDATE:19361004T030000
RDATE:19371003T030000
RDATE:19381002T030000
RDATE:19391119T030000
RDATE:19451007T030000
RDATE:19461006T030000
RDATE:19471102T030000
RDATE:19481031T030000
RDATE:19491030T030000
RDATE:19501022T030000
RDATE:19511021T030000
RDATE:19521026T030000
RDATE:19531004T030000
RDATE:19541003T030000
RDATE:19551002T030000
RDATE:19561007T030000
RDATE:19571006T030000
RDATE:19581005T030000
RDATE:19591004T030000
RDATE:19601002T030000
RDATE:19611029T030000
RDATE:19621028T030000
RDATE:19631027T030000
RDATE:19641025T030000
RDATE:19651024T030000
RDATE:19661023T030000
RDATE:19671029T030000
RDATE:19711031T030000
RDATE:19721029T030000
RDATE:19731028T030000
RDATE:19741027T030000
RDATE:19751026T030000
RDATE:19761024T030000
RDATE:19771023T030000
RDATE:19781029T030000
RDATE:19791028T030000
RDATE:19801026T030000
RDATE:19811025T020000
RDATE:19821024T020000
RDATE:19831023T020000
RDATE:19841028T020000
RDATE:19851027T020000
RDATE:19861026T020000
RDATE:19871025T020000
RDATE:19881023T020000
RDATE:19891029T020000
RDATE:19901028T020000
RDATE:19911027T020000
RDATE:19921025T020000
RDATE:19931024T020000
RDATE:19941023T020000
RDATE:19951022T020000
END:STANDARD
BEGIN:DAYLIGHT
TZOFFSETFROM:+0100
TZOFFSETTO:+0200
TZNAME:BDST
DTSTART:19410504T020000
RDATE:19410504T020000
RDATE:19420405T020000
RDATE:19430404T020000
RDATE:19440402T020000
RDATE:19450402T020000
RDATE:19470413T020000
END:DAYLIGHT
BEGIN:DAYLIGHT
TZOFFSETFROM:+0200
TZOFFSETTO:+0100
TZNAME:BST
DTSTART:19410810T030000
RDATE:19410810T030000
RDATE:19420809T030000
RDATE:19430815T030000
RDATE:19440917T030000
RDATE:19450715T030000
RDATE:19470810T030000
END:DAYLIGHT
BEGIN:STANDARD
TZOFFSETFROM:+0100
TZOFFSETTO:+0100
TZNAME:BST
DTSTART:19681027T000000
RDATE:19681027T000000
END:STANDARD
BEGIN:STANDARD
TZOFFSETFROM:+0000
TZOFFSETTO:+0000
TZNAME:GMT
DTSTART:19960101T000000
RDATE:19960101T000000
END:STANDARD
END:VTIMEZONE
BEGIN:VEVENT
UID:ietf-101-9874-dinrg
SUMMARY:dinrg - Decentralized Internet Infrastructure Proposed RG
LOCATION:Palace C
STATUS:CONFIRMED
CLASS:PUBLIC
DTSTART;TZID=Europe/London:20180319T093000
DTEND;TZID=Europe/London:20180319T120000
DTSTAMP:20180211T084521Z
URL:https://datatracker.ietf.org/meeting/101/materials/agenda-101-dinrg-05
DESCRIPTION:Morning Session I\n
 \n
 Meetecho: http://www.meetecho.com/ietf101/dinrg/\n
 \n
 Agenda https://datatracker.ietf.org/meeting/101/materials/agenda-101-dinrg-05\n
 \n
 Session materials: https://datatracker.ietf.org/meeting/101/session/dinrg\n
 \n
 See in schedule: https://datatracker.ietf.org/meeting/101/agenda#row-101-2018-03-19-mon-0930-irtf-dinrg\n
END:VEVENT
BEGIN:VEVENT
UID:ietf-101-9855-cfrg
SUMMARY:cfrg - Crypto Forum
LOCATION:Balmoral
STATUS:CONFIRMED
CLASS:PUBLIC
DTSTART;TZID=Europe/London:20180319T155000
DTEND;TZID=Europe/London:20180319T172000
DTSTAMP:20180216T101730Z
URL:https://datatracker.ietf.org/meeting/101/materials/agenda-101-cfrg-01
DESCRIPTION:Afternoon Session II\n
 \n
 Meetecho: http://www.meetecho.com/ietf101/cfrg/\n
 \n
 Agenda https://datatracker.ietf.org/meeting/101/materials/agenda-101-cfrg-01\n
 \n
 Session materials: https://datatracker.ietf.org/meeting/101/session/cfrg\n
 \n
 See in schedule: https://datatracker.ietf.org/meeting/101/agenda#row-101-2018-03-19-mon-1550-irtf-cfrg\n
END:VEVENT
BEGIN:VEVENT
UID:ietf-101-9845-maprg
SUMMARY:maprg - Measurement and Analysis for Protocols
LOCATION:Sandringham
STATUS:CONFIRMED
CLASS:PUBLIC
DTSTART;TZID=Europe/London:20180320T093000
DTEND;TZID=Europe/London:20180320T120000
DTSTAMP:20180211T084520Z
URL:https://datatracker.ietf.org/meeting/101/materials/agenda-101-maprg-13
DESCRIPTION:Morning Session I\n
 \n
 Meetecho: http://www.meetecho.com/ietf101/maprg/\n
 \n
 Agenda https://datatracker.ietf.org/meeting/101/materials/agenda-101-maprg-13\n
 \n
 Session materials: https://datatracker.ietf.org/meeting/101/session/maprg\n
 \n
 See in schedule: https://datatracker.ietf.org/meeting/101/agenda#row-101-2018-03-20-tue-0930-irtf-maprg\n
END:VEVENT
BEGIN:VEVENT
UID:ietf-101-9833-panrg
SUMMARY:panrg - Path Aware Networking Proposed RG
LOCATION:Buckingham
STATUS:CONFIRMED
CLASS:PUBLIC
DTSTART;TZID=Europe/London:20180320T133000
DTEND;TZID=Europe/London:20180320T153000
DTSTAMP:20180211T084520Z
URL:https://datatracker.ietf.org/meeting/101/materials/agenda-101-panrg-09
DESCRIPTION:Afternoon Session I\n
 \n
 Meetecho: http://www.meetecho.com/ietf101/panrg/\n
 \n
 Agenda https://datatracker.ietf.org/meeting/101/materials/agenda-101-panrg-09\n
 \n
 Session materials: https://datatracker.ietf.org/meeting/101/session/panrg\n
 \n
 See in schedule: https://datatracker.ietf.org/meeting/101/agenda#row-101-2018-03-20-tue-1330-irtf-panrg\n
END:VEVENT
BEGIN:VEVENT
UID:ietf-101-9885-icnrg
SUMMARY:icnrg - Information-Centric Networking
LOCATION:Park Suite
STATUS:CONFIRMED
CLASS:PUBLIC
DTSTART;TZID=Europe/London:20180320T155000
DTEND;TZID=Europe/London:20180320T182000
DTSTAMP:20180216T101950Z
URL:https://datatracker.ietf.org/meeting/101/materials/agenda-101-icnrg-07
DESCRIPTION:Afternoon Session II\n
 \n
 Meetecho: http://www.meetecho.com/ietf101/icnrg/\n
 \n
 Agenda https://datatracker.ietf.org/meeting/101/materials/agenda-101-icnrg-07\n
 \n
 Session materials: https://datatracker.ietf.org/meeting/101/session/icnrg\n
 \n
 See in schedule: https://datatracker.ietf.org/meeting/101/agenda#row-101-2018-03-20-tue-1550-irtf-icnrg\n
END:VEVENT
BEGIN:VEVENT
UID:ietf-101-9821-irtfopen
SUMMARY:irtfopen - IRTF Open Meeting
LOCATION:Sandringham
STATUS:CONFIRMED
CLASS:PUBLIC
DTSTART;TZID=Europe/London:20180321T093000
DTEND;TZID=Europe/London:20180321T120000
DTSTAMP:20180211T084520Z
URL:https://datatracker.ietf.org/meeting/101/materials/agenda-101-irtfopen-00
DESCRIPTION:Morning Session I\n
 \n
 Meetecho: http://www.meetecho.com/ietf101/irtfopen/\n
 \n
 Agenda https://datatracker.ietf.org/meeting/101/materials/agenda-101-irtfopen-00\n
 \n
 Session materials: https://datatracker.ietf.org/meeting/101/session/irtfopen\n
 \n
 See in schedule: https://datatracker.ietf.org/meeting/101/agenda#row-101-2018-03-21-wed-0930-irtf-irtfopen\n
END:VEVENT
BEGIN:VEVENT
UID:ietf-101-9813-nfvrg
SUMMARY:nfvrg - Network Function Virtualization
LOCATION:Sandringham
STATUS:CONFIRMED
CLASS:PUBLIC
DTSTART;TZID=Europe/London:20180321T133000
DTEND;TZID=Europe/London:20180321T150000
DTSTAMP:20180211T084520Z
URL:https://datatracker.ietf.org/meeting/101/materials/agenda-101-nfvrg-01
DESCRIPTION:Afternoon Session I\n
 \n
 Meetecho: http://www.meetecho.com/ietf101/nfvrg/\n
 \n
 Agenda https://datatracker.ietf.org/meeting/101/materials/agenda-101-nfvrg-01\n
 \n
 Session materials: https://datatracker.ietf.org/meeting/101/session/nfvrg\n
 \n
 See in schedule: https://datatracker.ietf.org/meeting/101/agenda#row-101-2018-03-21-wed-1330-irtf-nfvrg\n
END:VEVENT
BEGIN:VEVENT
UID:ietf-101-9786-gaia
SUMMARY:gaia - Global Access to the Internet for All (Moved from Monday 1330)
LOCATION:Palace C
STATUS:CONFIRMED
CLASS:PUBLIC
DTSTART;TZID=Europe/London:20180322T133000
DTEND;TZID=Europe/London:20180322T153000
DTSTAMP:20180211T084520Z
URL:https://datatracker.ietf.org/meeting/101/materials/agenda-101-gaia-03
DESCRIPTION:Afternoon Session I\n
 Note: Moved from Monday 1330\n
 \n
 Meetecho: http://www.meetecho.com/ietf101/gaia/\n
 \n
 Agenda https://datatracker.ietf.org/meeting/101/materials/agenda-101-gaia-03\n
 \n
 Session materials: https://datatracker.ietf.org/meeting/101/session/gaia\n
 \n
 See in schedule: https://datatracker.ietf.org/meeting/101/agenda#row-101-2018-03-22-thu-1330-irtf-gaia\n
END:VEVENT
BEGIN:VEVENT
UID:ietf-101-9788-nwcrg
SUMMARY:nwcrg - Coding for efficient NetWork Communications Research Group
LOCATION:Richmond/Chelsea/Tower
STATUS:CONFIRMED
CLASS:PUBLIC
DTSTART;TZID=Europe/London:20180322T133000
DTEND;TZID=Europe/London:20180322T153000
DTSTAMP:20180211T084520Z
URL:https://datatracker.ietf.org/meeting/101/materials/agenda-101-nwcrg-06
DESCRIPTION:Afternoon Session I\n
 \n
 Meetecho: http://www.meetecho.com/ietf101/nwcrg/\n
 \n
 Agenda https://datatracker.ietf.org/meeting/101/materials/agenda-101-nwcrg-06\n
 \n
 Session materials: https://datatracker.ietf.org/meeting/101/session/nwcrg\n
 \n
 See in schedule: https://datatracker.ietf.org/meeting/101/agenda#row-101-2018-03-22-thu-1330-irtf-nwcrg\n
END:VEVENT
BEGIN:VEVENT
UID:ietf-101-9782-hrpc
SUMMARY:hrpc - Human Rights Protocol Considerations
LOCATION:Viscount
STATUS:CONFIRMED
CLASS:PUBLIC
DTSTART;TZID=Europe/London:20180322T155000
DTEND;TZID=Europe/London:20180322T175000
DTSTAMP:20180211T084520Z
URL:https://datatracker.ietf.org/meeting/101/materials/agenda-101-hrpc-01
DESCRIPTION:Afternoon Session II\n
 \n
 Meetecho: http://www.meetecho.com/ietf101/hrpc/\n
 \n
 Agenda https://datatracker.ietf.org/meeting/101/materials/agenda-101-hrpc-01\n
 \n
 Session materials: https://datatracker.ietf.org/meeting/101/session/hrpc\n
 \n
 See in schedule: https://datatracker.ietf.org/meeting/101/agenda#row-101-2018-03-22-thu-1550-irtf-hrpc\n
END:VEVENT
BEGIN:VEVENT
UID:ietf-101-9776-t2trg
SUMMARY:t2trg - Thing-to-Thing
LOCATION:Blenheim
STATUS:CONFIRMED
CLASS:PUBLIC
DTSTART;TZID=Europe/London:20180322T155000
DTEND;TZID=Europe/London:20180322T175000
DTSTAMP:20180211T084520Z
URL:https://datatracker.ietf.org/meeting/101/materials/agenda-101-t2trg-00
DESCRIPTION:Afternoon Session II\n
 \n
 Meetecho: http://www.meetecho.com/ietf101/t2trg/\n
 \n
 Agenda https://datatracker.ietf.org/meeting/101/materials/agenda-101-t2trg-00\n
 \n
 Session materials: https://datatracker.ietf.org/meeting/101/session/t2trg\n
 \n
 See in schedule: https://datatracker.ietf.org/meeting/101/agenda#row-101-2018-03-22-thu-1550-irtf-t2trg\n
END:VEVENT
BEGIN:VEVENT
UID:ietf-101-9761-iccrg
SUMMARY:iccrg - Internet Congestion Control
LOCATION:Buckingham
STATUS:CONFIRMED
CLASS:PUBLIC
DTSTART;TZID=Europe/London:20180323T093000
DTEND;TZID=Europe/London:20180323T113000
DTSTAMP:20180211T084520Z
URL:https://datatracker.ietf.org/meeting/101/materials/agenda-101-iccrg-06
DESCRIPTION:Morning Session I\n
 \n
 Meetecho: http://www.meetecho.com/ietf101/iccrg/\n
 \n
 Agenda https://datatracker.ietf.org/meeting/101/materials/agenda-101-iccrg-06\n
 \n
 Session materials: https://datatracker.ietf.org/meeting/101/session/iccrg\n
 \n
 See in schedule: https://datatracker.ietf.org/meeting/101/agenda#row-101-2018-03-23-fri-0930-irtf-iccrg\n
END:VEVENT
END:VCALENDAR
