BEGIN:VCALENDAR
VERSION:2.0
METHOD:PUBLISH
PRODID:-//IETF//datatracker.ietf.org ical agenda//EN
BEGIN:VTIMEZONE
TZID:Europe/London
X-LIC-LOCATION:Europe/London
BEGIN:DAYLIGHT
TZOFFSETFROM:+0000
TZOFFSETTO:+0100
TZNAME:BST
DTSTART:19810329T010000
RRULE:FREQ=YEARLY;BYMONTH=3;BYDAY=-1SU
END:DAYLIGHT
BEGIN:STANDARD
TZOFFSETFROM:+0100
TZOFFSETTO:+0000
TZNAME:GMT
DTSTART:19961027T020000
RRULE:FREQ=YEARLY;BYMONTH=10;BYDAY=-1SU
END:STANDARD
BEGIN:STANDARD
TZOFFSETFROM:-000115
TZOFFSETTO:+0000
TZNAME:GMT
DTSTART:18471201T000000
RDATE:18471201T000000
END:STANDARD
BEGIN:DAYLIGHT
TZOFFSETFROM:+0000
TZOFFSETTO:+0100
TZNAME:BST
DTSTART:19160521T020000
RDATE:19160521T020000
RDATE:19170408T020000
RDATE:19180324T020000
RDATE:19190330T020000
RDATE:19200328T020000
RDATE:19210403T020000
RDATE:19220326T020000
RDATE:19230422T020000
RDATE:19240413T020000
RDATE:19250419T020000
RDATE:19260418T020000
RDATE:19270410T020000
RDATE:19280422T020000
RDATE:19290421T020000
RDATE:19300413T020000
RDATE:19310419T020000
RDATE:19320417T020000
RDATE:19330409T020000
RDATE:19340422T020000
RDATE:19350414T020000
RDATE:19360419T020000
RDATE:19370418T020000
RDATE:19380410T020000
RDATE:19390416T020000
RDATE:19400225T020000
RDATE:19460414T020000
RDATE:19470316T020000
RDATE:19480314T020000
RDATE:19490403T020000
RDATE:19500416T020000
RDATE:19510415T020000
RDATE:19520420T020000
RDATE:19530419T020000
RDATE:19540411T020000
RDATE:19550417T020000
RDATE:19560422T020000
RDATE:19570414T020000
RDATE:19580420T020000
RDATE:19590419T020000
RDATE:19600410T020000
RDATE:19610326T020000
RDATE:19620325T020000
RDATE:19630331T020000
RDATE:19640322T020000
RDATE:19650321T020000
RDATE:19660320T020000
RDATE:19670319T020000
RDATE:19680218T020000
RDATE:19720319T020000
RDATE:19730318T020000
RDATE:19740317T020000
RDATE:19750316T020000
RDATE:19760321T020000
RDATE:19770320T020000
RDATE:19780319T020000
RDATE:19790318T020000
RDATE:19800316T020000
END:DAYLIGHT
BEGIN:STANDARD
TZOFFSETFROM:+0100
TZOFFSETTO:+0000
TZNAME:GMT
DTSTART:19161001T030000
RDATE:19161001T030000
RDATE:19170917T030000
RDATE:19180930T030000
RDATE:19190929T030000
RDATE:19201025T030000
RDATE:19211003T030000
RDATE:19221008T030000
RDATE:19230916T030000
RDATE:19240921T030000
RDATE:19251004T030000
RDATE:19261003T030000
RDATE:19271002T030000
RDATE:19281007T030000
RDATE:19291006T030000
RDATE:19301005T030000
RDATE:19311004T030000
RDATE:19321002T030000
RDATE:19331008T030000
RDATE:19341007T030000
RDATE:19351006T030000
RDATE:19361004T030000
RDATE:19371003T030000
RDATE:19381002T030000
RDATE:19391119T030000
RDATE:19451007T030000
RDATE:19461006T030000
RDATE:19471102T030000
RDATE:19481031T030000
RDATE:19491030T030000
RDATE:19501022T030000
RDATE:19511021T030000
RDATE:19521026T030000
RDATE:19531004T030000
RDATE:19541003T030000
RDATE:19551002T030000
RDATE:19561007T030000
RDATE:19571006T030000
RDATE:19581005T030000
RDATE:19591004T030000
RDATE:19601002T030000
RDATE:19611029T030000
RDATE:19621028T030000
RDATE:19631027T030000
RDATE:19641025T030000
RDATE:19651024T030000
RDATE:19661023T030000
RDATE:19671029T030000
RDATE:19711031T030000
RDATE:19721029T030000
RDATE:19731028T030000
RDATE:19741027T030000
RDATE:19751026T030000
RDATE:19761024T030000
RDATE:19771023T030000
RDATE:19781029T030000
RDATE:19791028T030000
RDATE:19801026T030000
RDATE:19811025T020000
RDATE:19821024T020000
RDATE:19831023T020000
RDATE:19841028T020000
RDATE:19851027T020000
RDATE:19861026T020000
RDATE:19871025T020000
RDATE:19881023T020000
RDATE:19891029T020000
RDATE:19901028T020000
RDATE:19911027T020000
RDATE:19921025T020000
RDATE:19931024T020000
RDATE:19941023T020000
RDATE:19951022T020000
END:STANDARD
BEGIN:DAYLIGHT
TZOFFSETFROM:+0100
TZOFFSETTO:+0200
TZNAME:BDST
DTSTART:19410504T020000
RDATE:19410504T020000
RDATE:19420405T020000
RDATE:19430404T020000
RDATE:19440402T020000
RDATE:19450402T020000
RDATE:19470413T020000
END:DAYLIGHT
BEGIN:DAYLIGHT
TZOFFSETFROM:+0200
TZOFFSETTO:+0100
TZNAME:BST
DTSTART:19410810T030000
RDATE:19410810T030000
RDATE:19420809T030000
RDATE:19430815T030000
RDATE:19440917T030000
RDATE:19450715T030000
RDATE:19470810T030000
END:DAYLIGHT
BEGIN:STANDARD
TZOFFSETFROM:+0100
TZOFFSETTO:+0100
TZNAME:BST
DTSTART:19681027T000000
RDATE:19681027T000000
END:STANDARD
BEGIN:STANDARD
TZOFFSETFROM:+0000
TZOFFSETTO:+0000
TZNAME:GMT
DTSTART:19960101T000000
RDATE:19960101T000000
END:STANDARD
END:VTIMEZONE
BEGIN:VEVENT
UID:ietf-101-9876-i2rs
SUMMARY:i2rs - Interface to the Routing System
LOCATION:Richmond/Chelsea/Tower
STATUS:CONFIRMED
CLASS:PUBLIC
DTSTART;TZID=Europe/London:20180319T093000
DTEND;TZID=Europe/London:20180319T120000
DTSTAMP:20180211T084521Z
URL:https://datatracker.ietf.org/meeting/101/materials/agenda-101-i2rs-00
DESCRIPTION:Morning Session I\n
 \n
 Meetecho: http://www.meetecho.com/ietf101/i2rs/\n
 \n
 Agenda https://datatracker.ietf.org/meeting/101/materials/agenda-101-i2rs-00\n
 \n
 Session materials: https://datatracker.ietf.org/meeting/101/session/i2rs\n
 \n
 See in schedule: https://datatracker.ietf.org/meeting/101/agenda#row-101-2018-03-19-mon-0930-rtg-i2rs\n
END:VEVENT
BEGIN:VEVENT
UID:ietf-101-9875-teas
SUMMARY:teas - Traffic Engineering Architecture and Signaling (Moved from Wednesday 0930)
LOCATION:Park Suite
STATUS:CONFIRMED
CLASS:PUBLIC
DTSTART;TZID=Europe/London:20180319T093000
DTEND;TZID=Europe/London:20180319T120000
DTSTAMP:20180211T084521Z
URL:https://datatracker.ietf.org/meeting/101/materials/agenda-101-teas-04
DESCRIPTION:Morning Session I\n
 Note: Moved from Wednesday 0930\n
 \n
 Meetecho: http://www.meetecho.com/ietf101/teas/\n
 \n
 Agenda https://datatracker.ietf.org/meeting/101/materials/agenda-101-teas-04\n
 \n
 Session materials: https://datatracker.ietf.org/meeting/101/session/teas\n
 \n
 See in schedule: https://datatracker.ietf.org/meeting/101/agenda#row-101-2018-03-19-mon-0930-rtg-teas\n
END:VEVENT
BEGIN:VEVENT
UID:ietf-101-9866-lisp
SUMMARY:lisp - Locator/ID Separation Protocol
LOCATION:Palace C
STATUS:CONFIRMED
CLASS:PUBLIC
DTSTART;TZID=Europe/London:20180319T133000
DTEND;TZID=Europe/London:20180319T153000
DTSTAMP:20180211T084521Z
URL:https://datatracker.ietf.org/meeting/101/materials/agenda-101-lisp-07
DESCRIPTION:Afternoon Session I\n
 \n
 Meetecho: http://www.meetecho.com/ietf101/lisp/\n
 \n
 Agenda https://datatracker.ietf.org/meeting/101/materials/agenda-101-lisp-07\n
 \n
 Session materials: https://datatracker.ietf.org/meeting/101/session/lisp\n
 \n
 See in schedule: https://datatracker.ietf.org/meeting/101/agenda#row-101-2018-03-19-mon-1330-rtg-lisp\n
END:VEVENT
BEGIN:VEVENT
UID:ietf-101-9863-lsvr
SUMMARY:lsvr - Link State Vector Routing
LOCATION:Balmoral
STATUS:CONFIRMED
CLASS:PUBLIC
DTSTART;TZID=Europe/London:20180319T133000
DTEND;TZID=Europe/London:20180319T153000
DTSTAMP:20180211T084521Z
URL:https://datatracker.ietf.org/meeting/101/materials/agenda-101-lsvr-01
DESCRIPTION:Afternoon Session I\n
 \n
 Meetecho: http://www.meetecho.com/ietf101/lsvr/\n
 \n
 Agenda https://datatracker.ietf.org/meeting/101/materials/agenda-101-lsvr-01\n
 \n
 Session materials: https://datatracker.ietf.org/meeting/101/session/lsvr\n
 \n
 See in schedule: https://datatracker.ietf.org/meeting/101/agenda#row-101-2018-03-19-mon-1330-rtg-lsvr\n
END:VEVENT
BEGIN:VEVENT
UID:ietf-101-9857-idr
SUMMARY:idr - Inter-Domain Routing
LOCATION:Buckingham
STATUS:CONFIRMED
CLASS:PUBLIC
DTSTART;TZID=Europe/London:20180319T155000
DTEND;TZID=Europe/London:20180319T172000
DTSTAMP:20180216T101730Z
URL:https://datatracker.ietf.org/meeting/101/materials/agenda-101-idr-02
DESCRIPTION:Afternoon Session II\n
 \n
 Meetecho: http://www.meetecho.com/ietf101/idr/\n
 \n
 Agenda https://datatracker.ietf.org/meeting/101/materials/agenda-101-idr-02\n
 \n
 Session materials: https://datatracker.ietf.org/meeting/101/session/idr\n
 \n
 See in schedule: https://datatracker.ietf.org/meeting/101/agenda#row-101-2018-03-19-mon-1550-rtg-idr\n
END:VEVENT
BEGIN:VEVENT
UID:ietf-101-9859-pals
SUMMARY:pals - Pseudowire And LDP-enabled Services
LOCATION:Park Suite
STATUS:CONFIRMED
CLASS:PUBLIC
DTSTART;TZID=Europe/London:20180319T155000
DTEND;TZID=Europe/London:20180319T172000
DTSTAMP:20180216T101730Z
URL:https://datatracker.ietf.org/meeting/101/materials/agenda-101-pals-02
DESCRIPTION:Afternoon Session II\n
 \n
 Meetecho: http://www.meetecho.com/ietf101/pals/\n
 \n
 Agenda https://datatracker.ietf.org/meeting/101/materials/agenda-101-pals-02\n
 \n
 Session materials: https://datatracker.ietf.org/meeting/101/session/pals\n
 \n
 See in schedule: https://datatracker.ietf.org/meeting/101/agenda#row-101-2018-03-19-mon-1550-rtg-pals\n
END:VEVENT
BEGIN:VEVENT
UID:ietf-101-9849-ccamp
SUMMARY:ccamp - Common Control and Measurement Plane (Joint session with MANET)
LOCATION:Buckingham
STATUS:CONFIRMED
CLASS:PUBLIC
DTSTART;TZID=Europe/London:20180319T174000
DTEND;TZID=Europe/London:20180319T184000
DTSTAMP:20180211T084520Z
URL:https://datatracker.ietf.org/meeting/101/materials/agenda-101-ccamp-11
DESCRIPTION:Afternoon Session III\n
 Note: Joint session with MANET\n
 \n
 Meetecho: http://www.meetecho.com/ietf101/ccamp/\n
 \n
 Agenda https://datatracker.ietf.org/meeting/101/materials/agenda-101-ccamp-11\n
 \n
 Session materials: https://datatracker.ietf.org/meeting/101/session/ccamp\n
 \n
 See in schedule: https://datatracker.ietf.org/meeting/101/agenda#row-101-2018-03-19-mon-1740-rtg-ccamp\n
END:VEVENT
BEGIN:VEVENT
UID:ietf-101-9850-trill
SUMMARY:trill - Transparent Interconnection of Lots of Links
LOCATION:Palace C
STATUS:CONFIRMED
CLASS:PUBLIC
DTSTART;TZID=Europe/London:20180319T174000
DTEND;TZID=Europe/London:20180319T184000
DTSTAMP:20180211T084520Z
URL:https://datatracker.ietf.org/meeting/101/materials/agenda-101-trill-01
DESCRIPTION:Afternoon Session III\n
 \n
 Meetecho: http://www.meetecho.com/ietf101/trill/\n
 \n
 Agenda https://datatracker.ietf.org/meeting/101/materials/agenda-101-trill-01\n
 \n
 Session materials: https://datatracker.ietf.org/meeting/101/session/trill\n
 \n
 See in schedule: https://datatracker.ietf.org/meeting/101/agenda#row-101-2018-03-19-mon-1740-rtg-trill\n
END:VEVENT
BEGIN:VEVENT
UID:ietf-101-9843-pim
SUMMARY:pim - Protocols for IP Multicast (Joint session with MBONED)
LOCATION:Park Suite
STATUS:CONFIRMED
CLASS:PUBLIC
DTSTART;TZID=Europe/London:20180320T093000
DTEND;TZID=Europe/London:20180320T120000
DTSTAMP:20180211T084520Z
URL:https://datatracker.ietf.org/meeting/101/materials/agenda-101-pim-06
DESCRIPTION:Morning Session I\n
 Note: Joint session with MBONED\n
 \n
 Meetecho: http://www.meetecho.com/ietf101/pim/\n
 \n
 Agenda https://datatracker.ietf.org/meeting/101/materials/agenda-101-pim-06\n
 \n
 Session materials: https://datatracker.ietf.org/meeting/101/session/pim\n
 \n
 See in schedule: https://datatracker.ietf.org/meeting/101/agenda#row-101-2018-03-20-tue-0930-rtg-pim\n
END:VEVENT
BEGIN:VEVENT
UID:ietf-101-9839-rtgwg
SUMMARY:rtgwg - Routing Area Working Group
LOCATION:Balmoral
STATUS:CONFIRMED
CLASS:PUBLIC
DTSTART;TZID=Europe/London:20180320T093000
DTEND;TZID=Europe/London:20180320T120000
DTSTAMP:20180211T084520Z
URL:https://datatracker.ietf.org/meeting/101/materials/agenda-101-rtgwg-08
DESCRIPTION:Morning Session I\n
 \n
 Meetecho: http://www.meetecho.com/ietf101/rtgwg/\n
 \n
 Agenda https://datatracker.ietf.org/meeting/101/materials/agenda-101-rtgwg-08\n
 \n
 Session materials: https://datatracker.ietf.org/meeting/101/session/rtgwg\n
 \n
 See in schedule: https://datatracker.ietf.org/meeting/101/agenda#row-101-2018-03-20-tue-0930-rtg-rtgwg\n
END:VEVENT
BEGIN:VEVENT
UID:ietf-101-9832-pce
SUMMARY:pce - Path Computation Element
LOCATION:Blenheim
STATUS:CONFIRMED
CLASS:PUBLIC
DTSTART;TZID=Europe/London:20180320T133000
DTEND;TZID=Europe/London:20180320T153000
DTSTAMP:20180211T084520Z
URL:https://datatracker.ietf.org/meeting/101/materials/agenda-101-pce-14
DESCRIPTION:Afternoon Session I\n
 \n
 Meetecho: http://www.meetecho.com/ietf101/pce/\n
 \n
 Agenda https://datatracker.ietf.org/meeting/101/materials/agenda-101-pce-14\n
 \n
 Session materials: https://datatracker.ietf.org/meeting/101/session/pce\n
 \n
 See in schedule: https://datatracker.ietf.org/meeting/101/agenda#row-101-2018-03-20-tue-1330-rtg-pce\n
END:VEVENT
BEGIN:VEVENT
UID:ietf-101-9836-rift
SUMMARY:rift - Routing In Fat Trees
LOCATION:Richmond/Chelsea/Tower
STATUS:CONFIRMED
CLASS:PUBLIC
DTSTART;TZID=Europe/London:20180320T133000
DTEND;TZID=Europe/London:20180320T153000
DTSTAMP:20180211T084520Z
URL:https://datatracker.ietf.org/meeting/101/materials/agenda-101-rift-02
DESCRIPTION:Afternoon Session I\n
 \n
 Meetecho: http://www.meetecho.com/ietf101/rift/\n
 \n
 Agenda https://datatracker.ietf.org/meeting/101/materials/agenda-101-rift-02\n
 \n
 Session materials: https://datatracker.ietf.org/meeting/101/session/rift\n
 \n
 See in schedule: https://datatracker.ietf.org/meeting/101/agenda#row-101-2018-03-20-tue-1330-rtg-rift\n
END:VEVENT
BEGIN:VEVENT
UID:ietf-101-9881-bess
SUMMARY:bess - BGP Enabled ServiceS
LOCATION:Buckingham
STATUS:CONFIRMED
CLASS:PUBLIC
DTSTART;TZID=Europe/London:20180320T155000
DTEND;TZID=Europe/London:20180320T182000
DTSTAMP:20180216T101950Z
URL:https://datatracker.ietf.org/meeting/101/materials/agenda-101-bess-02
DESCRIPTION:Afternoon Session II\n
 \n
 Meetecho: http://www.meetecho.com/ietf101/bess/\n
 \n
 Agenda https://datatracker.ietf.org/meeting/101/materials/agenda-101-bess-02\n
 \n
 Session materials: https://datatracker.ietf.org/meeting/101/session/bess\n
 \n
 See in schedule: https://datatracker.ietf.org/meeting/101/agenda#row-101-2018-03-20-tue-1550-rtg-bess\n
END:VEVENT
BEGIN:VEVENT
UID:ietf-101-9817-ccamp
SUMMARY:ccamp - Common Control and Measurement Plane (Moved from Monday 0930)
LOCATION:Buckingham
STATUS:CONFIRMED
CLASS:PUBLIC
DTSTART;TZID=Europe/London:20180321T093000
DTEND;TZID=Europe/London:20180321T120000
DTSTAMP:20180211T084520Z
URL:https://datatracker.ietf.org/meeting/101/materials/agenda-101-ccamp-11
DESCRIPTION:Morning Session I\n
 Note: Moved from Monday 0930\n
 \n
 Meetecho: http://www.meetecho.com/ietf101/ccamp/\n
 \n
 Agenda https://datatracker.ietf.org/meeting/101/materials/agenda-101-ccamp-11\n
 \n
 Session materials: https://datatracker.ietf.org/meeting/101/session/ccamp\n
 \n
 See in schedule: https://datatracker.ietf.org/meeting/101/agenda#row-101-2018-03-21-wed-0930-rtg-ccamp\n
END:VEVENT
BEGIN:VEVENT
UID:ietf-101-9820-lsr
SUMMARY:lsr - Link State Routing
LOCATION:Richmond/Chelsea/Tower
STATUS:CONFIRMED
CLASS:PUBLIC
DTSTART;TZID=Europe/London:20180321T093000
DTEND;TZID=Europe/London:20180321T120000
DTSTAMP:20180211T084520Z
URL:https://datatracker.ietf.org/meeting/101/materials/agenda-101-lsr-05
DESCRIPTION:Morning Session I\n
 \n
 Meetecho: http://www.meetecho.com/ietf101/lsr/\n
 \n
 Agenda https://datatracker.ietf.org/meeting/101/materials/agenda-101-lsr-05\n
 \n
 Session materials: https://datatracker.ietf.org/meeting/101/session/lsr\n
 \n
 See in schedule: https://datatracker.ietf.org/meeting/101/agenda#row-101-2018-03-21-wed-0930-rtg-lsr\n
END:VEVENT
BEGIN:VEVENT
UID:ietf-101-9815-sfc
SUMMARY:sfc - Service Function Chaining
LOCATION:Balmoral
STATUS:CONFIRMED
CLASS:PUBLIC
DTSTART;TZID=Europe/London:20180321T093000
DTEND;TZID=Europe/London:20180321T120000
DTSTAMP:20180211T084520Z
URL:https://datatracker.ietf.org/meeting/101/materials/agenda-101-sfc-02
DESCRIPTION:Morning Session I\n
 \n
 Meetecho: http://www.meetecho.com/ietf101/sfc/\n
 \n
 Agenda https://datatracker.ietf.org/meeting/101/materials/agenda-101-sfc-02\n
 \n
 Session materials: https://datatracker.ietf.org/meeting/101/session/sfc\n
 \n
 See in schedule: https://datatracker.ietf.org/meeting/101/agenda#row-101-2018-03-21-wed-0930-rtg-sfc\n
END:VEVENT
BEGIN:VEVENT
UID:ietf-101-9809-bfd
SUMMARY:bfd - Bidirectional Forwarding Detection
LOCATION:Buckingham
STATUS:CONFIRMED
CLASS:PUBLIC
DTSTART;TZID=Europe/London:20180321T133000
DTEND;TZID=Europe/London:20180321T150000
DTSTAMP:20180211T084520Z
URL:https://datatracker.ietf.org/meeting/101/materials/agenda-101-bfd-02
DESCRIPTION:Afternoon Session I\n
 \n
 Meetecho: http://www.meetecho.com/ietf101/bfd/\n
 \n
 Agenda https://datatracker.ietf.org/meeting/101/materials/agenda-101-bfd-02\n
 \n
 Session materials: https://datatracker.ietf.org/meeting/101/session/bfd\n
 \n
 See in schedule: https://datatracker.ietf.org/meeting/101/agenda#row-101-2018-03-21-wed-1330-rtg-bfd\n
END:VEVENT
BEGIN:VEVENT
UID:ietf-101-9812-bier
SUMMARY:bier - Bit Indexed Explicit Replication
LOCATION:Richmond/Chelsea/Tower
STATUS:CONFIRMED
CLASS:PUBLIC
DTSTART;TZID=Europe/London:20180321T133000
DTEND;TZID=Europe/London:20180321T150000
DTSTAMP:20180211T084520Z
URL:https://datatracker.ietf.org/meeting/101/materials/agenda-101-bier-00
DESCRIPTION:Afternoon Session I\n
 \n
 Meetecho: http://www.meetecho.com/ietf101/bier/\n
 \n
 Agenda https://datatracker.ietf.org/meeting/101/materials/agenda-101-bier-00\n
 \n
 Session materials: https://datatracker.ietf.org/meeting/101/session/bier\n
 \n
 See in schedule: https://datatracker.ietf.org/meeting/101/agenda#row-101-2018-03-21-wed-1330-rtg-bier\n
END:VEVENT
BEGIN:VEVENT
UID:ietf-101-9800-nvo3
SUMMARY:nvo3 - Network Virtualization Overlays
LOCATION:Blenheim
STATUS:CONFIRMED
CLASS:PUBLIC
DTSTART;TZID=Europe/London:20180321T152000
DTEND;TZID=Europe/London:20180321T165000
DTSTAMP:20180211T084520Z
URL:https://datatracker.ietf.org/meeting/101/materials/agenda-101-nvo3-01
DESCRIPTION:Afternoon Session II\n
 \n
 Meetecho: http://www.meetecho.com/ietf101/nvo3/\n
 \n
 Agenda https://datatracker.ietf.org/meeting/101/materials/agenda-101-nvo3-01\n
 \n
 Session materials: https://datatracker.ietf.org/meeting/101/session/nvo3\n
 \n
 See in schedule: https://datatracker.ietf.org/meeting/101/agenda#row-101-2018-03-21-wed-1520-rtg-nvo3\n
END:VEVENT
BEGIN:VEVENT
UID:ietf-101-9792-mpls
SUMMARY:mpls - Multiprotocol Label Switching
LOCATION:Blenheim
STATUS:CONFIRMED
CLASS:PUBLIC
DTSTART;TZID=Europe/London:20180322T093000
DTEND;TZID=Europe/London:20180322T120000
DTSTAMP:20180211T084520Z
URL:https://datatracker.ietf.org/meeting/101/materials/agenda-101-mpls-02
DESCRIPTION:Morning Session I\n
 \n
 Meetecho: http://www.meetecho.com/ietf101/mpls/\n
 \n
 Agenda https://datatracker.ietf.org/meeting/101/materials/agenda-101-mpls-02\n
 \n
 Session materials: https://datatracker.ietf.org/meeting/101/session/mpls\n
 \n
 See in schedule: https://datatracker.ietf.org/meeting/101/agenda#row-101-2018-03-22-thu-0930-rtg-mpls\n
END:VEVENT
BEGIN:VEVENT
UID:ietf-101-9795-roll
SUMMARY:roll - Routing Over Low power and Lossy networks
LOCATION:Park Suite
STATUS:CONFIRMED
CLASS:PUBLIC
DTSTART;TZID=Europe/London:20180322T093000
DTEND;TZID=Europe/London:20180322T120000
DTSTAMP:20180211T084520Z
URL:https://datatracker.ietf.org/meeting/101/materials/agenda-101-roll-02
DESCRIPTION:Morning Session I\n
 \n
 Meetecho: http://www.meetecho.com/ietf101/roll/\n
 \n
 Agenda https://datatracker.ietf.org/meeting/101/materials/agenda-101-roll-02\n
 \n
 Session materials: https://datatracker.ietf.org/meeting/101/session/roll\n
 \n
 See in schedule: https://datatracker.ietf.org/meeting/101/agenda#row-101-2018-03-22-thu-0930-rtg-roll\n
END:VEVENT
BEGIN:VEVENT
UID:ietf-101-9783-rtgwg
SUMMARY:rtgwg - Routing Area Working Group
LOCATION:Balmoral
STATUS:CONFIRMED
CLASS:PUBLIC
DTSTART;TZID=Europe/London:20180322T133000
DTEND;TZID=Europe/London:20180322T153000
DTSTAMP:20180211T084520Z
URL:https://datatracker.ietf.org/meeting/101/materials/agenda-101-rtgwg-08
DESCRIPTION:Afternoon Session I\n
 \n
 Meetecho: http://www.meetecho.com/ietf101/rtgwg/\n
 \n
 Agenda https://datatracker.ietf.org/meeting/101/materials/agenda-101-rtgwg-08\n
 \n
 Session materials: https://datatracker.ietf.org/meeting/101/session/rtgwg\n
 \n
 See in schedule: https://datatracker.ietf.org/meeting/101/agenda#row-101-2018-03-22-thu-1330-rtg-rtgwg\n
END:VEVENT
BEGIN:VEVENT
UID:ietf-101-9781-rtgarea
SUMMARY:rtgarea - Routing Area Open Meeting
LOCATION:Sandringham
STATUS:CONFIRMED
CLASS:PUBLIC
DTSTART;TZID=Europe/London:20180322T155000
DTEND;TZID=Europe/London:20180322T175000
DTSTAMP:20180211T084520Z
URL:https://datatracker.ietf.org/meeting/101/materials/agenda-101-rtgarea-01
DESCRIPTION:Afternoon Session II\n
 \n
 Meetecho: http://www.meetecho.com/ietf101/rtgarea/\n
 \n
 Agenda https://datatracker.ietf.org/meeting/101/materials/agenda-101-rtgarea-01\n
 \n
 Session materials: https://datatracker.ietf.org/meeting/101/session/rtgarea\n
 \n
 See in schedule: https://datatracker.ietf.org/meeting/101/agenda#row-101-2018-03-22-thu-1550-rtg-rtgarea\n
END:VEVENT
BEGIN:VEVENT
UID:ietf-101-9771-babel
SUMMARY:babel - Babel routing protocol
LOCATION:Park Suite
STATUS:CONFIRMED
CLASS:PUBLIC
DTSTART;TZID=Europe/London:20180322T181000
DTEND;TZID=Europe/London:20180322T191000
DTSTAMP:20180211T084520Z
URL:https://datatracker.ietf.org/meeting/101/materials/agenda-101-babel-02
DESCRIPTION:Afternoon Session III\n
 \n
 Meetecho: http://www.meetecho.com/ietf101/babel/\n
 \n
 Agenda https://datatracker.ietf.org/meeting/101/materials/agenda-101-babel-02\n
 \n
 Session materials: https://datatracker.ietf.org/meeting/101/session/babel\n
 \n
 See in schedule: https://datatracker.ietf.org/meeting/101/agenda#row-101-2018-03-22-thu-1810-rtg-babel\n
END:VEVENT
BEGIN:VEVENT
UID:ietf-101-9760-detnet
SUMMARY:detnet - Deterministic Networking
LOCATION:Blenheim
STATUS:CONFIRMED
CLASS:PUBLIC
DTSTART;TZID=Europe/London:20180323T093000
DTEND;TZID=Europe/London:20180323T113000
DTSTAMP:20180211T084520Z
URL:https://datatracker.ietf.org/meeting/101/materials/agenda-101-detnet-05
DESCRIPTION:Morning Session I\n
 \n
 Meetecho: http://www.meetecho.com/ietf101/detnet/\n
 \n
 Agenda https://datatracker.ietf.org/meeting/101/materials/agenda-101-detnet-05\n
 \n
 Session materials: https://datatracker.ietf.org/meeting/101/session/detnet\n
 \n
 See in schedule: https://datatracker.ietf.org/meeting/101/agenda#row-101-2018-03-23-fri-0930-rtg-detnet\n
END:VEVENT
BEGIN:VEVENT
UID:ietf-101-9766-roll
SUMMARY:roll - Routing Over Low power and Lossy networks
LOCATION:Viscount
STATUS:CONFIRMED
CLASS:PUBLIC
DTSTART;TZID=Europe/London:20180323T093000
DTEND;TZID=Europe/London:20180323T113000
DTSTAMP:20180211T084520Z
URL:https://datatracker.ietf.org/meeting/101/materials/agenda-101-roll-02
DESCRIPTION:Morning Session I\n
 \n
 Meetecho: http://www.meetecho.com/ietf101/roll/\n
 \n
 Agenda https://datatracker.ietf.org/meeting/101/materials/agenda-101-roll-02\n
 \n
 Session materials: https://datatracker.ietf.org/meeting/101/session/roll\n
 \n
 See in schedule: https://datatracker.ietf.org/meeting/101/agenda#row-101-2018-03-23-fri-0930-rtg-roll\n
END:VEVENT
BEGIN:VEVENT
UID:ietf-101-9752-detnet
SUMMARY:detnet - Deterministic Networking (1150 - 1430)
LOCATION:Blenheim
STATUS:CONFIRMED
CLASS:PUBLIC
DTSTART;TZID=Europe/London:20180323T115000
DTEND;TZID=Europe/London:20180323T132000
DTSTAMP:20180211T084520Z
URL:https://datatracker.ietf.org/meeting/101/materials/agenda-101-detnet-05
DESCRIPTION:Afternoon Session I\n
 Note: 1150 - 1430\n
 \n
 Meetecho: http://www.meetecho.com/ietf101/detnet/\n
 \n
 Agenda https://datatracker.ietf.org/meeting/101/materials/agenda-101-detnet-05\n
 \n
 Session materials: https://datatracker.ietf.org/meeting/101/session/detnet\n
 \n
 See in schedule: https://datatracker.ietf.org/meeting/101/agenda#row-101-2018-03-23-fri-1150-rtg-detnet\n
END:VEVENT
BEGIN:VEVENT
UID:ietf-101-9758-spring
SUMMARY:spring - Source Packet Routing in Networking
LOCATION:Viscount
STATUS:CONFIRMED
CLASS:PUBLIC
DTSTART;TZID=Europe/London:20180323T115000
DTEND;TZID=Europe/London:20180323T132000
DTSTAMP:20180211T084520Z
URL:https://datatracker.ietf.org/meeting/101/materials/agenda-101-spring-00
DESCRIPTION:Afternoon Session I\n
 \n
 Meetecho: http://www.meetecho.com/ietf101/spring/\n
 \n
 Agenda https://datatracker.ietf.org/meeting/101/materials/agenda-101-spring-00\n
 \n
 Session materials: https://datatracker.ietf.org/meeting/101/session/spring\n
 \n
 See in schedule: https://datatracker.ietf.org/meeting/101/agenda#row-101-2018-03-23-fri-1150-rtg-spring\n
END:VEVENT
END:VCALENDAR
