BEGIN:VCALENDAR
VERSION:2.0
METHOD:PUBLISH
PRODID:-//IETF//datatracker.ietf.org ical agenda//EN
BEGIN:VTIMEZONE
TZID:Europe/London
X-LIC-LOCATION:Europe/London
BEGIN:DAYLIGHT
TZOFFSETFROM:+0000
TZOFFSETTO:+0100
TZNAME:BST
DTSTART:19810329T010000
RRULE:FREQ=YEARLY;BYMONTH=3;BYDAY=-1SU
END:DAYLIGHT
BEGIN:STANDARD
TZOFFSETFROM:+0100
TZOFFSETTO:+0000
TZNAME:GMT
DTSTART:19961027T020000
RRULE:FREQ=YEARLY;BYMONTH=10;BYDAY=-1SU
END:STANDARD
BEGIN:STANDARD
TZOFFSETFROM:-000115
TZOFFSETTO:+0000
TZNAME:GMT
DTSTART:18471201T000000
RDATE:18471201T000000
END:STANDARD
BEGIN:DAYLIGHT
TZOFFSETFROM:+0000
TZOFFSETTO:+0100
TZNAME:BST
DTSTART:19160521T020000
RDATE:19160521T020000
RDATE:19170408T020000
RDATE:19180324T020000
RDATE:19190330T020000
RDATE:19200328T020000
RDATE:19210403T020000
RDATE:19220326T020000
RDATE:19230422T020000
RDATE:19240413T020000
RDATE:19250419T020000
RDATE:19260418T020000
RDATE:19270410T020000
RDATE:19280422T020000
RDATE:19290421T020000
RDATE:19300413T020000
RDATE:19310419T020000
RDATE:19320417T020000
RDATE:19330409T020000
RDATE:19340422T020000
RDATE:19350414T020000
RDATE:19360419T020000
RDATE:19370418T020000
RDATE:19380410T020000
RDATE:19390416T020000
RDATE:19400225T020000
RDATE:19460414T020000
RDATE:19470316T020000
RDATE:19480314T020000
RDATE:19490403T020000
RDATE:19500416T020000
RDATE:19510415T020000
RDATE:19520420T020000
RDATE:19530419T020000
RDATE:19540411T020000
RDATE:19550417T020000
RDATE:19560422T020000
RDATE:19570414T020000
RDATE:19580420T020000
RDATE:19590419T020000
RDATE:19600410T020000
RDATE:19610326T020000
RDATE:19620325T020000
RDATE:19630331T020000
RDATE:19640322T020000
RDATE:19650321T020000
RDATE:19660320T020000
RDATE:19670319T020000
RDATE:19680218T020000
RDATE:19720319T020000
RDATE:19730318T020000
RDATE:19740317T020000
RDATE:19750316T020000
RDATE:19760321T020000
RDATE:19770320T020000
RDATE:19780319T020000
RDATE:19790318T020000
RDATE:19800316T020000
END:DAYLIGHT
BEGIN:STANDARD
TZOFFSETFROM:+0100
TZOFFSETTO:+0000
TZNAME:GMT
DTSTART:19161001T030000
RDATE:19161001T030000
RDATE:19170917T030000
RDATE:19180930T030000
RDATE:19190929T030000
RDATE:19201025T030000
RDATE:19211003T030000
RDATE:19221008T030000
RDATE:19230916T030000
RDATE:19240921T030000
RDATE:19251004T030000
RDATE:19261003T030000
RDATE:19271002T030000
RDATE:19281007T030000
RDATE:19291006T030000
RDATE:19301005T030000
RDATE:19311004T030000
RDATE:19321002T030000
RDATE:19331008T030000
RDATE:19341007T030000
RDATE:19351006T030000
RDATE:19361004T030000
RDATE:19371003T030000
RDATE:19381002T030000
RDATE:19391119T030000
RDATE:19451007T030000
RDATE:19461006T030000
RDATE:19471102T030000
RDATE:19481031T030000
RDATE:19491030T030000
RDATE:19501022T030000
RDATE:19511021T030000
RDATE:19521026T030000
RDATE:19531004T030000
RDATE:19541003T030000
RDATE:19551002T030000
RDATE:19561007T030000
RDATE:19571006T030000
RDATE:19581005T030000
RDATE:19591004T030000
RDATE:19601002T030000
RDATE:19611029T030000
RDATE:19621028T030000
RDATE:19631027T030000
RDATE:19641025T030000
RDATE:19651024T030000
RDATE:19661023T030000
RDATE:19671029T030000
RDATE:19711031T030000
RDATE:19721029T030000
RDATE:19731028T030000
RDATE:19741027T030000
RDATE:19751026T030000
RDATE:19761024T030000
RDATE:19771023T030000
RDATE:19781029T030000
RDATE:19791028T030000
RDATE:19801026T030000
RDATE:19811025T020000
RDATE:19821024T020000
RDATE:19831023T020000
RDATE:19841028T020000
RDATE:19851027T020000
RDATE:19861026T020000
RDATE:19871025T020000
RDATE:19881023T020000
RDATE:19891029T020000
RDATE:19901028T020000
RDATE:19911027T020000
RDATE:19921025T020000
RDATE:19931024T020000
RDATE:19941023T020000
RDATE:19951022T020000
END:STANDARD
BEGIN:DAYLIGHT
TZOFFSETFROM:+0100
TZOFFSETTO:+0200
TZNAME:BDST
DTSTART:19410504T020000
RDATE:19410504T020000
RDATE:19420405T020000
RDATE:19430404T020000
RDATE:19440402T020000
RDATE:19450402T020000
RDATE:19470413T020000
END:DAYLIGHT
BEGIN:DAYLIGHT
TZOFFSETFROM:+0200
TZOFFSETTO:+0100
TZNAME:BST
DTSTART:19410810T030000
RDATE:19410810T030000
RDATE:19420809T030000
RDATE:19430815T030000
RDATE:19440917T030000
RDATE:19450715T030000
RDATE:19470810T030000
END:DAYLIGHT
BEGIN:STANDARD
TZOFFSETFROM:+0100
TZOFFSETTO:+0100
TZNAME:BST
DTSTART:19681027T000000
RDATE:19681027T000000
END:STANDARD
BEGIN:STANDARD
TZOFFSETFROM:+0000
TZOFFSETTO:+0000
TZNAME:GMT
DTSTART:19960101T000000
RDATE:19960101T000000
END:STANDARD
END:VTIMEZONE
BEGIN:VEVENT
UID:ietf-101-9871-ace
SUMMARY:ace - Authentication and Authorization for Constrained Environments
LOCATION:Balmoral
STATUS:CONFIRMED
CLASS:PUBLIC
DTSTART;TZID=Europe/London:20180319T093000
DTEND;TZID=Europe/London:20180319T120000
DTSTAMP:20180211T084521Z
URL:https://datatracker.ietf.org/meeting/101/materials/agenda-101-ace-01
DESCRIPTION:Morning Session I\n
 \n
 Meetecho: http://www.meetecho.com/ietf101/ace/\n
 \n
 Agenda https://datatracker.ietf.org/meeting/101/materials/agenda-101-ace-01\n
 \n
 Session materials: https://datatracker.ietf.org/meeting/101/session/ace\n
 \n
 See in schedule: https://datatracker.ietf.org/meeting/101/agenda#row-101-2018-03-19-mon-0930-sec-ace\n
END:VEVENT
BEGIN:VEVENT
UID:ietf-101-9865-suit
SUMMARY:suit - Software Updates for Internet of Things
LOCATION:Buckingham
STATUS:CONFIRMED
CLASS:PUBLIC
DTSTART;TZID=Europe/London:20180319T133000
DTEND;TZID=Europe/London:20180319T153000
DTSTAMP:20180211T084521Z
URL:https://datatracker.ietf.org/meeting/101/materials/agenda-101-suit-01
DESCRIPTION:Afternoon Session I\n
 \n
 Meetecho: http://www.meetecho.com/ietf101/suit/\n
 \n
 Agenda https://datatracker.ietf.org/meeting/101/materials/agenda-101-suit-01\n
 \n
 Session materials: https://datatracker.ietf.org/meeting/101/session/suit\n
 \n
 See in schedule: https://datatracker.ietf.org/meeting/101/agenda#row-101-2018-03-19-mon-1330-sec-suit\n
END:VEVENT
BEGIN:VEVENT
UID:ietf-101-9860-emu
SUMMARY:emu - EAP Method Update
LOCATION:Richmond/Chelsea/Tower
STATUS:CONFIRMED
CLASS:PUBLIC
DTSTART;TZID=Europe/London:20180319T155000
DTEND;TZID=Europe/London:20180319T172000
DTSTAMP:20180216T101730Z
URL:https://datatracker.ietf.org/meeting/101/materials/agenda-101-emu-00
DESCRIPTION:Afternoon Session II\n
 \n
 Meetecho: http://www.meetecho.com/ietf101/emu/\n
 \n
 Agenda https://datatracker.ietf.org/meeting/101/materials/agenda-101-emu-00\n
 \n
 Session materials: https://datatracker.ietf.org/meeting/101/session/emu\n
 \n
 See in schedule: https://datatracker.ietf.org/meeting/101/agenda#row-101-2018-03-19-mon-1550-sec-emu\n
END:VEVENT
BEGIN:VEVENT
UID:ietf-101-9862-oauth
SUMMARY:oauth - Web Authorization Protocol
LOCATION:Viscount
STATUS:CONFIRMED
CLASS:PUBLIC
DTSTART;TZID=Europe/London:20180319T155000
DTEND;TZID=Europe/London:20180319T172000
DTSTAMP:20180216T101730Z
URL:https://datatracker.ietf.org/meeting/101/materials/agenda-101-oauth-sessa-01
DESCRIPTION:Afternoon Session II\n
 \n
 Meetecho: http://www.meetecho.com/ietf101/oauth/\n
 \n
 Agenda https://datatracker.ietf.org/meeting/101/materials/agenda-101-oauth-sessa-01\n
 \n
 Session materials: https://datatracker.ietf.org/meeting/101/session/oauth\n
 \n
 See in schedule: https://datatracker.ietf.org/meeting/101/agenda#row-101-2018-03-19-mon-1550-sec-oauth\n
END:VEVENT
BEGIN:VEVENT
UID:ietf-101-9847-tls
SUMMARY:tls - Transport Layer Security
LOCATION:Balmoral
STATUS:CONFIRMED
CLASS:PUBLIC
DTSTART;TZID=Europe/London:20180319T174000
DTEND;TZID=Europe/London:20180319T184000
DTSTAMP:20180211T084520Z
URL:https://datatracker.ietf.org/meeting/101/materials/agenda-101-tls-sessb-09
DESCRIPTION:Afternoon Session III\n
 \n
 Meetecho: http://www.meetecho.com/ietf101/tls/\n
 \n
 Agenda https://datatracker.ietf.org/meeting/101/materials/agenda-101-tls-sessb-09\n
 \n
 Session materials: https://datatracker.ietf.org/meeting/101/session/tls\n
 \n
 See in schedule: https://datatracker.ietf.org/meeting/101/agenda#row-101-2018-03-19-mon-1740-sec-tls\n
END:VEVENT
BEGIN:VEVENT
UID:ietf-101-9840-secdispatch
SUMMARY:secdispatch - Security Dispatch
LOCATION:Blenheim
STATUS:CONFIRMED
CLASS:PUBLIC
DTSTART;TZID=Europe/London:20180320T093000
DTEND;TZID=Europe/London:20180320T120000
DTSTAMP:20180211T084520Z
URL:https://datatracker.ietf.org/meeting/101/materials/agenda-101-secdispatch-03
DESCRIPTION:Morning Session I\n
 \n
 Meetecho: http://www.meetecho.com/ietf101/secdispatch/\n
 \n
 Agenda https://datatracker.ietf.org/meeting/101/materials/agenda-101-secdispatch-03\n
 \n
 Session materials: https://datatracker.ietf.org/meeting/101/session/secdispatch\n
 \n
 See in schedule: https://datatracker.ietf.org/meeting/101/agenda#row-101-2018-03-20-tue-0930-sec-secdispatch\n
END:VEVENT
BEGIN:VEVENT
UID:ietf-101-9831-teep
SUMMARY:teep - Trusted Execution Environment Provisioning
LOCATION:Balmoral
STATUS:CONFIRMED
CLASS:PUBLIC
DTSTART;TZID=Europe/London:20180320T133000
DTEND;TZID=Europe/London:20180320T153000
DTSTAMP:20180211T084520Z
URL:https://datatracker.ietf.org/meeting/101/materials/agenda-101-teep-00
DESCRIPTION:Afternoon Session I\n
 \n
 Meetecho: http://www.meetecho.com/ietf101/teep/\n
 \n
 Agenda https://datatracker.ietf.org/meeting/101/materials/agenda-101-teep-00\n
 \n
 Session materials: https://datatracker.ietf.org/meeting/101/session/teep\n
 \n
 See in schedule: https://datatracker.ietf.org/meeting/101/agenda#row-101-2018-03-20-tue-1330-sec-teep\n
END:VEVENT
BEGIN:VEVENT
UID:ietf-101-9889-dots
SUMMARY:dots - DDoS Open Threat Signaling
LOCATION:Viscount
STATUS:CONFIRMED
CLASS:PUBLIC
DTSTART;TZID=Europe/London:20180320T155000
DTEND;TZID=Europe/London:20180320T182000
DTSTAMP:20180216T101950Z
URL:https://datatracker.ietf.org/meeting/101/materials/agenda-101-dots-03
DESCRIPTION:Afternoon Session II\n
 \n
 Meetecho: http://www.meetecho.com/ietf101/dots/\n
 \n
 Agenda https://datatracker.ietf.org/meeting/101/materials/agenda-101-dots-03\n
 \n
 Session materials: https://datatracker.ietf.org/meeting/101/session/dots\n
 \n
 See in schedule: https://datatracker.ietf.org/meeting/101/agenda#row-101-2018-03-20-tue-1550-sec-dots\n
END:VEVENT
BEGIN:VEVENT
UID:ietf-101-9818-i2nsf
SUMMARY:i2nsf - Interface to Network Security Functions
LOCATION:Palace C
STATUS:CONFIRMED
CLASS:PUBLIC
DTSTART;TZID=Europe/London:20180321T093000
DTEND;TZID=Europe/London:20180321T120000
DTSTAMP:20180211T084520Z
URL:https://datatracker.ietf.org/meeting/101/materials/agenda-101-i2nsf-03
DESCRIPTION:Morning Session I\n
 \n
 Meetecho: http://www.meetecho.com/ietf101/i2nsf/\n
 \n
 Agenda https://datatracker.ietf.org/meeting/101/materials/agenda-101-i2nsf-03\n
 \n
 Session materials: https://datatracker.ietf.org/meeting/101/session/i2nsf\n
 \n
 See in schedule: https://datatracker.ietf.org/meeting/101/agenda#row-101-2018-03-21-wed-0930-sec-i2nsf\n
END:VEVENT
BEGIN:VEVENT
UID:ietf-101-9816-tls
SUMMARY:tls - Transport Layer Security
LOCATION:Blenheim
STATUS:CONFIRMED
CLASS:PUBLIC
DTSTART;TZID=Europe/London:20180321T093000
DTEND;TZID=Europe/London:20180321T120000
DTSTAMP:20180211T084520Z
URL:https://datatracker.ietf.org/meeting/101/materials/agenda-101-tls-sessb-09
DESCRIPTION:Morning Session I\n
 \n
 Meetecho: http://www.meetecho.com/ietf101/tls/\n
 \n
 Agenda https://datatracker.ietf.org/meeting/101/materials/agenda-101-tls-sessb-09\n
 \n
 Session materials: https://datatracker.ietf.org/meeting/101/session/tls\n
 \n
 See in schedule: https://datatracker.ietf.org/meeting/101/agenda#row-101-2018-03-21-wed-0930-sec-tls\n
END:VEVENT
BEGIN:VEVENT
UID:ietf-101-9811-oauth
SUMMARY:oauth - Web Authorization Protocol
LOCATION:Park Suite
STATUS:CONFIRMED
CLASS:PUBLIC
DTSTART;TZID=Europe/London:20180321T133000
DTEND;TZID=Europe/London:20180321T150000
DTSTAMP:20180211T084520Z
URL:https://datatracker.ietf.org/meeting/101/materials/agenda-101-oauth-sessa-01
DESCRIPTION:Afternoon Session I\n
 \n
 Meetecho: http://www.meetecho.com/ietf101/oauth/\n
 \n
 Agenda https://datatracker.ietf.org/meeting/101/materials/agenda-101-oauth-sessa-01\n
 \n
 Session materials: https://datatracker.ietf.org/meeting/101/session/oauth\n
 \n
 See in schedule: https://datatracker.ietf.org/meeting/101/agenda#row-101-2018-03-21-wed-1330-sec-oauth\n
END:VEVENT
BEGIN:VEVENT
UID:ietf-101-9801-acme
SUMMARY:acme - Automated Certificate Management Environment
LOCATION:Buckingham
STATUS:CONFIRMED
CLASS:PUBLIC
DTSTART;TZID=Europe/London:20180321T152000
DTEND;TZID=Europe/London:20180321T165000
DTSTAMP:20180211T084520Z
URL:https://datatracker.ietf.org/meeting/101/materials/agenda-101-acme-01
DESCRIPTION:Afternoon Session II\n
 \n
 Meetecho: http://www.meetecho.com/ietf101/acme/\n
 \n
 Agenda https://datatracker.ietf.org/meeting/101/materials/agenda-101-acme-01\n
 \n
 Session materials: https://datatracker.ietf.org/meeting/101/session/acme\n
 \n
 See in schedule: https://datatracker.ietf.org/meeting/101/agenda#row-101-2018-03-21-wed-1520-sec-acme\n
END:VEVENT
BEGIN:VEVENT
UID:ietf-101-9806-tokbind
SUMMARY:tokbind - Token Binding
LOCATION:Viscount
STATUS:CONFIRMED
CLASS:PUBLIC
DTSTART;TZID=Europe/London:20180321T152000
DTEND;TZID=Europe/London:20180321T165000
DTSTAMP:20180211T084520Z
URL:https://datatracker.ietf.org/meeting/101/materials/agenda-101-tokbind-00
DESCRIPTION:Afternoon Session II\n
 \n
 Meetecho: http://www.meetecho.com/ietf101/tokbind/\n
 \n
 Agenda https://datatracker.ietf.org/meeting/101/materials/agenda-101-tokbind-00\n
 \n
 Session materials: https://datatracker.ietf.org/meeting/101/session/tokbind\n
 \n
 See in schedule: https://datatracker.ietf.org/meeting/101/agenda#row-101-2018-03-21-wed-1520-sec-tokbind\n
END:VEVENT
BEGIN:VEVENT
UID:ietf-101-9796-sacm
SUMMARY:sacm - Security Automation and Continuous Monitoring
LOCATION:Richmond/Chelsea/Tower
STATUS:CONFIRMED
CLASS:PUBLIC
DTSTART;TZID=Europe/London:20180322T093000
DTEND;TZID=Europe/London:20180322T120000
DTSTAMP:20180211T084520Z
URL:https://datatracker.ietf.org/meeting/101/materials/agenda-101-sacm-02
DESCRIPTION:Morning Session I\n
 \n
 Meetecho: http://www.meetecho.com/ietf101/sacm/\n
 \n
 Agenda https://datatracker.ietf.org/meeting/101/materials/agenda-101-sacm-02\n
 \n
 Session materials: https://datatracker.ietf.org/meeting/101/session/sacm\n
 \n
 See in schedule: https://datatracker.ietf.org/meeting/101/agenda#row-101-2018-03-22-thu-0930-sec-sacm\n
END:VEVENT
BEGIN:VEVENT
UID:ietf-101-9789-saag
SUMMARY:saag - Security Area Open Meeting
LOCATION:Sandringham
STATUS:CONFIRMED
CLASS:PUBLIC
DTSTART;TZID=Europe/London:20180322T133000
DTEND;TZID=Europe/London:20180322T153000
DTSTAMP:20180211T084520Z
URL:https://datatracker.ietf.org/meeting/101/materials/agenda-101-saag-01
DESCRIPTION:Afternoon Session I\n
 \n
 Meetecho: http://www.meetecho.com/ietf101/saag/\n
 \n
 Agenda https://datatracker.ietf.org/meeting/101/materials/agenda-101-saag-01\n
 \n
 Session materials: https://datatracker.ietf.org/meeting/101/session/saag\n
 \n
 See in schedule: https://datatracker.ietf.org/meeting/101/agenda#row-101-2018-03-22-thu-1330-sec-saag\n
END:VEVENT
BEGIN:VEVENT
UID:ietf-101-9777-mls
SUMMARY:mls - Messaging Layer Security
LOCATION:Buckingham
STATUS:CONFIRMED
CLASS:PUBLIC
DTSTART;TZID=Europe/London:20180322T155000
DTEND;TZID=Europe/London:20180322T175000
DTSTAMP:20180211T084520Z
URL:https://datatracker.ietf.org/meeting/101/materials/agenda-101-mls-03
DESCRIPTION:Afternoon Session II\n
 \n
 Meetecho: http://www.meetecho.com/ietf101/mls/\n
 \n
 Agenda https://datatracker.ietf.org/meeting/101/materials/agenda-101-mls-03\n
 \n
 Session materials: https://datatracker.ietf.org/meeting/101/session/mls\n
 \n
 See in schedule: https://datatracker.ietf.org/meeting/101/agenda#row-101-2018-03-22-thu-1550-sec-mls\n
END:VEVENT
BEGIN:VEVENT
UID:ietf-101-9772-mile
SUMMARY:mile - Managed Incident Lightweight Exchange
LOCATION:Richmond/Chelsea/Tower
STATUS:CONFIRMED
CLASS:PUBLIC
DTSTART;TZID=Europe/London:20180322T181000
DTEND;TZID=Europe/London:20180322T191000
DTSTAMP:20180211T084520Z
URL:https://datatracker.ietf.org/meeting/101/materials/agenda-101-mile-02
DESCRIPTION:Afternoon Session III\n
 \n
 Meetecho: http://www.meetecho.com/ietf101/mile/\n
 \n
 Agenda https://datatracker.ietf.org/meeting/101/materials/agenda-101-mile-02\n
 \n
 Session materials: https://datatracker.ietf.org/meeting/101/session/mile\n
 \n
 See in schedule: https://datatracker.ietf.org/meeting/101/agenda#row-101-2018-03-22-thu-1810-sec-mile\n
END:VEVENT
BEGIN:VEVENT
UID:ietf-101-9763-secevent
SUMMARY:secevent - Security Events
LOCATION:Park Suite
STATUS:CONFIRMED
CLASS:PUBLIC
DTSTART;TZID=Europe/London:20180323T093000
DTEND;TZID=Europe/London:20180323T113000
DTSTAMP:20180211T084520Z
URL:https://datatracker.ietf.org/meeting/101/materials/agenda-101-secevent-00
DESCRIPTION:Morning Session I\n
 \n
 Meetecho: http://www.meetecho.com/ietf101/secevent/\n
 \n
 Agenda https://datatracker.ietf.org/meeting/101/materials/agenda-101-secevent-00\n
 \n
 Session materials: https://datatracker.ietf.org/meeting/101/session/secevent\n
 \n
 See in schedule: https://datatracker.ietf.org/meeting/101/agenda#row-101-2018-03-23-fri-0930-sec-secevent\n
END:VEVENT
BEGIN:VEVENT
UID:ietf-101-9755-ipsecme
SUMMARY:ipsecme - IP Security Maintenance and Extensions
LOCATION:Park Suite
STATUS:CONFIRMED
CLASS:PUBLIC
DTSTART;TZID=Europe/London:20180323T115000
DTEND;TZID=Europe/London:20180323T132000
DTSTAMP:20180211T084520Z
URL:https://datatracker.ietf.org/meeting/101/materials/agenda-101-ipsecme-02
DESCRIPTION:Afternoon Session I\n
 \n
 Meetecho: http://www.meetecho.com/ietf101/ipsecme/\n
 \n
 Agenda https://datatracker.ietf.org/meeting/101/materials/agenda-101-ipsecme-02\n
 \n
 Session materials: https://datatracker.ietf.org/meeting/101/session/ipsecme\n
 \n
 See in schedule: https://datatracker.ietf.org/meeting/101/agenda#row-101-2018-03-23-fri-1150-sec-ipsecme\n
END:VEVENT
BEGIN:VEVENT
UID:ietf-101-9756-lamps
SUMMARY:lamps - Limited Additional Mechanisms for PKIX and SMIME
LOCATION:Richmond/Chelsea/Tower
STATUS:CONFIRMED
CLASS:PUBLIC
DTSTART;TZID=Europe/London:20180323T115000
DTEND;TZID=Europe/London:20180323T132000
DTSTAMP:20180211T084520Z
URL:https://datatracker.ietf.org/meeting/101/materials/agenda-101-lamps-01
DESCRIPTION:Afternoon Session I\n
 \n
 Meetecho: http://www.meetecho.com/ietf101/lamps/\n
 \n
 Agenda https://datatracker.ietf.org/meeting/101/materials/agenda-101-lamps-01\n
 \n
 Session materials: https://datatracker.ietf.org/meeting/101/session/lamps\n
 \n
 See in schedule: https://datatracker.ietf.org/meeting/101/agenda#row-101-2018-03-23-fri-1150-sec-lamps\n
END:VEVENT
END:VCALENDAR
