BEGIN:VCALENDAR
VERSION:2.0
METHOD:PUBLISH
PRODID:-//IETF//datatracker.ietf.org ical agenda//EN
BEGIN:VTIMEZONE
TZID:America/Toronto
X-LIC-LOCATION:America/Toronto
BEGIN:DAYLIGHT
TZOFFSETFROM:-0500
TZOFFSETTO:-0400
TZNAME:EDT
DTSTART:20070311T020000
RRULE:FREQ=YEARLY;BYMONTH=3;BYDAY=2SU
END:DAYLIGHT
BEGIN:STANDARD
TZOFFSETFROM:-0400
TZOFFSETTO:-0500
TZNAME:EST
DTSTART:20071104T020000
RRULE:FREQ=YEARLY;BYMONTH=11;BYDAY=1SU
END:STANDARD
BEGIN:STANDARD
TZOFFSETFROM:-051732
TZOFFSETTO:-0500
TZNAME:EST
DTSTART:18950101T000000
RDATE:18950101T000000
END:STANDARD
BEGIN:DAYLIGHT
TZOFFSETFROM:-0500
TZOFFSETTO:-0400
TZNAME:EDT
DTSTART:19180414T020000
RDATE:19180414T020000
RDATE:19190330T233000
RDATE:19200502T020000
RDATE:19210515T020000
RDATE:19220514T020000
RDATE:19230513T020000
RDATE:19240504T020000
RDATE:19250503T020000
RDATE:19260502T020000
RDATE:19270501T020000
RDATE:19280429T020000
RDATE:19290428T020000
RDATE:19300427T020000
RDATE:19310426T020000
RDATE:19320501T020000
RDATE:19330430T020000
RDATE:19340429T020000
RDATE:19350428T020000
RDATE:19360426T020000
RDATE:19370425T020000
RDATE:19380424T020000
RDATE:19390430T020000
RDATE:19400428T020000
RDATE:19460428T020000
RDATE:19470427T000000
RDATE:19480425T000000
RDATE:19490424T000000
RDATE:19500430T020000
RDATE:19510429T020000
RDATE:19520427T020000
RDATE:19530426T020000
RDATE:19540425T020000
RDATE:19550424T020000
RDATE:19560429T020000
RDATE:19570428T020000
RDATE:19580427T020000
RDATE:19590426T020000
RDATE:19600424T020000
RDATE:19610430T020000
RDATE:19620429T020000
RDATE:19630428T020000
RDATE:19640426T020000
RDATE:19650425T020000
RDATE:19660424T020000
RDATE:19670430T020000
RDATE:19680428T020000
RDATE:19690427T020000
RDATE:19700426T020000
RDATE:19710425T020000
RDATE:19720430T020000
RDATE:19730429T020000
RDATE:19740428T020000
RDATE:19750427T020000
RDATE:19760425T020000
RDATE:19770424T020000
RDATE:19780430T020000
RDATE:19790429T020000
RDATE:19800427T020000
RDATE:19810426T020000
RDATE:19820425T020000
RDATE:19830424T020000
RDATE:19840429T020000
RDATE:19850428T020000
RDATE:19860427T020000
RDATE:19870405T020000
RDATE:19880403T020000
RDATE:19890402T020000
RDATE:19900401T020000
RDATE:19910407T020000
RDATE:19920405T020000
RDATE:19930404T020000
RDATE:19940403T020000
RDATE:19950402T020000
RDATE:19960407T020000
RDATE:19970406T020000
RDATE:19980405T020000
RDATE:19990404T020000
RDATE:20000402T020000
RDATE:20010401T020000
RDATE:20020407T020000
RDATE:20030406T020000
RDATE:20040404T020000
RDATE:20050403T020000
RDATE:20060402T020000
END:DAYLIGHT
BEGIN:STANDARD
TZOFFSETFROM:-0400
TZOFFSETTO:-0500
TZNAME:EST
DTSTART:19181027T020000
RDATE:19181027T020000
RDATE:19191026T000000
RDATE:19200926T000000
RDATE:19210915T020000
RDATE:19220917T020000
RDATE:19230916T020000
RDATE:19240921T020000
RDATE:19250920T020000
RDATE:19260919T020000
RDATE:19270925T020000
RDATE:19280930T020000
RDATE:19290929T020000
RDATE:19300928T020000
RDATE:19310927T020000
RDATE:19320925T020000
RDATE:19331001T020000
RDATE:19340930T020000
RDATE:19350929T020000
RDATE:19360927T020000
RDATE:19370926T020000
RDATE:19380925T020000
RDATE:19390924T020000
RDATE:19450930T020000
RDATE:19460929T020000
RDATE:19470928T000000
RDATE:19480926T000000
RDATE:19491127T000000
RDATE:19501126T020000
RDATE:19510930T020000
RDATE:19520928T020000
RDATE:19530927T020000
RDATE:19540926T020000
RDATE:19550925T020000
RDATE:19560930T020000
RDATE:19571027T020000
RDATE:19581026T020000
RDATE:19591025T020000
RDATE:19601030T020000
RDATE:19611029T020000
RDATE:19621028T020000
RDATE:19631027T020000
RDATE:19641025T020000
RDATE:19651031T020000
RDATE:19661030T020000
RDATE:19671029T020000
RDATE:19681027T020000
RDATE:19691026T020000
RDATE:19701025T020000
RDATE:19711031T020000
RDATE:19721029T020000
RDATE:19731028T020000
RDATE:19741027T020000
RDATE:19751026T020000
RDATE:19761031T020000
RDATE:19771030T020000
RDATE:19781029T020000
RDATE:19791028T020000
RDATE:19801026T020000
RDATE:19811025T020000
RDATE:19821031T020000
RDATE:19831030T020000
RDATE:19841028T020000
RDATE:19851027T020000
RDATE:19861026T020000
RDATE:19871025T020000
RDATE:19881030T020000
RDATE:19891029T020000
RDATE:19901028T020000
RDATE:19911027T020000
RDATE:19921025T020000
RDATE:19931031T020000
RDATE:19941030T020000
RDATE:19951029T020000
RDATE:19961027T020000
RDATE:19971026T020000
RDATE:19981025T020000
RDATE:19991031T020000
RDATE:20001029T020000
RDATE:20011028T020000
RDATE:20021027T020000
RDATE:20031026T020000
RDATE:20041031T020000
RDATE:20051030T020000
RDATE:20061029T020000
END:STANDARD
BEGIN:STANDARD
TZOFFSETFROM:-0500
TZOFFSETTO:-0500
TZNAME:EST
DTSTART:19190101T000000
RDATE:19190101T000000
RDATE:19460101T000000
RDATE:19740101T000000
END:STANDARD
BEGIN:DAYLIGHT
TZOFFSETFROM:-0400
TZOFFSETTO:-0400
TZNAME:EWT
DTSTART:19420209T020000
RDATE:19420209T020000
END:DAYLIGHT
BEGIN:DAYLIGHT
TZOFFSETFROM:-0400
TZOFFSETTO:-0400
TZNAME:EPT
DTSTART:19450814T190000
RDATE:19450814T190000
END:DAYLIGHT
END:VTIMEZONE
BEGIN:VEVENT
UID:ietf-102-10133-dispatch
SUMMARY:dispatch - Dispatch (Joint with ARTAREA)
LOCATION:Duluth
STATUS:CONFIRMED
CLASS:PUBLIC
DTSTART;TZID=America/Toronto:20180716T093000
DTEND;TZID=America/Toronto:20180716T120000
DTSTAMP:20180605T082908Z
URL:https://datatracker.ietf.org/meeting/102/materials/agenda-102-dispatch-03
DESCRIPTION:Morning Session I\n
 Note: Joint with ARTAREA\n
 \n
 Meetecho: http://www.meetecho.com/ietf102/dispatch/\n
 \n
 Agenda https://datatracker.ietf.org/meeting/102/materials/agenda-102-dispatch-03\n
 \n
 Session materials: https://datatracker.ietf.org/meeting/102/session/dispatch\n
 \n
 See in schedule: https://datatracker.ietf.org/meeting/102/agenda#row-102-2018-07-16-mon-0930-art-dispatch\n
END:VEVENT
BEGIN:VEVENT
UID:ietf-102-10127-i18nrp
SUMMARY:i18nrp - Internationalization Review Procedures (1430 - 1530)
LOCATION:Saint-Paul/Sainte-Catherine
STATUS:CONFIRMED
CLASS:PUBLIC
DTSTART;TZID=America/Toronto:20180716T133000
DTEND;TZID=America/Toronto:20180716T153000
DTSTAMP:20180605T082908Z
URL:https://datatracker.ietf.org/meeting/102/materials/agenda-102-i18nrp-02
DESCRIPTION:Afternoon Session I\n
 Note: 1430 - 1530\n
 \n
 Meetecho: http://www.meetecho.com/ietf102/i18nrp/\n
 \n
 Agenda https://datatracker.ietf.org/meeting/102/materials/agenda-102-i18nrp-02\n
 \n
 Session materials: https://datatracker.ietf.org/meeting/102/session/i18nrp\n
 \n
 See in schedule: https://datatracker.ietf.org/meeting/102/agenda#row-102-2018-07-16-mon-1330-art-i18nrp\n
END:VEVENT
BEGIN:VEVENT
UID:ietf-102-10128-jmap
SUMMARY:jmap - JSON Mail Access Protocol (1330 - 1430)
LOCATION:Notre Dame
STATUS:CONFIRMED
CLASS:PUBLIC
DTSTART;TZID=America/Toronto:20180716T133000
DTEND;TZID=America/Toronto:20180716T153000
DTSTAMP:20180605T082908Z
URL:https://datatracker.ietf.org/meeting/102/materials/agenda-102-jmap-02
DESCRIPTION:Afternoon Session I\n
 Note: 1330 - 1430\n
 \n
 Meetecho: http://www.meetecho.com/ietf102/jmap/\n
 \n
 Agenda https://datatracker.ietf.org/meeting/102/materials/agenda-102-jmap-02\n
 \n
 Session materials: https://datatracker.ietf.org/meeting/102/session/jmap\n
 \n
 See in schedule: https://datatracker.ietf.org/meeting/102/agenda#row-102-2018-07-16-mon-1330-art-jmap\n
END:VEVENT
BEGIN:VEVENT
UID:ietf-102-10120-avtcore
SUMMARY:avtcore - Audio/Video Transport Core Maintenance
LOCATION:Notre Dame
STATUS:CONFIRMED
CLASS:PUBLIC
DTSTART;TZID=America/Toronto:20180716T155000
DTEND;TZID=America/Toronto:20180716T175000
DTSTAMP:20180608T123255Z
URL:https://datatracker.ietf.org/meeting/102/materials/agenda-102-avtcore-00
DESCRIPTION:Afternoon Session II\n
 \n
 Meetecho: http://www.meetecho.com/ietf102/avtcore/\n
 \n
 Agenda https://datatracker.ietf.org/meeting/102/materials/agenda-102-avtcore-00\n
 \n
 Session materials: https://datatracker.ietf.org/meeting/102/session/avtcore\n
 \n
 See in schedule: https://datatracker.ietf.org/meeting/102/agenda#row-102-2018-07-16-mon-1550-art-avtcore\n
END:VEVENT
BEGIN:VEVENT
UID:ietf-102-10117-core
SUMMARY:core - Constrained RESTful Environments
LOCATION:Duluth
STATUS:CONFIRMED
CLASS:PUBLIC
DTSTART;TZID=America/Toronto:20180716T155000
DTEND;TZID=America/Toronto:20180716T175000
DTSTAMP:20180608T123255Z
URL:https://datatracker.ietf.org/meeting/102/materials/agenda-102-core-00
DESCRIPTION:Afternoon Session II\n
 \n
 Meetecho: http://www.meetecho.com/ietf102/core/\n
 \n
 Agenda https://datatracker.ietf.org/meeting/102/materials/agenda-102-core-00\n
 \n
 Session materials: https://datatracker.ietf.org/meeting/102/session/core\n
 \n
 See in schedule: https://datatracker.ietf.org/meeting/102/agenda#row-102-2018-07-16-mon-1550-art-core\n
END:VEVENT
BEGIN:VEVENT
UID:ietf-102-10118-regext
SUMMARY:regext - Registration Protocols Extensions
LOCATION:Van Horne
STATUS:CONFIRMED
CLASS:PUBLIC
DTSTART;TZID=America/Toronto:20180716T155000
DTEND;TZID=America/Toronto:20180716T175000
DTSTAMP:20180608T123255Z
URL:https://datatracker.ietf.org/meeting/102/materials/agenda-102-regext-00
DESCRIPTION:Afternoon Session II\n
 \n
 Meetecho: http://www.meetecho.com/ietf102/regext/\n
 \n
 Agenda https://datatracker.ietf.org/meeting/102/materials/agenda-102-regext-00\n
 \n
 Session materials: https://datatracker.ietf.org/meeting/102/session/regext\n
 \n
 See in schedule: https://datatracker.ietf.org/meeting/102/agenda#row-102-2018-07-16-mon-1550-art-regext\n
END:VEVENT
BEGIN:VEVENT
UID:ietf-102-10104-capport
SUMMARY:capport - Captive Portal Interaction
LOCATION:Notre Dame
STATUS:CONFIRMED
CLASS:PUBLIC
DTSTART;TZID=America/Toronto:20180717T093000
DTEND;TZID=America/Toronto:20180717T120000
DTSTAMP:20180605T082908Z
URL:https://datatracker.ietf.org/meeting/102/materials/agenda-102-capport-01
DESCRIPTION:Morning Session I\n
 \n
 Meetecho: http://www.meetecho.com/ietf102/capport/\n
 \n
 Agenda https://datatracker.ietf.org/meeting/102/materials/agenda-102-capport-01\n
 \n
 Session materials: https://datatracker.ietf.org/meeting/102/session/capport\n
 \n
 See in schedule: https://datatracker.ietf.org/meeting/102/agenda#row-102-2018-07-17-tue-0930-art-capport\n
END:VEVENT
BEGIN:VEVENT
UID:ietf-102-10094-cbor
SUMMARY:cbor - Concise Binary Object Representation Maintenance and Extensions
LOCATION:Van Horne
STATUS:CONFIRMED
CLASS:PUBLIC
DTSTART;TZID=America/Toronto:20180717T133000
DTEND;TZID=America/Toronto:20180717T153000
DTSTAMP:20180605T082908Z
URL:https://datatracker.ietf.org/meeting/102/materials/agenda-102-cbor-02
DESCRIPTION:Afternoon Session I\n
 \n
 Meetecho: http://www.meetecho.com/ietf102/cbor/\n
 \n
 Agenda https://datatracker.ietf.org/meeting/102/materials/agenda-102-cbor-02\n
 \n
 Session materials: https://datatracker.ietf.org/meeting/102/session/cbor\n
 \n
 See in schedule: https://datatracker.ietf.org/meeting/102/agenda#row-102-2018-07-17-tue-1330-art-cbor\n
END:VEVENT
BEGIN:VEVENT
UID:ietf-102-10092-regext
SUMMARY:regext - Registration Protocols Extensions (1330 - 1430)
LOCATION:Centre Ville
STATUS:CONFIRMED
CLASS:PUBLIC
DTSTART;TZID=America/Toronto:20180717T133000
DTEND;TZID=America/Toronto:20180717T153000
DTSTAMP:20180605T082908Z
URL:https://datatracker.ietf.org/meeting/102/materials/agenda-102-regext-00
DESCRIPTION:Afternoon Session I\n
 Note: 1330 - 1430\n
 \n
 Meetecho: http://www.meetecho.com/ietf102/regext/\n
 \n
 Agenda https://datatracker.ietf.org/meeting/102/materials/agenda-102-regext-00\n
 \n
 Session materials: https://datatracker.ietf.org/meeting/102/session/regext\n
 \n
 See in schedule: https://datatracker.ietf.org/meeting/102/agenda#row-102-2018-07-17-tue-1330-art-regext\n
END:VEVENT
BEGIN:VEVENT
UID:ietf-102-10092-rtcweb
SUMMARY:rtcweb - Real-Time Communication in WEB-browsers (1430 - 1530)
LOCATION:Centre Ville
STATUS:CONFIRMED
CLASS:PUBLIC
DTSTART;TZID=America/Toronto:20180717T133000
DTEND;TZID=America/Toronto:20180717T153000
DTSTAMP:20180605T082908Z
URL:https://datatracker.ietf.org/meeting/102/materials/agenda-102-rtcweb-00
DESCRIPTION:Afternoon Session I\n
 Note: 1430 - 1530\n
 \n
 Meetecho: http://www.meetecho.com/ietf102/rtcweb/\n
 \n
 Agenda https://datatracker.ietf.org/meeting/102/materials/agenda-102-rtcweb-00\n
 \n
 Session materials: https://datatracker.ietf.org/meeting/102/session/rtcweb\n
 \n
 See in schedule: https://datatracker.ietf.org/meeting/102/agenda#row-102-2018-07-17-tue-1330-art-rtcweb\n
END:VEVENT
BEGIN:VEVENT
UID:ietf-102-10081-httpbis
SUMMARY:httpbis - Hypertext Transfer Protocol
LOCATION:Place du Canada
STATUS:CONFIRMED
CLASS:PUBLIC
DTSTART;TZID=America/Toronto:20180717T155000
DTEND;TZID=America/Toronto:20180717T182000
DTSTAMP:20180605T082908Z
URL:https://datatracker.ietf.org/meeting/102/materials/agenda-102-httpbis-05
DESCRIPTION:Afternoon Session II\n
 \n
 Meetecho: http://www.meetecho.com/ietf102/httpbis/\n
 \n
 Agenda https://datatracker.ietf.org/meeting/102/materials/agenda-102-httpbis-05\n
 \n
 Session materials: https://datatracker.ietf.org/meeting/102/session/httpbis\n
 \n
 See in schedule: https://datatracker.ietf.org/meeting/102/agenda#row-102-2018-07-17-tue-1550-art-httpbis\n
END:VEVENT
BEGIN:VEVENT
UID:ietf-102-10066-httpbis
SUMMARY:httpbis - Hypertext Transfer Protocol
LOCATION:Laurier
STATUS:CONFIRMED
CLASS:PUBLIC
DTSTART;TZID=America/Toronto:20180718T133000
DTEND;TZID=America/Toronto:20180718T150000
DTSTAMP:20180605T082908Z
URL:https://datatracker.ietf.org/meeting/102/materials/agenda-102-httpbis-05
DESCRIPTION:Afternoon Session I\n
 \n
 Meetecho: http://www.meetecho.com/ietf102/httpbis/\n
 \n
 Agenda https://datatracker.ietf.org/meeting/102/materials/agenda-102-httpbis-05\n
 \n
 Session materials: https://datatracker.ietf.org/meeting/102/session/httpbis\n
 \n
 See in schedule: https://datatracker.ietf.org/meeting/102/agenda#row-102-2018-07-18-wed-1330-art-httpbis\n
END:VEVENT
BEGIN:VEVENT
UID:ietf-102-10062-stir
SUMMARY:stir - Secure Telephone Identity Revisited
LOCATION:Van Horne
STATUS:CONFIRMED
CLASS:PUBLIC
DTSTART;TZID=America/Toronto:20180718T152000
DTEND;TZID=America/Toronto:20180718T165000
DTSTAMP:20180605T082908Z
URL:https://datatracker.ietf.org/meeting/102/materials/agenda-102-stir-00
DESCRIPTION:Afternoon Session II\n
 \n
 Meetecho: http://www.meetecho.com/ietf102/stir/\n
 \n
 Agenda https://datatracker.ietf.org/meeting/102/materials/agenda-102-stir-00\n
 \n
 Session materials: https://datatracker.ietf.org/meeting/102/session/stir\n
 \n
 See in schedule: https://datatracker.ietf.org/meeting/102/agenda#row-102-2018-07-18-wed-1520-art-stir\n
END:VEVENT
BEGIN:VEVENT
UID:ietf-102-10055-dmarc
SUMMARY:dmarc - Domain-based Message Authentication, Reporting & Conformance (1100 - 1200)
LOCATION:Saint-Paul/Sainte-Catherine
STATUS:CANCELLED
CLASS:PUBLIC
DTSTART;TZID=America/Toronto:20180719T093000
DTEND;TZID=America/Toronto:20180719T120000
DTSTAMP:20180605T082908Z
DESCRIPTION:Morning Session I\n
 Note: 1100 - 1200\n
 \n
 Meetecho: http://www.meetecho.com/ietf102/dmarc/\n
 \n
 Session materials: https://datatracker.ietf.org/meeting/102/session/dmarc\n
 \n
 See in schedule: https://datatracker.ietf.org/meeting/102/agenda#row-102-2018-07-19-thu-0930-art-dmarc\n
END:VEVENT
BEGIN:VEVENT
UID:ietf-102-10055-extra
SUMMARY:extra - Email mailstore and eXtensions To Revise or Amend (1100 - 1200; Moved from Friday 1150)
LOCATION:Saint-Paul/Sainte-Catherine
STATUS:CONFIRMED
CLASS:PUBLIC
DTSTART;TZID=America/Toronto:20180719T093000
DTEND;TZID=America/Toronto:20180719T120000
DTSTAMP:20180605T082908Z
URL:https://datatracker.ietf.org/meeting/102/materials/agenda-102-extra-01
DESCRIPTION:Morning Session I\n
 Note: 1100 - 1200\; Moved from Friday 1150\n
 \n
 Meetecho: http://www.meetecho.com/ietf102/extra/\n
 \n
 Agenda https://datatracker.ietf.org/meeting/102/materials/agenda-102-extra-01\n
 \n
 Session materials: https://datatracker.ietf.org/meeting/102/session/extra\n
 \n
 See in schedule: https://datatracker.ietf.org/meeting/102/agenda#row-102-2018-07-19-thu-0930-art-extra\n
END:VEVENT
BEGIN:VEVENT
UID:ietf-102-10047-mmusic
SUMMARY:mmusic - Multiparty Multimedia Session Control
LOCATION:Saint-Paul/Sainte-Catherine
STATUS:CONFIRMED
CLASS:PUBLIC
DTSTART;TZID=America/Toronto:20180719T133000
DTEND;TZID=America/Toronto:20180719T153000
DTSTAMP:20180605T082908Z
URL:https://datatracker.ietf.org/meeting/102/materials/agenda-102-mmusic-00
DESCRIPTION:Afternoon Session I\n
 \n
 Meetecho: http://www.meetecho.com/ietf102/mmusic/\n
 \n
 Agenda https://datatracker.ietf.org/meeting/102/materials/agenda-102-mmusic-00\n
 \n
 Session materials: https://datatracker.ietf.org/meeting/102/session/mmusic\n
 \n
 See in schedule: https://datatracker.ietf.org/meeting/102/agenda#row-102-2018-07-19-thu-1330-art-mmusic\n
END:VEVENT
BEGIN:VEVENT
UID:ietf-102-10039-netvc
SUMMARY:netvc - Internet Video Codec
LOCATION:Saint-Paul/Sainte-Catherine
STATUS:CONFIRMED
CLASS:PUBLIC
DTSTART;TZID=America/Toronto:20180719T155000
DTEND;TZID=America/Toronto:20180719T175000
DTSTAMP:20180605T082907Z
URL:https://datatracker.ietf.org/meeting/102/materials/agenda-102-netvc-00
DESCRIPTION:Afternoon Session II\n
 \n
 Meetecho: http://www.meetecho.com/ietf102/netvc/\n
 \n
 Agenda https://datatracker.ietf.org/meeting/102/materials/agenda-102-netvc-00\n
 \n
 Session materials: https://datatracker.ietf.org/meeting/102/session/netvc\n
 \n
 See in schedule: https://datatracker.ietf.org/meeting/102/agenda#row-102-2018-07-19-thu-1550-art-netvc\n
END:VEVENT
BEGIN:VEVENT
UID:ietf-102-10030-core
SUMMARY:core - Constrained RESTful Environments
LOCATION:Van Horne
STATUS:CONFIRMED
CLASS:PUBLIC
DTSTART;TZID=America/Toronto:20180719T181000
DTEND;TZID=America/Toronto:20180719T191000
DTSTAMP:20180605T082907Z
URL:https://datatracker.ietf.org/meeting/102/materials/agenda-102-core-00
DESCRIPTION:Afternoon Session III\n
 \n
 Meetecho: http://www.meetecho.com/ietf102/core/\n
 \n
 Agenda https://datatracker.ietf.org/meeting/102/materials/agenda-102-core-00\n
 \n
 Session materials: https://datatracker.ietf.org/meeting/102/session/core\n
 \n
 See in schedule: https://datatracker.ietf.org/meeting/102/agenda#row-102-2018-07-19-thu-1810-art-core\n
END:VEVENT
BEGIN:VEVENT
UID:ietf-102-10031-modern
SUMMARY:modern - Managing, Ordering, Distributing, Exposing, & Registering telephone Numbers
LOCATION:Saint-Paul/Sainte-Catherine
STATUS:CANCELLED
CLASS:PUBLIC
DTSTART;TZID=America/Toronto:20180719T181000
DTEND;TZID=America/Toronto:20180719T191000
DTSTAMP:20180605T082907Z
DESCRIPTION:Afternoon Session III\n
 \n
 Meetecho: http://www.meetecho.com/ietf102/modern/\n
 \n
 Session materials: https://datatracker.ietf.org/meeting/102/session/modern\n
 \n
 See in schedule: https://datatracker.ietf.org/meeting/102/agenda#row-102-2018-07-19-thu-1810-art-modern\n
END:VEVENT
BEGIN:VEVENT
UID:ietf-102-10022-cdni
SUMMARY:cdni - Content Delivery Networks Interconnection
LOCATION:Van Horne
STATUS:CONFIRMED
CLASS:PUBLIC
DTSTART;TZID=America/Toronto:20180720T093000
DTEND;TZID=America/Toronto:20180720T113000
DTSTAMP:20180605T082907Z
URL:https://datatracker.ietf.org/meeting/102/materials/agenda-102-cdni-00
DESCRIPTION:Morning Session I\n
 \n
 Meetecho: http://www.meetecho.com/ietf102/cdni/\n
 \n
 Agenda https://datatracker.ietf.org/meeting/102/materials/agenda-102-cdni-00\n
 \n
 Session materials: https://datatracker.ietf.org/meeting/102/session/cdni\n
 \n
 See in schedule: https://datatracker.ietf.org/meeting/102/agenda#row-102-2018-07-20-fri-0930-art-cdni\n
END:VEVENT
BEGIN:VEVENT
UID:ietf-102-10015-sipcore
SUMMARY:sipcore - Session Initiation Protocol Core
LOCATION:Saint-Paul/Sainte-Catherine
STATUS:CANCELLED
CLASS:PUBLIC
DTSTART;TZID=America/Toronto:20180720T115000
DTEND;TZID=America/Toronto:20180720T132000
DTSTAMP:20180605T082907Z
URL:https://datatracker.ietf.org/meeting/102/materials/agenda-102-sipcore-00
DESCRIPTION:Afternoon Session I\n
 \n
 Meetecho: http://www.meetecho.com/ietf102/sipcore/\n
 \n
 Agenda https://datatracker.ietf.org/meeting/102/materials/agenda-102-sipcore-00\n
 \n
 Session materials: https://datatracker.ietf.org/meeting/102/session/sipcore\n
 \n
 See in schedule: https://datatracker.ietf.org/meeting/102/agenda#row-102-2018-07-20-fri-1150-art-sipcore\n
END:VEVENT
END:VCALENDAR
