BEGIN:VCALENDAR
VERSION:2.0
METHOD:PUBLISH
PRODID:-//IETF//datatracker.ietf.org ical agenda//EN
BEGIN:VTIMEZONE
TZID:America/Toronto
X-LIC-LOCATION:America/Toronto
BEGIN:DAYLIGHT
TZOFFSETFROM:-0500
TZOFFSETTO:-0400
TZNAME:EDT
DTSTART:20070311T020000
RRULE:FREQ=YEARLY;BYMONTH=3;BYDAY=2SU
END:DAYLIGHT
BEGIN:STANDARD
TZOFFSETFROM:-0400
TZOFFSETTO:-0500
TZNAME:EST
DTSTART:20071104T020000
RRULE:FREQ=YEARLY;BYMONTH=11;BYDAY=1SU
END:STANDARD
BEGIN:STANDARD
TZOFFSETFROM:-051732
TZOFFSETTO:-0500
TZNAME:EST
DTSTART:18950101T000000
RDATE:18950101T000000
END:STANDARD
BEGIN:DAYLIGHT
TZOFFSETFROM:-0500
TZOFFSETTO:-0400
TZNAME:EDT
DTSTART:19180414T020000
RDATE:19180414T020000
RDATE:19190330T233000
RDATE:19200502T020000
RDATE:19210515T020000
RDATE:19220514T020000
RDATE:19230513T020000
RDATE:19240504T020000
RDATE:19250503T020000
RDATE:19260502T020000
RDATE:19270501T020000
RDATE:19280429T020000
RDATE:19290428T020000
RDATE:19300427T020000
RDATE:19310426T020000
RDATE:19320501T020000
RDATE:19330430T020000
RDATE:19340429T020000
RDATE:19350428T020000
RDATE:19360426T020000
RDATE:19370425T020000
RDATE:19380424T020000
RDATE:19390430T020000
RDATE:19400428T020000
RDATE:19460428T020000
RDATE:19470427T000000
RDATE:19480425T000000
RDATE:19490424T000000
RDATE:19500430T020000
RDATE:19510429T020000
RDATE:19520427T020000
RDATE:19530426T020000
RDATE:19540425T020000
RDATE:19550424T020000
RDATE:19560429T020000
RDATE:19570428T020000
RDATE:19580427T020000
RDATE:19590426T020000
RDATE:19600424T020000
RDATE:19610430T020000
RDATE:19620429T020000
RDATE:19630428T020000
RDATE:19640426T020000
RDATE:19650425T020000
RDATE:19660424T020000
RDATE:19670430T020000
RDATE:19680428T020000
RDATE:19690427T020000
RDATE:19700426T020000
RDATE:19710425T020000
RDATE:19720430T020000
RDATE:19730429T020000
RDATE:19740428T020000
RDATE:19750427T020000
RDATE:19760425T020000
RDATE:19770424T020000
RDATE:19780430T020000
RDATE:19790429T020000
RDATE:19800427T020000
RDATE:19810426T020000
RDATE:19820425T020000
RDATE:19830424T020000
RDATE:19840429T020000
RDATE:19850428T020000
RDATE:19860427T020000
RDATE:19870405T020000
RDATE:19880403T020000
RDATE:19890402T020000
RDATE:19900401T020000
RDATE:19910407T020000
RDATE:19920405T020000
RDATE:19930404T020000
RDATE:19940403T020000
RDATE:19950402T020000
RDATE:19960407T020000
RDATE:19970406T020000
RDATE:19980405T020000
RDATE:19990404T020000
RDATE:20000402T020000
RDATE:20010401T020000
RDATE:20020407T020000
RDATE:20030406T020000
RDATE:20040404T020000
RDATE:20050403T020000
RDATE:20060402T020000
END:DAYLIGHT
BEGIN:STANDARD
TZOFFSETFROM:-0400
TZOFFSETTO:-0500
TZNAME:EST
DTSTART:19181027T020000
RDATE:19181027T020000
RDATE:19191026T000000
RDATE:19200926T000000
RDATE:19210915T020000
RDATE:19220917T020000
RDATE:19230916T020000
RDATE:19240921T020000
RDATE:19250920T020000
RDATE:19260919T020000
RDATE:19270925T020000
RDATE:19280930T020000
RDATE:19290929T020000
RDATE:19300928T020000
RDATE:19310927T020000
RDATE:19320925T020000
RDATE:19331001T020000
RDATE:19340930T020000
RDATE:19350929T020000
RDATE:19360927T020000
RDATE:19370926T020000
RDATE:19380925T020000
RDATE:19390924T020000
RDATE:19450930T020000
RDATE:19460929T020000
RDATE:19470928T000000
RDATE:19480926T000000
RDATE:19491127T000000
RDATE:19501126T020000
RDATE:19510930T020000
RDATE:19520928T020000
RDATE:19530927T020000
RDATE:19540926T020000
RDATE:19550925T020000
RDATE:19560930T020000
RDATE:19571027T020000
RDATE:19581026T020000
RDATE:19591025T020000
RDATE:19601030T020000
RDATE:19611029T020000
RDATE:19621028T020000
RDATE:19631027T020000
RDATE:19641025T020000
RDATE:19651031T020000
RDATE:19661030T020000
RDATE:19671029T020000
RDATE:19681027T020000
RDATE:19691026T020000
RDATE:19701025T020000
RDATE:19711031T020000
RDATE:19721029T020000
RDATE:19731028T020000
RDATE:19741027T020000
RDATE:19751026T020000
RDATE:19761031T020000
RDATE:19771030T020000
RDATE:19781029T020000
RDATE:19791028T020000
RDATE:19801026T020000
RDATE:19811025T020000
RDATE:19821031T020000
RDATE:19831030T020000
RDATE:19841028T020000
RDATE:19851027T020000
RDATE:19861026T020000
RDATE:19871025T020000
RDATE:19881030T020000
RDATE:19891029T020000
RDATE:19901028T020000
RDATE:19911027T020000
RDATE:19921025T020000
RDATE:19931031T020000
RDATE:19941030T020000
RDATE:19951029T020000
RDATE:19961027T020000
RDATE:19971026T020000
RDATE:19981025T020000
RDATE:19991031T020000
RDATE:20001029T020000
RDATE:20011028T020000
RDATE:20021027T020000
RDATE:20031026T020000
RDATE:20041031T020000
RDATE:20051030T020000
RDATE:20061029T020000
END:STANDARD
BEGIN:STANDARD
TZOFFSETFROM:-0500
TZOFFSETTO:-0500
TZNAME:EST
DTSTART:19190101T000000
RDATE:19190101T000000
RDATE:19460101T000000
RDATE:19740101T000000
END:STANDARD
BEGIN:DAYLIGHT
TZOFFSETFROM:-0400
TZOFFSETTO:-0400
TZNAME:EWT
DTSTART:19420209T020000
RDATE:19420209T020000
END:DAYLIGHT
BEGIN:DAYLIGHT
TZOFFSETFROM:-0400
TZOFFSETTO:-0400
TZNAME:EPT
DTSTART:19450814T190000
RDATE:19450814T190000
END:DAYLIGHT
END:VTIMEZONE
BEGIN:VEVENT
UID:ietf-102-10171-secretariat
SUMMARY:Hackathon
LOCATION:Centre Ville
STATUS:CONFIRMED
CLASS:PUBLIC
DTSTART;TZID=America/Toronto:20180714T090000
DTEND;TZID=America/Toronto:20180714T220000
DTSTAMP:20180615T143329Z
DESCRIPTION:Hackathon\n
 \n
 Meetecho: http://www.meetecho.com/ietf102/secretariat/\n
 \n
 Session materials: https://datatracker.ietf.org/meeting/102/session/secretariat\n
 \n
 See in schedule: https://datatracker.ietf.org/meeting/102/agenda#row-102-2018-07-14-sat-0900-secretariat-hackathon\n
END:VEVENT
BEGIN:VEVENT
UID:ietf-102-10173-tools
SUMMARY:Code Sprint
LOCATION:Sherbrooke/Mansfield
STATUS:CONFIRMED
CLASS:PUBLIC
DTSTART;TZID=America/Toronto:20180714T093000
DTEND;TZID=America/Toronto:20180714T180000
DTSTAMP:20180621T084517Z
DESCRIPTION:Code Sprint\n
 \n
 Session materials: https://datatracker.ietf.org/meeting/102/session/tools\n
 \n
 See in schedule: https://datatracker.ietf.org/meeting/102/agenda#row-102-2018-07-14-sat-0930-tools-code-sprint\n
END:VEVENT
BEGIN:VEVENT
UID:ietf-102-10172-hackathon
SUMMARY:Hackathon
LOCATION:Centre Ville
STATUS:CONFIRMED
CLASS:PUBLIC
DTSTART;TZID=America/Toronto:20180715T083000
DTEND;TZID=America/Toronto:20180715T160000
DTSTAMP:20180615T143340Z
URL:https://datatracker.ietf.org/meeting/102/materials/agenda-102-hackathon-sessa-00
DESCRIPTION:Hackathon\n
 \n
 Meetecho: http://www.meetecho.com/ietf102/hackathon/\n
 \n
 Agenda https://datatracker.ietf.org/meeting/102/materials/agenda-102-hackathon-sessa-00\n
 \n
 Session materials: https://datatracker.ietf.org/meeting/102/session/hackathon\n
 \n
 See in schedule: https://datatracker.ietf.org/meeting/102/agenda#row-102-2018-07-15-sun-0830-hackathon-hackathon\n
END:VEVENT
BEGIN:VEVENT
UID:ietf-102-10177-iepg
SUMMARY:IEPG Meeting
LOCATION:Viger
STATUS:CONFIRMED
CLASS:PUBLIC
DTSTART;TZID=America/Toronto:20180715T090000
DTEND;TZID=America/Toronto:20180715T110000
DTSTAMP:20180619T094233Z
DESCRIPTION:IEPG Meeting\n
 \n
 Meetecho: http://www.meetecho.com/ietf102/iepg/\n
 \n
 Session materials: https://datatracker.ietf.org/meeting/102/session/iepg\n
 \n
 See in schedule: https://datatracker.ietf.org/meeting/102/agenda#row-102-2018-07-15-sun-0900-iepg-iepg-meeting\n
END:VEVENT
BEGIN:VEVENT
UID:ietf-102-10162-edu
SUMMARY:Tutorial: Newcomer’s Overview
LOCATION:Viger
STATUS:CONFIRMED
CLASS:PUBLIC
DTSTART;TZID=America/Toronto:20180715T123000
DTEND;TZID=America/Toronto:20180715T133000
DTSTAMP:20180619T155013Z
URL:https://datatracker.ietf.org/meeting/102/materials/agenda-102-edu-sessd-00
DESCRIPTION:Tutorial: Newcomer’s Overview\n
 \n
 Meetecho: http://www.meetecho.com/ietf102/edu/\n
 \n
 Agenda https://datatracker.ietf.org/meeting/102/materials/agenda-102-edu-sessd-00\n
 \n
 Session materials: https://datatracker.ietf.org/meeting/102/session/edu\n
 \n
 See in schedule: https://datatracker.ietf.org/meeting/102/agenda#row-102-2018-07-15-sun-1230-edu-tutorial-newcomers-overview\n
END:VEVENT
BEGIN:VEVENT
UID:ietf-102-10164-edu
SUMMARY:Tutorial: Bringing New Work to the IETF
LOCATION:Viger
STATUS:CANCELLED
CLASS:PUBLIC
DTSTART;TZID=America/Toronto:20180715T134500
DTEND;TZID=America/Toronto:20180715T144500
DTSTAMP:20180711T113447Z
DESCRIPTION:Tutorial: Bringing New Work to the IETF\n
 \n
 Meetecho: http://www.meetecho.com/ietf102/edu/\n
 \n
 Session materials: https://datatracker.ietf.org/meeting/102/session/edu\n
 \n
 See in schedule: https://datatracker.ietf.org/meeting/102/agenda#row-102-2018-07-15-sun-1345-edu-tutorial-bringing-new-work-to-the-ietf\n
END:VEVENT
BEGIN:VEVENT
UID:ietf-102-10186-edu
SUMMARY:Tutorial: Identifier Locator Network Protocol (ILNP)
LOCATION:Duluth
STATUS:CONFIRMED
CLASS:PUBLIC
DTSTART;TZID=America/Toronto:20180715T134500
DTEND;TZID=America/Toronto:20180715T144500
DTSTAMP:20180712T121553Z
URL:https://datatracker.ietf.org/meeting/102/materials/agenda-102-edu-sessg-00
DESCRIPTION:Tutorial: Identifier Locator Network Protocol (ILNP)\n
 \n
 Meetecho: http://www.meetecho.com/ietf102/edu/\n
 \n
 Agenda https://datatracker.ietf.org/meeting/102/materials/agenda-102-edu-sessg-00\n
 \n
 Session materials: https://datatracker.ietf.org/meeting/102/session/edu\n
 \n
 See in schedule: https://datatracker.ietf.org/meeting/102/agenda#row-102-2018-07-15-sun-1345-edu-tutorial-identifier-locator-network-protocol-ilnp\n
END:VEVENT
BEGIN:VEVENT
UID:ietf-102-10176-mentor
SUMMARY:Newcomer’s Quick Connections (Open to Newcomers. Note that pre-registration is required)
LOCATION:Place du Canada
STATUS:CONFIRMED
CLASS:PUBLIC
DTSTART;TZID=America/Toronto:20180715T150000
DTEND;TZID=America/Toronto:20180715T160000
DTSTAMP:20180619T155206Z
DESCRIPTION:Newcomer’s Quick Connections (Open to Newcomers. Note that pre-registration is required)\n
 \n
 Meetecho: http://www.meetecho.com/ietf102/mentor/\n
 \n
 Session materials: https://datatracker.ietf.org/meeting/102/session/mentor\n
 \n
 See in schedule: https://datatracker.ietf.org/meeting/102/agenda#row-102-2018-07-15-sun-1500-mentor-newcomers-quick-connections-open-to-newcomers-note-that-pre-registration-is-required\n
END:VEVENT
BEGIN:VEVENT
UID:ietf-102-10174-edu
SUMMARY:Newcomers' Meet and Greet (open to Newcomers\, WG chairs and Mentors only)
LOCATION:Place du Canada
STATUS:CONFIRMED
CLASS:PUBLIC
DTSTART;TZID=America/Toronto:20180715T160000
DTEND;TZID=America/Toronto:20180715T170000
DTSTAMP:20180615T145042Z
DESCRIPTION:Newcomers' Meet and Greet (open to Newcomers\, WG chairs and Mentors only)\n
 \n
 Meetecho: http://www.meetecho.com/ietf102/edu/\n
 \n
 Session materials: https://datatracker.ietf.org/meeting/102/session/edu\n
 \n
 See in schedule: https://datatracker.ietf.org/meeting/102/agenda#row-102-2018-07-15-sun-1600-edu-newcomers-meet-and-greet-open-to-newcomers-wg-chairs-and-mentors-only\n
END:VEVENT
BEGIN:VEVENT
UID:ietf-102-10147-hotrfc
SUMMARY:Hot RFC Lightning Talks
LOCATION:Viger
STATUS:CONFIRMED
CLASS:PUBLIC
DTSTART;TZID=America/Toronto:20180715T180000
DTEND;TZID=America/Toronto:20180715T200000
DTSTAMP:20180712T092153Z
URL:https://datatracker.ietf.org/meeting/102/materials/agenda-102-hotrfc-02
DESCRIPTION:Hot RFC Lightning Talks\n
 \n
 Meetecho: http://www.meetecho.com/ietf102/hotrfc/\n
 \n
 Agenda https://datatracker.ietf.org/meeting/102/materials/agenda-102-hotrfc-02\n
 \n
 Session materials: https://datatracker.ietf.org/meeting/102/session/hotrfc\n
 \n
 See in schedule: https://datatracker.ietf.org/meeting/102/agenda#row-102-2018-07-15-sun-1800-hotrfc-hot-rfc-lightning-talks\n
END:VEVENT
BEGIN:VEVENT
UID:ietf-102-10127-i18nrp
SUMMARY:i18nrp - Internationalization Review Procedures (1430 - 1530)
LOCATION:Saint-Paul/Sainte-Catherine
STATUS:CONFIRMED
CLASS:PUBLIC
DTSTART;TZID=America/Toronto:20180716T133000
DTEND;TZID=America/Toronto:20180716T153000
DTSTAMP:20180605T082908Z
URL:https://datatracker.ietf.org/meeting/102/materials/agenda-102-i18nrp-02
DESCRIPTION:Afternoon Session I\n
 Note: 1430 - 1530\n
 \n
 Meetecho: http://www.meetecho.com/ietf102/i18nrp/\n
 \n
 Agenda https://datatracker.ietf.org/meeting/102/materials/agenda-102-i18nrp-02\n
 \n
 Session materials: https://datatracker.ietf.org/meeting/102/session/i18nrp\n
 \n
 See in schedule: https://datatracker.ietf.org/meeting/102/agenda#row-102-2018-07-16-mon-1330-art-i18nrp\n
END:VEVENT
BEGIN:VEVENT
UID:ietf-102-10185-hackathon
SUMMARY:Hackdemo Happy Hour
LOCATION:Parc A+B+C
STATUS:CONFIRMED
CLASS:PUBLIC
DTSTART;TZID=America/Toronto:20180716T175000
DTEND;TZID=America/Toronto:20180716T201000
DTSTAMP:20180626T094449Z
URL:https://datatracker.ietf.org/meeting/102/materials/agenda-102-hackathon-sessb-00
DESCRIPTION:Hackdemo Happy Hour\n
 \n
 Agenda https://datatracker.ietf.org/meeting/102/materials/agenda-102-hackathon-sessb-00\n
 \n
 Session materials: https://datatracker.ietf.org/meeting/102/session/hackathon\n
 \n
 See in schedule: https://datatracker.ietf.org/meeting/102/agenda#row-102-2018-07-16-mon-1750-hackathon-hackdemo-happy-hour\n
END:VEVENT
BEGIN:VEVENT
UID:ietf-102-10138-rfcplusplus
SUMMARY:rfcplusplus - The label "RFC"
LOCATION:Laurier
STATUS:CONFIRMED
CLASS:PUBLIC
DTSTART;TZID=America/Toronto:20180716T181000
DTEND;TZID=America/Toronto:20180716T194000
DTSTAMP:20180608T123352Z
URL:https://datatracker.ietf.org/meeting/102/materials/agenda-102-rfcplusplus-00
DESCRIPTION:Afternoon Session III\n
 \n
 Meetecho: http://www.meetecho.com/ietf102/rfcplusplus/\n
 \n
 Agenda https://datatracker.ietf.org/meeting/102/materials/agenda-102-rfcplusplus-00\n
 \n
 Session materials: https://datatracker.ietf.org/meeting/102/session/rfcplusplus\n
 \n
 See in schedule: https://datatracker.ietf.org/meeting/102/agenda#row-102-2018-07-16-mon-1810-gen-rfcplusplus\n
END:VEVENT
BEGIN:VEVENT
UID:ietf-102-9714-edu
SUMMARY:WG Chairs Forum (For WG Chairs Only)
LOCATION:Centre Ville
STATUS:CONFIRMED
CLASS:PUBLIC
DTSTART;TZID=America/Toronto:20180718T121500
DTEND;TZID=America/Toronto:20180718T131500
DTSTAMP:20180619T155102Z
URL:https://datatracker.ietf.org/meeting/102/materials/agenda-102-edu-sessc-01
DESCRIPTION:WG Chairs Forum (For WG Chairs Only)\n
 \n
 Meetecho: http://www.meetecho.com/ietf102/edu/\n
 \n
 Agenda https://datatracker.ietf.org/meeting/102/materials/agenda-102-edu-sessc-01\n
 \n
 Session materials: https://datatracker.ietf.org/meeting/102/session/edu\n
 \n
 See in schedule: https://datatracker.ietf.org/meeting/102/agenda#row-102-2018-07-18-wed-1215-edu-wg-chairs-forum-for-wg-chairs-only\n
END:VEVENT
BEGIN:VEVENT
UID:ietf-102-9701-edu
SUMMARY:Wednesday Lunch Speaker Series -CANCELLED
LOCATION:Laurier
STATUS:CONFIRMED
CLASS:PUBLIC
DTSTART;TZID=America/Toronto:20180718T123000
DTEND;TZID=America/Toronto:20180718T131500
DTSTAMP:20180718T085852Z
DESCRIPTION:Wednesday Lunch Speaker Series -CANCELLED\n
 \n
 Meetecho: http://www.meetecho.com/ietf102/edu/\n
 \n
 Session materials: https://datatracker.ietf.org/meeting/102/session/edu\n
 \n
 See in schedule: https://datatracker.ietf.org/meeting/102/agenda#row-102-2018-07-18-wed-1230-edu-wednesday-lunch-speaker-series-cancelled\n
END:VEVENT
BEGIN:VEVENT
UID:ietf-102-9709-ietf
SUMMARY:IETF Plenary
LOCATION:Place du Canada
STATUS:CONFIRMED
CLASS:PUBLIC
DTSTART;TZID=America/Toronto:20180718T171000
DTEND;TZID=America/Toronto:20180718T194000
DTSTAMP:20180615T151905Z
URL:https://datatracker.ietf.org/meeting/102/materials/agenda-102-ietf-sessa-02
DESCRIPTION:IETF Plenary\n
 \n
 Meetecho: http://www.meetecho.com/ietf102/ietf/\n
 \n
 Agenda https://datatracker.ietf.org/meeting/102/materials/agenda-102-ietf-sessa-02\n
 \n
 Session materials: https://datatracker.ietf.org/meeting/102/session/ietf\n
 \n
 See in schedule: https://datatracker.ietf.org/meeting/102/agenda#row-102-2018-07-18-wed-1710-1plenary-ietf\n
END:VEVENT
BEGIN:VEVENT
UID:ietf-102-9706-edu
SUMMARY:Newcomers Feedback Session
LOCATION:Square Dorchester
STATUS:CONFIRMED
CLASS:PUBLIC
DTSTART;TZID=America/Toronto:20180719T081500
DTEND;TZID=America/Toronto:20180719T091500
DTSTAMP:20180619T155128Z
DESCRIPTION:Newcomers Feedback Session\n
 \n
 Session materials: https://datatracker.ietf.org/meeting/102/session/edu\n
 \n
 See in schedule: https://datatracker.ietf.org/meeting/102/agenda#row-102-2018-07-19-thu-0815-edu-newcomers-feedback-session\n
END:VEVENT
BEGIN:VEVENT
UID:ietf-102-10035-driu
SUMMARY:driu - DNS Resolver Identification and Use
LOCATION:Viger
STATUS:CONFIRMED
CLASS:PUBLIC
DTSTART;TZID=America/Toronto:20180719T155000
DTEND;TZID=America/Toronto:20180719T175000
DTSTAMP:20180605T082907Z
URL:https://datatracker.ietf.org/meeting/102/materials/agenda-102-driu-01
DESCRIPTION:Afternoon Session II\n
 \n
 Meetecho: http://www.meetecho.com/ietf102/driu/\n
 \n
 Agenda https://datatracker.ietf.org/meeting/102/materials/agenda-102-driu-01\n
 \n
 Session materials: https://datatracker.ietf.org/meeting/102/session/driu\n
 \n
 See in schedule: https://datatracker.ietf.org/meeting/102/agenda#row-102-2018-07-19-thu-1550-ops-driu\n
END:VEVENT
END:VCALENDAR
