BEGIN:VCALENDAR
VERSION:2.0
METHOD:PUBLISH
PRODID:-//IETF//datatracker.ietf.org ical agenda//EN
BEGIN:VTIMEZONE
TZID:America/Toronto
X-LIC-LOCATION:America/Toronto
BEGIN:DAYLIGHT
TZOFFSETFROM:-0500
TZOFFSETTO:-0400
TZNAME:EDT
DTSTART:20070311T020000
RRULE:FREQ=YEARLY;BYMONTH=3;BYDAY=2SU
END:DAYLIGHT
BEGIN:STANDARD
TZOFFSETFROM:-0400
TZOFFSETTO:-0500
TZNAME:EST
DTSTART:20071104T020000
RRULE:FREQ=YEARLY;BYMONTH=11;BYDAY=1SU
END:STANDARD
BEGIN:STANDARD
TZOFFSETFROM:-051732
TZOFFSETTO:-0500
TZNAME:EST
DTSTART:18950101T000000
RDATE:18950101T000000
END:STANDARD
BEGIN:DAYLIGHT
TZOFFSETFROM:-0500
TZOFFSETTO:-0400
TZNAME:EDT
DTSTART:19180414T020000
RDATE:19180414T020000
RDATE:19190330T233000
RDATE:19200502T020000
RDATE:19210515T020000
RDATE:19220514T020000
RDATE:19230513T020000
RDATE:19240504T020000
RDATE:19250503T020000
RDATE:19260502T020000
RDATE:19270501T020000
RDATE:19280429T020000
RDATE:19290428T020000
RDATE:19300427T020000
RDATE:19310426T020000
RDATE:19320501T020000
RDATE:19330430T020000
RDATE:19340429T020000
RDATE:19350428T020000
RDATE:19360426T020000
RDATE:19370425T020000
RDATE:19380424T020000
RDATE:19390430T020000
RDATE:19400428T020000
RDATE:19460428T020000
RDATE:19470427T000000
RDATE:19480425T000000
RDATE:19490424T000000
RDATE:19500430T020000
RDATE:19510429T020000
RDATE:19520427T020000
RDATE:19530426T020000
RDATE:19540425T020000
RDATE:19550424T020000
RDATE:19560429T020000
RDATE:19570428T020000
RDATE:19580427T020000
RDATE:19590426T020000
RDATE:19600424T020000
RDATE:19610430T020000
RDATE:19620429T020000
RDATE:19630428T020000
RDATE:19640426T020000
RDATE:19650425T020000
RDATE:19660424T020000
RDATE:19670430T020000
RDATE:19680428T020000
RDATE:19690427T020000
RDATE:19700426T020000
RDATE:19710425T020000
RDATE:19720430T020000
RDATE:19730429T020000
RDATE:19740428T020000
RDATE:19750427T020000
RDATE:19760425T020000
RDATE:19770424T020000
RDATE:19780430T020000
RDATE:19790429T020000
RDATE:19800427T020000
RDATE:19810426T020000
RDATE:19820425T020000
RDATE:19830424T020000
RDATE:19840429T020000
RDATE:19850428T020000
RDATE:19860427T020000
RDATE:19870405T020000
RDATE:19880403T020000
RDATE:19890402T020000
RDATE:19900401T020000
RDATE:19910407T020000
RDATE:19920405T020000
RDATE:19930404T020000
RDATE:19940403T020000
RDATE:19950402T020000
RDATE:19960407T020000
RDATE:19970406T020000
RDATE:19980405T020000
RDATE:19990404T020000
RDATE:20000402T020000
RDATE:20010401T020000
RDATE:20020407T020000
RDATE:20030406T020000
RDATE:20040404T020000
RDATE:20050403T020000
RDATE:20060402T020000
END:DAYLIGHT
BEGIN:STANDARD
TZOFFSETFROM:-0400
TZOFFSETTO:-0500
TZNAME:EST
DTSTART:19181027T020000
RDATE:19181027T020000
RDATE:19191026T000000
RDATE:19200926T000000
RDATE:19210915T020000
RDATE:19220917T020000
RDATE:19230916T020000
RDATE:19240921T020000
RDATE:19250920T020000
RDATE:19260919T020000
RDATE:19270925T020000
RDATE:19280930T020000
RDATE:19290929T020000
RDATE:19300928T020000
RDATE:19310927T020000
RDATE:19320925T020000
RDATE:19331001T020000
RDATE:19340930T020000
RDATE:19350929T020000
RDATE:19360927T020000
RDATE:19370926T020000
RDATE:19380925T020000
RDATE:19390924T020000
RDATE:19450930T020000
RDATE:19460929T020000
RDATE:19470928T000000
RDATE:19480926T000000
RDATE:19491127T000000
RDATE:19501126T020000
RDATE:19510930T020000
RDATE:19520928T020000
RDATE:19530927T020000
RDATE:19540926T020000
RDATE:19550925T020000
RDATE:19560930T020000
RDATE:19571027T020000
RDATE:19581026T020000
RDATE:19591025T020000
RDATE:19601030T020000
RDATE:19611029T020000
RDATE:19621028T020000
RDATE:19631027T020000
RDATE:19641025T020000
RDATE:19651031T020000
RDATE:19661030T020000
RDATE:19671029T020000
RDATE:19681027T020000
RDATE:19691026T020000
RDATE:19701025T020000
RDATE:19711031T020000
RDATE:19721029T020000
RDATE:19731028T020000
RDATE:19741027T020000
RDATE:19751026T020000
RDATE:19761031T020000
RDATE:19771030T020000
RDATE:19781029T020000
RDATE:19791028T020000
RDATE:19801026T020000
RDATE:19811025T020000
RDATE:19821031T020000
RDATE:19831030T020000
RDATE:19841028T020000
RDATE:19851027T020000
RDATE:19861026T020000
RDATE:19871025T020000
RDATE:19881030T020000
RDATE:19891029T020000
RDATE:19901028T020000
RDATE:19911027T020000
RDATE:19921025T020000
RDATE:19931031T020000
RDATE:19941030T020000
RDATE:19951029T020000
RDATE:19961027T020000
RDATE:19971026T020000
RDATE:19981025T020000
RDATE:19991031T020000
RDATE:20001029T020000
RDATE:20011028T020000
RDATE:20021027T020000
RDATE:20031026T020000
RDATE:20041031T020000
RDATE:20051030T020000
RDATE:20061029T020000
END:STANDARD
BEGIN:STANDARD
TZOFFSETFROM:-0500
TZOFFSETTO:-0500
TZNAME:EST
DTSTART:19190101T000000
RDATE:19190101T000000
RDATE:19460101T000000
RDATE:19740101T000000
END:STANDARD
BEGIN:DAYLIGHT
TZOFFSETFROM:-0400
TZOFFSETTO:-0400
TZNAME:EWT
DTSTART:19420209T020000
RDATE:19420209T020000
END:DAYLIGHT
BEGIN:DAYLIGHT
TZOFFSETFROM:-0400
TZOFFSETTO:-0400
TZNAME:EPT
DTSTART:19450814T190000
RDATE:19450814T190000
END:DAYLIGHT
END:VTIMEZONE
BEGIN:VEVENT
UID:ietf-102-10126-netconf
SUMMARY:netconf - Network Configuration
LOCATION:Van Horne
STATUS:CONFIRMED
CLASS:PUBLIC
DTSTART;TZID=America/Toronto:20180716T133000
DTEND;TZID=America/Toronto:20180716T153000
DTSTAMP:20180605T082908Z
URL:https://datatracker.ietf.org/meeting/102/materials/agenda-102-netconf-04
DESCRIPTION:Afternoon Session I\n
 \n
 Meetecho: http://www.meetecho.com/ietf102/netconf/\n
 \n
 Agenda https://datatracker.ietf.org/meeting/102/materials/agenda-102-netconf-04\n
 \n
 Session materials: https://datatracker.ietf.org/meeting/102/session/netconf\n
 \n
 See in schedule: https://datatracker.ietf.org/meeting/102/agenda#row-102-2018-07-16-mon-1330-ops-netconf\n
END:VEVENT
BEGIN:VEVENT
UID:ietf-102-10123-sidrops
SUMMARY:sidrops - SIDR Operations
LOCATION:Viger
STATUS:CONFIRMED
CLASS:PUBLIC
DTSTART;TZID=America/Toronto:20180716T133000
DTEND;TZID=America/Toronto:20180716T153000
DTSTAMP:20180605T082908Z
URL:https://datatracker.ietf.org/meeting/102/materials/agenda-102-sidrops-02
DESCRIPTION:Afternoon Session I\n
 \n
 Meetecho: http://www.meetecho.com/ietf102/sidrops/\n
 \n
 Agenda https://datatracker.ietf.org/meeting/102/materials/agenda-102-sidrops-02\n
 \n
 Session materials: https://datatracker.ietf.org/meeting/102/session/sidrops\n
 \n
 See in schedule: https://datatracker.ietf.org/meeting/102/agenda#row-102-2018-07-16-mon-1330-ops-sidrops\n
END:VEVENT
BEGIN:VEVENT
UID:ietf-102-10095-bmwg
SUMMARY:bmwg - Benchmarking Methodology
LOCATION:Saint-Paul/Sainte-Catherine
STATUS:CONFIRMED
CLASS:PUBLIC
DTSTART;TZID=America/Toronto:20180717T133000
DTEND;TZID=America/Toronto:20180717T153000
DTSTAMP:20180605T082908Z
URL:https://datatracker.ietf.org/meeting/102/materials/agenda-102-bmwg-02
DESCRIPTION:Afternoon Session I\n
 \n
 Meetecho: http://www.meetecho.com/ietf102/bmwg/\n
 \n
 Agenda https://datatracker.ietf.org/meeting/102/materials/agenda-102-bmwg-02\n
 \n
 Session materials: https://datatracker.ietf.org/meeting/102/session/bmwg\n
 \n
 See in schedule: https://datatracker.ietf.org/meeting/102/agenda#row-102-2018-07-17-tue-1330-ops-bmwg\n
END:VEVENT
BEGIN:VEVENT
UID:ietf-102-10096-mboned
SUMMARY:mboned - MBONE Deployment
LOCATION:Notre Dame
STATUS:CONFIRMED
CLASS:PUBLIC
DTSTART;TZID=America/Toronto:20180717T133000
DTEND;TZID=America/Toronto:20180717T153000
DTSTAMP:20180605T082908Z
URL:https://datatracker.ietf.org/meeting/102/materials/agenda-102-mboned-03
DESCRIPTION:Afternoon Session I\n
 \n
 Meetecho: http://www.meetecho.com/ietf102/mboned/\n
 \n
 Agenda https://datatracker.ietf.org/meeting/102/materials/agenda-102-mboned-03\n
 \n
 Session materials: https://datatracker.ietf.org/meeting/102/session/mboned\n
 \n
 See in schedule: https://datatracker.ietf.org/meeting/102/agenda#row-102-2018-07-17-tue-1330-ops-mboned\n
END:VEVENT
BEGIN:VEVENT
UID:ietf-102-10089-netmod
SUMMARY:netmod - Network Modeling
LOCATION:Place du Canada
STATUS:CONFIRMED
CLASS:PUBLIC
DTSTART;TZID=America/Toronto:20180717T133000
DTEND;TZID=America/Toronto:20180717T153000
DTSTAMP:20180605T082908Z
URL:https://datatracker.ietf.org/meeting/102/materials/agenda-102-netmod-00
DESCRIPTION:Afternoon Session I\n
 \n
 Meetecho: http://www.meetecho.com/ietf102/netmod/\n
 \n
 Agenda https://datatracker.ietf.org/meeting/102/materials/agenda-102-netmod-00\n
 \n
 Session materials: https://datatracker.ietf.org/meeting/102/session/netmod\n
 \n
 See in schedule: https://datatracker.ietf.org/meeting/102/agenda#row-102-2018-07-17-tue-1330-ops-netmod\n
END:VEVENT
BEGIN:VEVENT
UID:ietf-102-10082-opsawg
SUMMARY:opsawg - Operations and Management Area Working Group
LOCATION:Laurier
STATUS:CONFIRMED
CLASS:PUBLIC
DTSTART;TZID=America/Toronto:20180717T155000
DTEND;TZID=America/Toronto:20180717T182000
DTSTAMP:20180605T082908Z
URL:https://datatracker.ietf.org/meeting/102/materials/agenda-102-opsawg-03
DESCRIPTION:Afternoon Session II\n
 \n
 Meetecho: http://www.meetecho.com/ietf102/opsawg/\n
 \n
 Agenda https://datatracker.ietf.org/meeting/102/materials/agenda-102-opsawg-03\n
 \n
 Session materials: https://datatracker.ietf.org/meeting/102/session/opsawg\n
 \n
 See in schedule: https://datatracker.ietf.org/meeting/102/agenda#row-102-2018-07-17-tue-1550-ops-opsawg\n
END:VEVENT
BEGIN:VEVENT
UID:ietf-102-10078-anima
SUMMARY:anima - Autonomic Networking Integrated Model and Approach
LOCATION:Van Horne
STATUS:CONFIRMED
CLASS:PUBLIC
DTSTART;TZID=America/Toronto:20180718T093000
DTEND;TZID=America/Toronto:20180718T120000
DTSTAMP:20180605T082908Z
URL:https://datatracker.ietf.org/meeting/102/materials/agenda-102-anima-03
DESCRIPTION:Morning Session I\n
 \n
 Meetecho: http://www.meetecho.com/ietf102/anima/\n
 \n
 Agenda https://datatracker.ietf.org/meeting/102/materials/agenda-102-anima-03\n
 \n
 Session materials: https://datatracker.ietf.org/meeting/102/session/anima\n
 \n
 See in schedule: https://datatracker.ietf.org/meeting/102/agenda#row-102-2018-07-18-wed-0930-ops-anima\n
END:VEVENT
BEGIN:VEVENT
UID:ietf-102-10074-dnsop
SUMMARY:dnsop - Domain Name System Operations
LOCATION:Laurier
STATUS:CONFIRMED
CLASS:PUBLIC
DTSTART;TZID=America/Toronto:20180718T093000
DTEND;TZID=America/Toronto:20180718T120000
DTSTAMP:20180605T082908Z
URL:https://datatracker.ietf.org/meeting/102/materials/agenda-102-dnsop-04
DESCRIPTION:Morning Session I\n
 \n
 Meetecho: http://www.meetecho.com/ietf102/dnsop/\n
 \n
 Agenda https://datatracker.ietf.org/meeting/102/materials/agenda-102-dnsop-04\n
 \n
 Session materials: https://datatracker.ietf.org/meeting/102/session/dnsop\n
 \n
 See in schedule: https://datatracker.ietf.org/meeting/102/agenda#row-102-2018-07-18-wed-0930-ops-dnsop\n
END:VEVENT
BEGIN:VEVENT
UID:ietf-102-10068-grow
SUMMARY:grow - Global Routing Operations
LOCATION:Centre Ville
STATUS:CONFIRMED
CLASS:PUBLIC
DTSTART;TZID=America/Toronto:20180718T133000
DTEND;TZID=America/Toronto:20180718T150000
DTSTAMP:20180605T082908Z
URL:https://datatracker.ietf.org/meeting/102/materials/agenda-102-grow-03
DESCRIPTION:Afternoon Session I\n
 \n
 Meetecho: http://www.meetecho.com/ietf102/grow/\n
 \n
 Agenda https://datatracker.ietf.org/meeting/102/materials/agenda-102-grow-03\n
 \n
 Session materials: https://datatracker.ietf.org/meeting/102/session/grow\n
 \n
 See in schedule: https://datatracker.ietf.org/meeting/102/agenda#row-102-2018-07-18-wed-1330-ops-grow\n
END:VEVENT
BEGIN:VEVENT
UID:ietf-102-10042-v6ops
SUMMARY:v6ops - IPv6 Operations
LOCATION:Laurier
STATUS:CONFIRMED
CLASS:PUBLIC
DTSTART;TZID=America/Toronto:20180719T133000
DTEND;TZID=America/Toronto:20180719T153000
DTSTAMP:20180605T082907Z
URL:https://datatracker.ietf.org/meeting/102/materials/agenda-102-v6ops-04
DESCRIPTION:Afternoon Session I\n
 \n
 Meetecho: http://www.meetecho.com/ietf102/v6ops/\n
 \n
 Agenda https://datatracker.ietf.org/meeting/102/materials/agenda-102-v6ops-04\n
 \n
 Session materials: https://datatracker.ietf.org/meeting/102/session/v6ops\n
 \n
 See in schedule: https://datatracker.ietf.org/meeting/102/agenda#row-102-2018-07-19-thu-1330-ops-v6ops\n
END:VEVENT
BEGIN:VEVENT
UID:ietf-102-10035-driu
SUMMARY:driu - DNS Resolver Identification and Use
LOCATION:Viger
STATUS:CONFIRMED
CLASS:PUBLIC
DTSTART;TZID=America/Toronto:20180719T155000
DTEND;TZID=America/Toronto:20180719T175000
DTSTAMP:20180605T082907Z
URL:https://datatracker.ietf.org/meeting/102/materials/agenda-102-driu-01
DESCRIPTION:Afternoon Session II\n
 \n
 Meetecho: http://www.meetecho.com/ietf102/driu/\n
 \n
 Agenda https://datatracker.ietf.org/meeting/102/materials/agenda-102-driu-01\n
 \n
 Session materials: https://datatracker.ietf.org/meeting/102/session/driu\n
 \n
 See in schedule: https://datatracker.ietf.org/meeting/102/agenda#row-102-2018-07-19-thu-1550-ops-driu\n
END:VEVENT
BEGIN:VEVENT
UID:ietf-102-10025-dnsop
SUMMARY:dnsop - Domain Name System Operations
LOCATION:Place du Canada
STATUS:CONFIRMED
CLASS:PUBLIC
DTSTART;TZID=America/Toronto:20180719T181000
DTEND;TZID=America/Toronto:20180719T191000
DTSTAMP:20180605T082907Z
URL:https://datatracker.ietf.org/meeting/102/materials/agenda-102-dnsop-04
DESCRIPTION:Afternoon Session III\n
 \n
 Meetecho: http://www.meetecho.com/ietf102/dnsop/\n
 \n
 Agenda https://datatracker.ietf.org/meeting/102/materials/agenda-102-dnsop-04\n
 \n
 Session materials: https://datatracker.ietf.org/meeting/102/session/dnsop\n
 \n
 See in schedule: https://datatracker.ietf.org/meeting/102/agenda#row-102-2018-07-19-thu-1810-ops-dnsop\n
END:VEVENT
BEGIN:VEVENT
UID:ietf-102-10018-netmod
SUMMARY:netmod - Network Modeling
LOCATION:Laurier
STATUS:CONFIRMED
CLASS:PUBLIC
DTSTART;TZID=America/Toronto:20180720T093000
DTEND;TZID=America/Toronto:20180720T113000
DTSTAMP:20180605T082907Z
URL:https://datatracker.ietf.org/meeting/102/materials/agenda-102-netmod-00
DESCRIPTION:Morning Session I\n
 \n
 Meetecho: http://www.meetecho.com/ietf102/netmod/\n
 \n
 Agenda https://datatracker.ietf.org/meeting/102/materials/agenda-102-netmod-00\n
 \n
 Session materials: https://datatracker.ietf.org/meeting/102/session/netmod\n
 \n
 See in schedule: https://datatracker.ietf.org/meeting/102/agenda#row-102-2018-07-20-fri-0930-ops-netmod\n
END:VEVENT
BEGIN:VEVENT
UID:ietf-102-10017-v6ops
SUMMARY:v6ops - IPv6 Operations
LOCATION:Place du Canada
STATUS:CONFIRMED
CLASS:PUBLIC
DTSTART;TZID=America/Toronto:20180720T093000
DTEND;TZID=America/Toronto:20180720T113000
DTSTAMP:20180605T082907Z
URL:https://datatracker.ietf.org/meeting/102/materials/agenda-102-v6ops-04
DESCRIPTION:Morning Session I\n
 \n
 Meetecho: http://www.meetecho.com/ietf102/v6ops/\n
 \n
 Agenda https://datatracker.ietf.org/meeting/102/materials/agenda-102-v6ops-04\n
 \n
 Session materials: https://datatracker.ietf.org/meeting/102/session/v6ops\n
 \n
 See in schedule: https://datatracker.ietf.org/meeting/102/agenda#row-102-2018-07-20-fri-0930-ops-v6ops\n
END:VEVENT
BEGIN:VEVENT
UID:ietf-102-10011-opsec
SUMMARY:opsec - Operational Security Capabilities for IP Network Infrastructure
LOCATION:Viger
STATUS:CONFIRMED
CLASS:PUBLIC
DTSTART;TZID=America/Toronto:20180720T115000
DTEND;TZID=America/Toronto:20180720T132000
DTSTAMP:20180605T082907Z
URL:https://datatracker.ietf.org/meeting/102/materials/agenda-102-opsec-04
DESCRIPTION:Afternoon Session I\n
 \n
 Meetecho: http://www.meetecho.com/ietf102/opsec/\n
 \n
 Agenda https://datatracker.ietf.org/meeting/102/materials/agenda-102-opsec-04\n
 \n
 Session materials: https://datatracker.ietf.org/meeting/102/session/opsec\n
 \n
 See in schedule: https://datatracker.ietf.org/meeting/102/agenda#row-102-2018-07-20-fri-1150-ops-opsec\n
END:VEVENT
END:VCALENDAR
