BEGIN:VCALENDAR
VERSION:2.0
METHOD:PUBLISH
PRODID:-//IETF//datatracker.ietf.org ical agenda//EN
BEGIN:VTIMEZONE
TZID:America/Toronto
X-LIC-LOCATION:America/Toronto
BEGIN:DAYLIGHT
TZOFFSETFROM:-0500
TZOFFSETTO:-0400
TZNAME:EDT
DTSTART:20070311T020000
RRULE:FREQ=YEARLY;BYMONTH=3;BYDAY=2SU
END:DAYLIGHT
BEGIN:STANDARD
TZOFFSETFROM:-0400
TZOFFSETTO:-0500
TZNAME:EST
DTSTART:20071104T020000
RRULE:FREQ=YEARLY;BYMONTH=11;BYDAY=1SU
END:STANDARD
BEGIN:STANDARD
TZOFFSETFROM:-051732
TZOFFSETTO:-0500
TZNAME:EST
DTSTART:18950101T000000
RDATE:18950101T000000
END:STANDARD
BEGIN:DAYLIGHT
TZOFFSETFROM:-0500
TZOFFSETTO:-0400
TZNAME:EDT
DTSTART:19180414T020000
RDATE:19180414T020000
RDATE:19190330T233000
RDATE:19200502T020000
RDATE:19210515T020000
RDATE:19220514T020000
RDATE:19230513T020000
RDATE:19240504T020000
RDATE:19250503T020000
RDATE:19260502T020000
RDATE:19270501T020000
RDATE:19280429T020000
RDATE:19290428T020000
RDATE:19300427T020000
RDATE:19310426T020000
RDATE:19320501T020000
RDATE:19330430T020000
RDATE:19340429T020000
RDATE:19350428T020000
RDATE:19360426T020000
RDATE:19370425T020000
RDATE:19380424T020000
RDATE:19390430T020000
RDATE:19400428T020000
RDATE:19460428T020000
RDATE:19470427T000000
RDATE:19480425T000000
RDATE:19490424T000000
RDATE:19500430T020000
RDATE:19510429T020000
RDATE:19520427T020000
RDATE:19530426T020000
RDATE:19540425T020000
RDATE:19550424T020000
RDATE:19560429T020000
RDATE:19570428T020000
RDATE:19580427T020000
RDATE:19590426T020000
RDATE:19600424T020000
RDATE:19610430T020000
RDATE:19620429T020000
RDATE:19630428T020000
RDATE:19640426T020000
RDATE:19650425T020000
RDATE:19660424T020000
RDATE:19670430T020000
RDATE:19680428T020000
RDATE:19690427T020000
RDATE:19700426T020000
RDATE:19710425T020000
RDATE:19720430T020000
RDATE:19730429T020000
RDATE:19740428T020000
RDATE:19750427T020000
RDATE:19760425T020000
RDATE:19770424T020000
RDATE:19780430T020000
RDATE:19790429T020000
RDATE:19800427T020000
RDATE:19810426T020000
RDATE:19820425T020000
RDATE:19830424T020000
RDATE:19840429T020000
RDATE:19850428T020000
RDATE:19860427T020000
RDATE:19870405T020000
RDATE:19880403T020000
RDATE:19890402T020000
RDATE:19900401T020000
RDATE:19910407T020000
RDATE:19920405T020000
RDATE:19930404T020000
RDATE:19940403T020000
RDATE:19950402T020000
RDATE:19960407T020000
RDATE:19970406T020000
RDATE:19980405T020000
RDATE:19990404T020000
RDATE:20000402T020000
RDATE:20010401T020000
RDATE:20020407T020000
RDATE:20030406T020000
RDATE:20040404T020000
RDATE:20050403T020000
RDATE:20060402T020000
END:DAYLIGHT
BEGIN:STANDARD
TZOFFSETFROM:-0400
TZOFFSETTO:-0500
TZNAME:EST
DTSTART:19181027T020000
RDATE:19181027T020000
RDATE:19191026T000000
RDATE:19200926T000000
RDATE:19210915T020000
RDATE:19220917T020000
RDATE:19230916T020000
RDATE:19240921T020000
RDATE:19250920T020000
RDATE:19260919T020000
RDATE:19270925T020000
RDATE:19280930T020000
RDATE:19290929T020000
RDATE:19300928T020000
RDATE:19310927T020000
RDATE:19320925T020000
RDATE:19331001T020000
RDATE:19340930T020000
RDATE:19350929T020000
RDATE:19360927T020000
RDATE:19370926T020000
RDATE:19380925T020000
RDATE:19390924T020000
RDATE:19450930T020000
RDATE:19460929T020000
RDATE:19470928T000000
RDATE:19480926T000000
RDATE:19491127T000000
RDATE:19501126T020000
RDATE:19510930T020000
RDATE:19520928T020000
RDATE:19530927T020000
RDATE:19540926T020000
RDATE:19550925T020000
RDATE:19560930T020000
RDATE:19571027T020000
RDATE:19581026T020000
RDATE:19591025T020000
RDATE:19601030T020000
RDATE:19611029T020000
RDATE:19621028T020000
RDATE:19631027T020000
RDATE:19641025T020000
RDATE:19651031T020000
RDATE:19661030T020000
RDATE:19671029T020000
RDATE:19681027T020000
RDATE:19691026T020000
RDATE:19701025T020000
RDATE:19711031T020000
RDATE:19721029T020000
RDATE:19731028T020000
RDATE:19741027T020000
RDATE:19751026T020000
RDATE:19761031T020000
RDATE:19771030T020000
RDATE:19781029T020000
RDATE:19791028T020000
RDATE:19801026T020000
RDATE:19811025T020000
RDATE:19821031T020000
RDATE:19831030T020000
RDATE:19841028T020000
RDATE:19851027T020000
RDATE:19861026T020000
RDATE:19871025T020000
RDATE:19881030T020000
RDATE:19891029T020000
RDATE:19901028T020000
RDATE:19911027T020000
RDATE:19921025T020000
RDATE:19931031T020000
RDATE:19941030T020000
RDATE:19951029T020000
RDATE:19961027T020000
RDATE:19971026T020000
RDATE:19981025T020000
RDATE:19991031T020000
RDATE:20001029T020000
RDATE:20011028T020000
RDATE:20021027T020000
RDATE:20031026T020000
RDATE:20041031T020000
RDATE:20051030T020000
RDATE:20061029T020000
END:STANDARD
BEGIN:STANDARD
TZOFFSETFROM:-0500
TZOFFSETTO:-0500
TZNAME:EST
DTSTART:19190101T000000
RDATE:19190101T000000
RDATE:19460101T000000
RDATE:19740101T000000
END:STANDARD
BEGIN:DAYLIGHT
TZOFFSETFROM:-0400
TZOFFSETTO:-0400
TZNAME:EWT
DTSTART:19420209T020000
RDATE:19420209T020000
END:DAYLIGHT
BEGIN:DAYLIGHT
TZOFFSETFROM:-0400
TZOFFSETTO:-0400
TZNAME:EPT
DTSTART:19450814T190000
RDATE:19450814T190000
END:DAYLIGHT
END:VTIMEZONE
BEGIN:VEVENT
UID:ietf-102-10129-detnet
SUMMARY:detnet - Deterministic Networking
LOCATION:Place du Canada
STATUS:CONFIRMED
CLASS:PUBLIC
DTSTART;TZID=America/Toronto:20180716T093000
DTEND;TZID=America/Toronto:20180716T120000
DTSTAMP:20180605T082908Z
URL:https://datatracker.ietf.org/meeting/102/materials/agenda-102-detnet-02
DESCRIPTION:Morning Session I\n
 \n
 Meetecho: http://www.meetecho.com/ietf102/detnet/\n
 \n
 Agenda https://datatracker.ietf.org/meeting/102/materials/agenda-102-detnet-02\n
 \n
 Session materials: https://datatracker.ietf.org/meeting/102/session/detnet\n
 \n
 See in schedule: https://datatracker.ietf.org/meeting/102/agenda#row-102-2018-07-16-mon-0930-rtg-detnet\n
END:VEVENT
BEGIN:VEVENT
UID:ietf-102-10134-lsr
SUMMARY:lsr - Link State Routing
LOCATION:Van Horne
STATUS:CONFIRMED
CLASS:PUBLIC
DTSTART;TZID=America/Toronto:20180716T093000
DTEND;TZID=America/Toronto:20180716T120000
DTSTAMP:20180605T082908Z
URL:https://datatracker.ietf.org/meeting/102/materials/agenda-102-lsr-00
DESCRIPTION:Morning Session I\n
 \n
 Meetecho: http://www.meetecho.com/ietf102/lsr/\n
 \n
 Agenda https://datatracker.ietf.org/meeting/102/materials/agenda-102-lsr-00\n
 \n
 Session materials: https://datatracker.ietf.org/meeting/102/session/lsr\n
 \n
 See in schedule: https://datatracker.ietf.org/meeting/102/agenda#row-102-2018-07-16-mon-0930-rtg-lsr\n
END:VEVENT
BEGIN:VEVENT
UID:ietf-102-10125-spring
SUMMARY:spring - Source Packet Routing in Networking
LOCATION:Duluth
STATUS:CONFIRMED
CLASS:PUBLIC
DTSTART;TZID=America/Toronto:20180716T133000
DTEND;TZID=America/Toronto:20180716T153000
DTSTAMP:20180605T082908Z
URL:https://datatracker.ietf.org/meeting/102/materials/agenda-102-spring-00
DESCRIPTION:Afternoon Session I\n
 \n
 Meetecho: http://www.meetecho.com/ietf102/spring/\n
 \n
 Agenda https://datatracker.ietf.org/meeting/102/materials/agenda-102-spring-00\n
 \n
 Session materials: https://datatracker.ietf.org/meeting/102/session/spring\n
 \n
 See in schedule: https://datatracker.ietf.org/meeting/102/agenda#row-102-2018-07-16-mon-1330-rtg-spring\n
END:VEVENT
BEGIN:VEVENT
UID:ietf-102-10113-rtgwg
SUMMARY:rtgwg - Routing Area Working Group
LOCATION:Place du Canada
STATUS:CONFIRMED
CLASS:PUBLIC
DTSTART;TZID=America/Toronto:20180716T155000
DTEND;TZID=America/Toronto:20180716T175000
DTSTAMP:20180608T123255Z
URL:https://datatracker.ietf.org/meeting/102/materials/agenda-102-rtgwg-06
DESCRIPTION:Afternoon Session II\n
 \n
 Meetecho: http://www.meetecho.com/ietf102/rtgwg/\n
 \n
 Agenda https://datatracker.ietf.org/meeting/102/materials/agenda-102-rtgwg-06\n
 \n
 Session materials: https://datatracker.ietf.org/meeting/102/session/rtgwg\n
 \n
 See in schedule: https://datatracker.ietf.org/meeting/102/agenda#row-102-2018-07-16-mon-1550-rtg-rtgwg\n
END:VEVENT
BEGIN:VEVENT
UID:ietf-102-10103-babel
SUMMARY:babel - Babel routing protocol
LOCATION:Saint-Paul/Sainte-Catherine
STATUS:CONFIRMED
CLASS:PUBLIC
DTSTART;TZID=America/Toronto:20180717T093000
DTEND;TZID=America/Toronto:20180717T120000
DTSTAMP:20180605T082908Z
URL:https://datatracker.ietf.org/meeting/102/materials/agenda-102-babel-02
DESCRIPTION:Morning Session I\n
 \n
 Meetecho: http://www.meetecho.com/ietf102/babel/\n
 \n
 Agenda https://datatracker.ietf.org/meeting/102/materials/agenda-102-babel-02\n
 \n
 Session materials: https://datatracker.ietf.org/meeting/102/session/babel\n
 \n
 See in schedule: https://datatracker.ietf.org/meeting/102/agenda#row-102-2018-07-17-tue-0930-rtg-babel\n
END:VEVENT
BEGIN:VEVENT
UID:ietf-102-10099-mpls
SUMMARY:mpls - Multiprotocol Label Switching
LOCATION:Viger
STATUS:CONFIRMED
CLASS:PUBLIC
DTSTART;TZID=America/Toronto:20180717T093000
DTEND;TZID=America/Toronto:20180717T120000
DTSTAMP:20180605T082908Z
URL:https://datatracker.ietf.org/meeting/102/materials/agenda-102-mpls-06
DESCRIPTION:Morning Session I\n
 \n
 Meetecho: http://www.meetecho.com/ietf102/mpls/\n
 \n
 Agenda https://datatracker.ietf.org/meeting/102/materials/agenda-102-mpls-06\n
 \n
 Session materials: https://datatracker.ietf.org/meeting/102/session/mpls\n
 \n
 See in schedule: https://datatracker.ietf.org/meeting/102/agenda#row-102-2018-07-17-tue-0930-rtg-mpls\n
END:VEVENT
BEGIN:VEVENT
UID:ietf-102-10101-roll
SUMMARY:roll - Routing Over Low power and Lossy networks
LOCATION:Duluth
STATUS:CONFIRMED
CLASS:PUBLIC
DTSTART;TZID=America/Toronto:20180717T093000
DTEND;TZID=America/Toronto:20180717T120000
DTSTAMP:20180605T082908Z
URL:https://datatracker.ietf.org/meeting/102/materials/agenda-102-roll-02
DESCRIPTION:Morning Session I\n
 \n
 Meetecho: http://www.meetecho.com/ietf102/roll/\n
 \n
 Agenda https://datatracker.ietf.org/meeting/102/materials/agenda-102-roll-02\n
 \n
 Session materials: https://datatracker.ietf.org/meeting/102/session/roll\n
 \n
 See in schedule: https://datatracker.ietf.org/meeting/102/agenda#row-102-2018-07-17-tue-0930-rtg-roll\n
END:VEVENT
BEGIN:VEVENT
UID:ietf-102-10090-rtgarea
SUMMARY:rtgarea - Routing Area Open Meeting
LOCATION:Laurier
STATUS:CONFIRMED
CLASS:PUBLIC
DTSTART;TZID=America/Toronto:20180717T133000
DTEND;TZID=America/Toronto:20180717T153000
DTSTAMP:20180605T082908Z
URL:https://datatracker.ietf.org/meeting/102/materials/agenda-102-rtgarea-01
DESCRIPTION:Afternoon Session I\n
 \n
 Meetecho: http://www.meetecho.com/ietf102/rtgarea/\n
 \n
 Agenda https://datatracker.ietf.org/meeting/102/materials/agenda-102-rtgarea-01\n
 \n
 Session materials: https://datatracker.ietf.org/meeting/102/session/rtgarea\n
 \n
 See in schedule: https://datatracker.ietf.org/meeting/102/agenda#row-102-2018-07-17-tue-1330-rtg-rtgarea\n
END:VEVENT
BEGIN:VEVENT
UID:ietf-102-10087-ccamp
SUMMARY:ccamp - Common Control and Measurement Plane
LOCATION:Saint-Paul/Sainte-Catherine
STATUS:CONFIRMED
CLASS:PUBLIC
DTSTART;TZID=America/Toronto:20180717T155000
DTEND;TZID=America/Toronto:20180717T182000
DTSTAMP:20180605T082908Z
URL:https://datatracker.ietf.org/meeting/102/materials/agenda-102-ccamp-01
DESCRIPTION:Afternoon Session II\n
 \n
 Meetecho: http://www.meetecho.com/ietf102/ccamp/\n
 \n
 Agenda https://datatracker.ietf.org/meeting/102/materials/agenda-102-ccamp-01\n
 \n
 Session materials: https://datatracker.ietf.org/meeting/102/session/ccamp\n
 \n
 See in schedule: https://datatracker.ietf.org/meeting/102/agenda#row-102-2018-07-17-tue-1550-rtg-ccamp\n
END:VEVENT
BEGIN:VEVENT
UID:ietf-102-10088-pim
SUMMARY:pim - Protocols for IP Multicast
LOCATION:Notre Dame
STATUS:CONFIRMED
CLASS:PUBLIC
DTSTART;TZID=America/Toronto:20180717T155000
DTEND;TZID=America/Toronto:20180717T182000
DTSTAMP:20180605T082908Z
URL:https://datatracker.ietf.org/meeting/102/materials/agenda-102-pim-04
DESCRIPTION:Afternoon Session II\n
 \n
 Meetecho: http://www.meetecho.com/ietf102/pim/\n
 \n
 Agenda https://datatracker.ietf.org/meeting/102/materials/agenda-102-pim-04\n
 \n
 Session materials: https://datatracker.ietf.org/meeting/102/session/pim\n
 \n
 See in schedule: https://datatracker.ietf.org/meeting/102/agenda#row-102-2018-07-17-tue-1550-rtg-pim\n
END:VEVENT
BEGIN:VEVENT
UID:ietf-102-10079-bier
SUMMARY:bier - Bit Indexed Explicit Replication
LOCATION:Saint-Paul/Sainte-Catherine
STATUS:CONFIRMED
CLASS:PUBLIC
DTSTART;TZID=America/Toronto:20180718T093000
DTEND;TZID=America/Toronto:20180718T120000
DTSTAMP:20180605T082908Z
URL:https://datatracker.ietf.org/meeting/102/materials/agenda-102-bier-00
DESCRIPTION:Morning Session I\n
 \n
 Meetecho: http://www.meetecho.com/ietf102/bier/\n
 \n
 Agenda https://datatracker.ietf.org/meeting/102/materials/agenda-102-bier-00\n
 \n
 Session materials: https://datatracker.ietf.org/meeting/102/session/bier\n
 \n
 See in schedule: https://datatracker.ietf.org/meeting/102/agenda#row-102-2018-07-18-wed-0930-rtg-bier\n
END:VEVENT
BEGIN:VEVENT
UID:ietf-102-10075-lsvr
SUMMARY:lsvr - Link State Vector Routing
LOCATION:Viger
STATUS:CONFIRMED
CLASS:PUBLIC
DTSTART;TZID=America/Toronto:20180718T093000
DTEND;TZID=America/Toronto:20180718T120000
DTSTAMP:20180605T082908Z
URL:https://datatracker.ietf.org/meeting/102/materials/agenda-102-lsvr-04
DESCRIPTION:Morning Session I\n
 \n
 Meetecho: http://www.meetecho.com/ietf102/lsvr/\n
 \n
 Agenda https://datatracker.ietf.org/meeting/102/materials/agenda-102-lsvr-04\n
 \n
 Session materials: https://datatracker.ietf.org/meeting/102/session/lsvr\n
 \n
 See in schedule: https://datatracker.ietf.org/meeting/102/agenda#row-102-2018-07-18-wed-0930-rtg-lsvr\n
END:VEVENT
BEGIN:VEVENT
UID:ietf-102-10076-teas
SUMMARY:teas - Traffic Engineering Architecture and Signaling
LOCATION:Centre Ville
STATUS:CONFIRMED
CLASS:PUBLIC
DTSTART;TZID=America/Toronto:20180718T093000
DTEND;TZID=America/Toronto:20180718T120000
DTSTAMP:20180605T082908Z
URL:https://datatracker.ietf.org/meeting/102/materials/agenda-102-teas-07
DESCRIPTION:Morning Session I\n
 \n
 Meetecho: http://www.meetecho.com/ietf102/teas/\n
 \n
 Agenda https://datatracker.ietf.org/meeting/102/materials/agenda-102-teas-07\n
 \n
 Session materials: https://datatracker.ietf.org/meeting/102/session/teas\n
 \n
 See in schedule: https://datatracker.ietf.org/meeting/102/agenda#row-102-2018-07-18-wed-0930-rtg-teas\n
END:VEVENT
BEGIN:VEVENT
UID:ietf-102-10067-nvo3
SUMMARY:nvo3 - Network Virtualization Overlays
LOCATION:Viger
STATUS:CONFIRMED
CLASS:PUBLIC
DTSTART;TZID=America/Toronto:20180718T133000
DTEND;TZID=America/Toronto:20180718T150000
DTSTAMP:20180605T082908Z
URL:https://datatracker.ietf.org/meeting/102/materials/agenda-102-nvo3-01
DESCRIPTION:Afternoon Session I\n
 \n
 Meetecho: http://www.meetecho.com/ietf102/nvo3/\n
 \n
 Agenda https://datatracker.ietf.org/meeting/102/materials/agenda-102-nvo3-01\n
 \n
 Session materials: https://datatracker.ietf.org/meeting/102/session/nvo3\n
 \n
 See in schedule: https://datatracker.ietf.org/meeting/102/agenda#row-102-2018-07-18-wed-1330-rtg-nvo3\n
END:VEVENT
BEGIN:VEVENT
UID:ietf-102-10072-pce
SUMMARY:pce - Path Computation Element
LOCATION:Notre Dame
STATUS:CONFIRMED
CLASS:PUBLIC
DTSTART;TZID=America/Toronto:20180718T133000
DTEND;TZID=America/Toronto:20180718T150000
DTSTAMP:20180605T082908Z
URL:https://datatracker.ietf.org/meeting/102/materials/agenda-102-pce-01
DESCRIPTION:Afternoon Session I\n
 \n
 Meetecho: http://www.meetecho.com/ietf102/pce/\n
 \n
 Agenda https://datatracker.ietf.org/meeting/102/materials/agenda-102-pce-01\n
 \n
 Session materials: https://datatracker.ietf.org/meeting/102/session/pce\n
 \n
 See in schedule: https://datatracker.ietf.org/meeting/102/agenda#row-102-2018-07-18-wed-1330-rtg-pce\n
END:VEVENT
BEGIN:VEVENT
UID:ietf-102-10064-bfd
SUMMARY:bfd - Bidirectional Forwarding Detection
LOCATION:Notre Dame
STATUS:CONFIRMED
CLASS:PUBLIC
DTSTART;TZID=America/Toronto:20180718T152000
DTEND;TZID=America/Toronto:20180718T165000
DTSTAMP:20180605T082908Z
URL:https://datatracker.ietf.org/meeting/102/materials/agenda-102-bfd-00
DESCRIPTION:Afternoon Session II\n
 \n
 Meetecho: http://www.meetecho.com/ietf102/bfd/\n
 \n
 Agenda https://datatracker.ietf.org/meeting/102/materials/agenda-102-bfd-00\n
 \n
 Session materials: https://datatracker.ietf.org/meeting/102/session/bfd\n
 \n
 See in schedule: https://datatracker.ietf.org/meeting/102/agenda#row-102-2018-07-18-wed-1520-rtg-bfd\n
END:VEVENT
BEGIN:VEVENT
UID:ietf-102-10050-rtgwg
SUMMARY:rtgwg - Routing Area Working Group
LOCATION:Laurier
STATUS:CONFIRMED
CLASS:PUBLIC
DTSTART;TZID=America/Toronto:20180719T093000
DTEND;TZID=America/Toronto:20180719T120000
DTSTAMP:20180605T082908Z
URL:https://datatracker.ietf.org/meeting/102/materials/agenda-102-rtgwg-06
DESCRIPTION:Morning Session I\n
 \n
 Meetecho: http://www.meetecho.com/ietf102/rtgwg/\n
 \n
 Agenda https://datatracker.ietf.org/meeting/102/materials/agenda-102-rtgwg-06\n
 \n
 Session materials: https://datatracker.ietf.org/meeting/102/session/rtgwg\n
 \n
 See in schedule: https://datatracker.ietf.org/meeting/102/agenda#row-102-2018-07-19-thu-0930-rtg-rtgwg\n
END:VEVENT
BEGIN:VEVENT
UID:ietf-102-10046-lisp
SUMMARY:lisp - Locator/ID Separation Protocol
LOCATION:Van Horne
STATUS:CONFIRMED
CLASS:PUBLIC
DTSTART;TZID=America/Toronto:20180719T133000
DTEND;TZID=America/Toronto:20180719T153000
DTSTAMP:20180605T082908Z
URL:https://datatracker.ietf.org/meeting/102/materials/agenda-102-lisp-05
DESCRIPTION:Afternoon Session I\n
 \n
 Meetecho: http://www.meetecho.com/ietf102/lisp/\n
 \n
 Agenda https://datatracker.ietf.org/meeting/102/materials/agenda-102-lisp-05\n
 \n
 Session materials: https://datatracker.ietf.org/meeting/102/session/lisp\n
 \n
 See in schedule: https://datatracker.ietf.org/meeting/102/agenda#row-102-2018-07-19-thu-1330-rtg-lisp\n
END:VEVENT
BEGIN:VEVENT
UID:ietf-102-10044-rift
SUMMARY:rift - Routing In Fat Trees
LOCATION:Centre Ville
STATUS:CONFIRMED
CLASS:PUBLIC
DTSTART;TZID=America/Toronto:20180719T133000
DTEND;TZID=America/Toronto:20180719T153000
DTSTAMP:20180605T082907Z
URL:https://datatracker.ietf.org/meeting/102/materials/agenda-102-rift-01
DESCRIPTION:Afternoon Session I\n
 \n
 Meetecho: http://www.meetecho.com/ietf102/rift/\n
 \n
 Agenda https://datatracker.ietf.org/meeting/102/materials/agenda-102-rift-01\n
 \n
 Session materials: https://datatracker.ietf.org/meeting/102/session/rift\n
 \n
 See in schedule: https://datatracker.ietf.org/meeting/102/agenda#row-102-2018-07-19-thu-1330-rtg-rift\n
END:VEVENT
BEGIN:VEVENT
UID:ietf-102-10033-sfc
SUMMARY:sfc - Service Function Chaining
LOCATION:Place du Canada
STATUS:CONFIRMED
CLASS:PUBLIC
DTSTART;TZID=America/Toronto:20180719T155000
DTEND;TZID=America/Toronto:20180719T175000
DTSTAMP:20180605T082907Z
URL:https://datatracker.ietf.org/meeting/102/materials/agenda-102-sfc-02
DESCRIPTION:Afternoon Session II\n
 \n
 Meetecho: http://www.meetecho.com/ietf102/sfc/\n
 \n
 Agenda https://datatracker.ietf.org/meeting/102/materials/agenda-102-sfc-02\n
 \n
 Session materials: https://datatracker.ietf.org/meeting/102/session/sfc\n
 \n
 See in schedule: https://datatracker.ietf.org/meeting/102/agenda#row-102-2018-07-19-thu-1550-rtg-sfc\n
END:VEVENT
BEGIN:VEVENT
UID:ietf-102-10027-idr
SUMMARY:idr - Inter-Domain Routing
LOCATION:Viger
STATUS:CONFIRMED
CLASS:PUBLIC
DTSTART;TZID=America/Toronto:20180719T181000
DTEND;TZID=America/Toronto:20180719T191000
DTSTAMP:20180605T082907Z
URL:https://datatracker.ietf.org/meeting/102/materials/agenda-102-idr-05
DESCRIPTION:Afternoon Session III\n
 \n
 Meetecho: http://www.meetecho.com/ietf102/idr/\n
 \n
 Agenda https://datatracker.ietf.org/meeting/102/materials/agenda-102-idr-05\n
 \n
 Session materials: https://datatracker.ietf.org/meeting/102/session/idr\n
 \n
 See in schedule: https://datatracker.ietf.org/meeting/102/agenda#row-102-2018-07-19-thu-1810-rtg-idr\n
END:VEVENT
BEGIN:VEVENT
UID:ietf-102-10019-bess
SUMMARY:bess - BGP Enabled ServiceS
LOCATION:Viger
STATUS:CONFIRMED
CLASS:PUBLIC
DTSTART;TZID=America/Toronto:20180720T093000
DTEND;TZID=America/Toronto:20180720T113000
DTSTAMP:20180605T082907Z
URL:https://datatracker.ietf.org/meeting/102/materials/agenda-102-bess-05
DESCRIPTION:Morning Session I\n
 \n
 Meetecho: http://www.meetecho.com/ietf102/bess/\n
 \n
 Agenda https://datatracker.ietf.org/meeting/102/materials/agenda-102-bess-05\n
 \n
 Session materials: https://datatracker.ietf.org/meeting/102/session/bess\n
 \n
 See in schedule: https://datatracker.ietf.org/meeting/102/agenda#row-102-2018-07-20-fri-0930-rtg-bess\n
END:VEVENT
BEGIN:VEVENT
UID:ietf-102-10009-idr
SUMMARY:idr - Inter-Domain Routing
LOCATION:Place du Canada
STATUS:CONFIRMED
CLASS:PUBLIC
DTSTART;TZID=America/Toronto:20180720T115000
DTEND;TZID=America/Toronto:20180720T132000
DTSTAMP:20180605T082907Z
URL:https://datatracker.ietf.org/meeting/102/materials/agenda-102-idr-05
DESCRIPTION:Afternoon Session I\n
 \n
 Meetecho: http://www.meetecho.com/ietf102/idr/\n
 \n
 Agenda https://datatracker.ietf.org/meeting/102/materials/agenda-102-idr-05\n
 \n
 Session materials: https://datatracker.ietf.org/meeting/102/session/idr\n
 \n
 See in schedule: https://datatracker.ietf.org/meeting/102/agenda#row-102-2018-07-20-fri-1150-rtg-idr\n
END:VEVENT
END:VCALENDAR
