BEGIN:VCALENDAR
VERSION:2.0
METHOD:PUBLISH
PRODID:-//IETF//datatracker.ietf.org ical agenda//EN
BEGIN:VTIMEZONE
TZID:America/Toronto
X-LIC-LOCATION:America/Toronto
BEGIN:DAYLIGHT
TZOFFSETFROM:-0500
TZOFFSETTO:-0400
TZNAME:EDT
DTSTART:20070311T020000
RRULE:FREQ=YEARLY;BYMONTH=3;BYDAY=2SU
END:DAYLIGHT
BEGIN:STANDARD
TZOFFSETFROM:-0400
TZOFFSETTO:-0500
TZNAME:EST
DTSTART:20071104T020000
RRULE:FREQ=YEARLY;BYMONTH=11;BYDAY=1SU
END:STANDARD
BEGIN:STANDARD
TZOFFSETFROM:-051732
TZOFFSETTO:-0500
TZNAME:EST
DTSTART:18950101T000000
RDATE:18950101T000000
END:STANDARD
BEGIN:DAYLIGHT
TZOFFSETFROM:-0500
TZOFFSETTO:-0400
TZNAME:EDT
DTSTART:19180414T020000
RDATE:19180414T020000
RDATE:19190330T233000
RDATE:19200502T020000
RDATE:19210515T020000
RDATE:19220514T020000
RDATE:19230513T020000
RDATE:19240504T020000
RDATE:19250503T020000
RDATE:19260502T020000
RDATE:19270501T020000
RDATE:19280429T020000
RDATE:19290428T020000
RDATE:19300427T020000
RDATE:19310426T020000
RDATE:19320501T020000
RDATE:19330430T020000
RDATE:19340429T020000
RDATE:19350428T020000
RDATE:19360426T020000
RDATE:19370425T020000
RDATE:19380424T020000
RDATE:19390430T020000
RDATE:19400428T020000
RDATE:19460428T020000
RDATE:19470427T000000
RDATE:19480425T000000
RDATE:19490424T000000
RDATE:19500430T020000
RDATE:19510429T020000
RDATE:19520427T020000
RDATE:19530426T020000
RDATE:19540425T020000
RDATE:19550424T020000
RDATE:19560429T020000
RDATE:19570428T020000
RDATE:19580427T020000
RDATE:19590426T020000
RDATE:19600424T020000
RDATE:19610430T020000
RDATE:19620429T020000
RDATE:19630428T020000
RDATE:19640426T020000
RDATE:19650425T020000
RDATE:19660424T020000
RDATE:19670430T020000
RDATE:19680428T020000
RDATE:19690427T020000
RDATE:19700426T020000
RDATE:19710425T020000
RDATE:19720430T020000
RDATE:19730429T020000
RDATE:19740428T020000
RDATE:19750427T020000
RDATE:19760425T020000
RDATE:19770424T020000
RDATE:19780430T020000
RDATE:19790429T020000
RDATE:19800427T020000
RDATE:19810426T020000
RDATE:19820425T020000
RDATE:19830424T020000
RDATE:19840429T020000
RDATE:19850428T020000
RDATE:19860427T020000
RDATE:19870405T020000
RDATE:19880403T020000
RDATE:19890402T020000
RDATE:19900401T020000
RDATE:19910407T020000
RDATE:19920405T020000
RDATE:19930404T020000
RDATE:19940403T020000
RDATE:19950402T020000
RDATE:19960407T020000
RDATE:19970406T020000
RDATE:19980405T020000
RDATE:19990404T020000
RDATE:20000402T020000
RDATE:20010401T020000
RDATE:20020407T020000
RDATE:20030406T020000
RDATE:20040404T020000
RDATE:20050403T020000
RDATE:20060402T020000
END:DAYLIGHT
BEGIN:STANDARD
TZOFFSETFROM:-0400
TZOFFSETTO:-0500
TZNAME:EST
DTSTART:19181027T020000
RDATE:19181027T020000
RDATE:19191026T000000
RDATE:19200926T000000
RDATE:19210915T020000
RDATE:19220917T020000
RDATE:19230916T020000
RDATE:19240921T020000
RDATE:19250920T020000
RDATE:19260919T020000
RDATE:19270925T020000
RDATE:19280930T020000
RDATE:19290929T020000
RDATE:19300928T020000
RDATE:19310927T020000
RDATE:19320925T020000
RDATE:19331001T020000
RDATE:19340930T020000
RDATE:19350929T020000
RDATE:19360927T020000
RDATE:19370926T020000
RDATE:19380925T020000
RDATE:19390924T020000
RDATE:19450930T020000
RDATE:19460929T020000
RDATE:19470928T000000
RDATE:19480926T000000
RDATE:19491127T000000
RDATE:19501126T020000
RDATE:19510930T020000
RDATE:19520928T020000
RDATE:19530927T020000
RDATE:19540926T020000
RDATE:19550925T020000
RDATE:19560930T020000
RDATE:19571027T020000
RDATE:19581026T020000
RDATE:19591025T020000
RDATE:19601030T020000
RDATE:19611029T020000
RDATE:19621028T020000
RDATE:19631027T020000
RDATE:19641025T020000
RDATE:19651031T020000
RDATE:19661030T020000
RDATE:19671029T020000
RDATE:19681027T020000
RDATE:19691026T020000
RDATE:19701025T020000
RDATE:19711031T020000
RDATE:19721029T020000
RDATE:19731028T020000
RDATE:19741027T020000
RDATE:19751026T020000
RDATE:19761031T020000
RDATE:19771030T020000
RDATE:19781029T020000
RDATE:19791028T020000
RDATE:19801026T020000
RDATE:19811025T020000
RDATE:19821031T020000
RDATE:19831030T020000
RDATE:19841028T020000
RDATE:19851027T020000
RDATE:19861026T020000
RDATE:19871025T020000
RDATE:19881030T020000
RDATE:19891029T020000
RDATE:19901028T020000
RDATE:19911027T020000
RDATE:19921025T020000
RDATE:19931031T020000
RDATE:19941030T020000
RDATE:19951029T020000
RDATE:19961027T020000
RDATE:19971026T020000
RDATE:19981025T020000
RDATE:19991031T020000
RDATE:20001029T020000
RDATE:20011028T020000
RDATE:20021027T020000
RDATE:20031026T020000
RDATE:20041031T020000
RDATE:20051030T020000
RDATE:20061029T020000
END:STANDARD
BEGIN:STANDARD
TZOFFSETFROM:-0500
TZOFFSETTO:-0500
TZNAME:EST
DTSTART:19190101T000000
RDATE:19190101T000000
RDATE:19460101T000000
RDATE:19740101T000000
END:STANDARD
BEGIN:DAYLIGHT
TZOFFSETFROM:-0400
TZOFFSETTO:-0400
TZNAME:EWT
DTSTART:19420209T020000
RDATE:19420209T020000
END:DAYLIGHT
BEGIN:DAYLIGHT
TZOFFSETFROM:-0400
TZOFFSETTO:-0400
TZNAME:EPT
DTSTART:19450814T190000
RDATE:19450814T190000
END:DAYLIGHT
END:VTIMEZONE
BEGIN:VEVENT
UID:ietf-102-10131-ace
SUMMARY:ace - Authentication and Authorization for Constrained Environments
LOCATION:Viger
STATUS:CONFIRMED
CLASS:PUBLIC
DTSTART;TZID=America/Toronto:20180716T093000
DTEND;TZID=America/Toronto:20180716T120000
DTSTAMP:20180605T082908Z
URL:https://datatracker.ietf.org/meeting/102/materials/agenda-102-ace-03
DESCRIPTION:Morning Session I\n
 \n
 Meetecho: http://www.meetecho.com/ietf102/ace/\n
 \n
 Agenda https://datatracker.ietf.org/meeting/102/materials/agenda-102-ace-03\n
 \n
 Session materials: https://datatracker.ietf.org/meeting/102/session/ace\n
 \n
 See in schedule: https://datatracker.ietf.org/meeting/102/agenda#row-102-2018-07-16-mon-0930-sec-ace\n
END:VEVENT
BEGIN:VEVENT
UID:ietf-102-10121-tls
SUMMARY:tls - Transport Layer Security
LOCATION:Place du Canada
STATUS:CONFIRMED
CLASS:PUBLIC
DTSTART;TZID=America/Toronto:20180716T133000
DTEND;TZID=America/Toronto:20180716T153000
DTSTAMP:20180605T082908Z
URL:https://datatracker.ietf.org/meeting/102/materials/agenda-102-tls-06
DESCRIPTION:Afternoon Session I\n
 \n
 Meetecho: http://www.meetecho.com/ietf102/tls/\n
 \n
 Agenda https://datatracker.ietf.org/meeting/102/materials/agenda-102-tls-06\n
 \n
 Session materials: https://datatracker.ietf.org/meeting/102/session/tls\n
 \n
 See in schedule: https://datatracker.ietf.org/meeting/102/agenda#row-102-2018-07-16-mon-1330-sec-tls\n
END:VEVENT
BEGIN:VEVENT
UID:ietf-102-10115-secdispatch
SUMMARY:secdispatch - Security Dispatch
LOCATION:Viger
STATUS:CONFIRMED
CLASS:PUBLIC
DTSTART;TZID=America/Toronto:20180716T155000
DTEND;TZID=America/Toronto:20180716T175000
DTSTAMP:20180608T123255Z
URL:https://datatracker.ietf.org/meeting/102/materials/agenda-102-secdispatch-04
DESCRIPTION:Afternoon Session II\n
 \n
 Meetecho: http://www.meetecho.com/ietf102/secdispatch/\n
 \n
 Agenda https://datatracker.ietf.org/meeting/102/materials/agenda-102-secdispatch-04\n
 \n
 Session materials: https://datatracker.ietf.org/meeting/102/session/secdispatch\n
 \n
 See in schedule: https://datatracker.ietf.org/meeting/102/agenda#row-102-2018-07-16-mon-1550-sec-secdispatch\n
END:VEVENT
BEGIN:VEVENT
UID:ietf-102-10091-teep
SUMMARY:teep - Trusted Execution Environment Provisioning
LOCATION:Viger
STATUS:CONFIRMED
CLASS:PUBLIC
DTSTART;TZID=America/Toronto:20180717T133000
DTEND;TZID=America/Toronto:20180717T153000
DTSTAMP:20180605T082908Z
URL:https://datatracker.ietf.org/meeting/102/materials/agenda-102-teep-03
DESCRIPTION:Afternoon Session I\n
 \n
 Meetecho: http://www.meetecho.com/ietf102/teep/\n
 \n
 Agenda https://datatracker.ietf.org/meeting/102/materials/agenda-102-teep-03\n
 \n
 Session materials: https://datatracker.ietf.org/meeting/102/session/teep\n
 \n
 See in schedule: https://datatracker.ietf.org/meeting/102/agenda#row-102-2018-07-17-tue-1330-sec-teep\n
END:VEVENT
BEGIN:VEVENT
UID:ietf-102-10086-acme
SUMMARY:acme - Automated Certificate Management Environment (1720 - 1820)
LOCATION:Van Horne
STATUS:CONFIRMED
CLASS:PUBLIC
DTSTART;TZID=America/Toronto:20180717T155000
DTEND;TZID=America/Toronto:20180717T182000
DTSTAMP:20180605T082908Z
URL:https://datatracker.ietf.org/meeting/102/materials/agenda-102-acme-00
DESCRIPTION:Afternoon Session II\n
 Note: 1720 - 1820\n
 \n
 Meetecho: http://www.meetecho.com/ietf102/acme/\n
 \n
 Agenda https://datatracker.ietf.org/meeting/102/materials/agenda-102-acme-00\n
 \n
 Session materials: https://datatracker.ietf.org/meeting/102/session/acme\n
 \n
 See in schedule: https://datatracker.ietf.org/meeting/102/agenda#row-102-2018-07-17-tue-1550-sec-acme\n
END:VEVENT
BEGIN:VEVENT
UID:ietf-102-10086-oauth
SUMMARY:oauth - Web Authorization Protocol (1550 - 1720)
LOCATION:Van Horne
STATUS:CONFIRMED
CLASS:PUBLIC
DTSTART;TZID=America/Toronto:20180717T155000
DTEND;TZID=America/Toronto:20180717T182000
DTSTAMP:20180605T082908Z
URL:https://datatracker.ietf.org/meeting/102/materials/agenda-102-oauth-03
DESCRIPTION:Afternoon Session II\n
 Note: 1550 - 1720\n
 \n
 Meetecho: http://www.meetecho.com/ietf102/oauth/\n
 \n
 Agenda https://datatracker.ietf.org/meeting/102/materials/agenda-102-oauth-03\n
 \n
 Session materials: https://datatracker.ietf.org/meeting/102/session/oauth\n
 \n
 See in schedule: https://datatracker.ietf.org/meeting/102/agenda#row-102-2018-07-17-tue-1550-sec-oauth\n
END:VEVENT
BEGIN:VEVENT
UID:ietf-102-10077-suit
SUMMARY:suit - Software Updates for Internet of Things
LOCATION:Duluth
STATUS:CONFIRMED
CLASS:PUBLIC
DTSTART;TZID=America/Toronto:20180718T093000
DTEND;TZID=America/Toronto:20180718T120000
DTSTAMP:20180605T082908Z
URL:https://datatracker.ietf.org/meeting/102/materials/agenda-102-suit-01
DESCRIPTION:Morning Session I\n
 \n
 Meetecho: http://www.meetecho.com/ietf102/suit/\n
 \n
 Agenda https://datatracker.ietf.org/meeting/102/materials/agenda-102-suit-01\n
 \n
 Session materials: https://datatracker.ietf.org/meeting/102/session/suit\n
 \n
 See in schedule: https://datatracker.ietf.org/meeting/102/agenda#row-102-2018-07-18-wed-0930-sec-suit\n
END:VEVENT
BEGIN:VEVENT
UID:ietf-102-10070-i2nsf
SUMMARY:i2nsf - Interface to Network Security Functions
LOCATION:Van Horne
STATUS:CONFIRMED
CLASS:PUBLIC
DTSTART;TZID=America/Toronto:20180718T133000
DTEND;TZID=America/Toronto:20180718T150000
DTSTAMP:20180605T082908Z
URL:https://datatracker.ietf.org/meeting/102/materials/agenda-102-i2nsf-00
DESCRIPTION:Afternoon Session I\n
 \n
 Meetecho: http://www.meetecho.com/ietf102/i2nsf/\n
 \n
 Agenda https://datatracker.ietf.org/meeting/102/materials/agenda-102-i2nsf-00\n
 \n
 Session materials: https://datatracker.ietf.org/meeting/102/session/i2nsf\n
 \n
 See in schedule: https://datatracker.ietf.org/meeting/102/agenda#row-102-2018-07-18-wed-1330-sec-i2nsf\n
END:VEVENT
BEGIN:VEVENT
UID:ietf-102-10063-ipsecme
SUMMARY:ipsecme - IP Security Maintenance and Extensions
LOCATION:Saint-Paul/Sainte-Catherine
STATUS:CONFIRMED
CLASS:PUBLIC
DTSTART;TZID=America/Toronto:20180718T152000
DTEND;TZID=America/Toronto:20180718T165000
DTSTAMP:20180605T082908Z
URL:https://datatracker.ietf.org/meeting/102/materials/agenda-102-ipsecme-02
DESCRIPTION:Afternoon Session II\n
 \n
 Meetecho: http://www.meetecho.com/ietf102/ipsecme/\n
 \n
 Agenda https://datatracker.ietf.org/meeting/102/materials/agenda-102-ipsecme-02\n
 \n
 Session materials: https://datatracker.ietf.org/meeting/102/session/ipsecme\n
 \n
 See in schedule: https://datatracker.ietf.org/meeting/102/agenda#row-102-2018-07-18-wed-1520-sec-ipsecme\n
END:VEVENT
BEGIN:VEVENT
UID:ietf-102-10055-mile
SUMMARY:mile - Managed Incident Lightweight Exchange (0930 - 1100)
LOCATION:Saint-Paul/Sainte-Catherine
STATUS:CONFIRMED
CLASS:PUBLIC
DTSTART;TZID=America/Toronto:20180719T093000
DTEND;TZID=America/Toronto:20180719T120000
DTSTAMP:20180605T082908Z
URL:https://datatracker.ietf.org/meeting/102/materials/agenda-102-mile-04
DESCRIPTION:Morning Session I\n
 Note: 0930 - 1100\n
 \n
 Meetecho: http://www.meetecho.com/ietf102/mile/\n
 \n
 Agenda https://datatracker.ietf.org/meeting/102/materials/agenda-102-mile-04\n
 \n
 Session materials: https://datatracker.ietf.org/meeting/102/session/mile\n
 \n
 See in schedule: https://datatracker.ietf.org/meeting/102/agenda#row-102-2018-07-19-thu-0930-sec-mile\n
END:VEVENT
BEGIN:VEVENT
UID:ietf-102-10051-mls
SUMMARY:mls - Messaging Layer Security
LOCATION:Viger
STATUS:CONFIRMED
CLASS:PUBLIC
DTSTART;TZID=America/Toronto:20180719T093000
DTEND;TZID=America/Toronto:20180719T120000
DTSTAMP:20180605T082908Z
URL:https://datatracker.ietf.org/meeting/102/materials/agenda-102-mls-02
DESCRIPTION:Morning Session I\n
 \n
 Meetecho: http://www.meetecho.com/ietf102/mls/\n
 \n
 Agenda https://datatracker.ietf.org/meeting/102/materials/agenda-102-mls-02\n
 \n
 Session materials: https://datatracker.ietf.org/meeting/102/session/mls\n
 \n
 See in schedule: https://datatracker.ietf.org/meeting/102/agenda#row-102-2018-07-19-thu-0930-sec-mls\n
END:VEVENT
BEGIN:VEVENT
UID:ietf-102-10054-oauth
SUMMARY:oauth - Web Authorization Protocol (0930 - 1100)
LOCATION:Van Horne
STATUS:CONFIRMED
CLASS:PUBLIC
DTSTART;TZID=America/Toronto:20180719T093000
DTEND;TZID=America/Toronto:20180719T120000
DTSTAMP:20180605T082908Z
URL:https://datatracker.ietf.org/meeting/102/materials/agenda-102-oauth-03
DESCRIPTION:Morning Session I\n
 Note: 0930 - 1100\n
 \n
 Meetecho: http://www.meetecho.com/ietf102/oauth/\n
 \n
 Agenda https://datatracker.ietf.org/meeting/102/materials/agenda-102-oauth-03\n
 \n
 Session materials: https://datatracker.ietf.org/meeting/102/session/oauth\n
 \n
 See in schedule: https://datatracker.ietf.org/meeting/102/agenda#row-102-2018-07-19-thu-0930-sec-oauth\n
END:VEVENT
BEGIN:VEVENT
UID:ietf-102-10054-trans
SUMMARY:trans - Public Notary Transparency (1100 - 1200)
LOCATION:Van Horne
STATUS:CONFIRMED
CLASS:PUBLIC
DTSTART;TZID=America/Toronto:20180719T093000
DTEND;TZID=America/Toronto:20180719T120000
DTSTAMP:20180605T082908Z
URL:https://datatracker.ietf.org/meeting/102/materials/agenda-102-trans-00
DESCRIPTION:Morning Session I\n
 Note: 1100 - 1200\n
 \n
 Meetecho: http://www.meetecho.com/ietf102/trans/\n
 \n
 Agenda https://datatracker.ietf.org/meeting/102/materials/agenda-102-trans-00\n
 \n
 Session materials: https://datatracker.ietf.org/meeting/102/session/trans\n
 \n
 See in schedule: https://datatracker.ietf.org/meeting/102/agenda#row-102-2018-07-19-thu-0930-sec-trans\n
END:VEVENT
BEGIN:VEVENT
UID:ietf-102-10041-saag
SUMMARY:saag - Security Area Open Meeting
LOCATION:Place du Canada
STATUS:CONFIRMED
CLASS:PUBLIC
DTSTART;TZID=America/Toronto:20180719T133000
DTEND;TZID=America/Toronto:20180719T153000
DTSTAMP:20180605T082907Z
URL:https://datatracker.ietf.org/meeting/102/materials/agenda-102-saag-01
DESCRIPTION:Afternoon Session I\n
 \n
 Meetecho: http://www.meetecho.com/ietf102/saag/\n
 \n
 Agenda https://datatracker.ietf.org/meeting/102/materials/agenda-102-saag-01\n
 \n
 Session materials: https://datatracker.ietf.org/meeting/102/session/saag\n
 \n
 See in schedule: https://datatracker.ietf.org/meeting/102/agenda#row-102-2018-07-19-thu-1330-sec-saag\n
END:VEVENT
BEGIN:VEVENT
UID:ietf-102-10038-dots
SUMMARY:dots - DDoS Open Threat Signaling
LOCATION:Van Horne
STATUS:CONFIRMED
CLASS:PUBLIC
DTSTART;TZID=America/Toronto:20180719T155000
DTEND;TZID=America/Toronto:20180719T175000
DTSTAMP:20180605T082907Z
URL:https://datatracker.ietf.org/meeting/102/materials/agenda-102-dots-05
DESCRIPTION:Afternoon Session II\n
 \n
 Meetecho: http://www.meetecho.com/ietf102/dots/\n
 \n
 Agenda https://datatracker.ietf.org/meeting/102/materials/agenda-102-dots-05\n
 \n
 Session materials: https://datatracker.ietf.org/meeting/102/session/dots\n
 \n
 See in schedule: https://datatracker.ietf.org/meeting/102/agenda#row-102-2018-07-19-thu-1550-sec-dots\n
END:VEVENT
BEGIN:VEVENT
UID:ietf-102-10040-lamps
SUMMARY:lamps - Limited Additional Mechanisms for PKIX and SMIME
LOCATION:Notre Dame
STATUS:CONFIRMED
CLASS:PUBLIC
DTSTART;TZID=America/Toronto:20180719T155000
DTEND;TZID=America/Toronto:20180719T175000
DTSTAMP:20180605T082907Z
URL:https://datatracker.ietf.org/meeting/102/materials/agenda-102-lamps-00
DESCRIPTION:Afternoon Session II\n
 \n
 Meetecho: http://www.meetecho.com/ietf102/lamps/\n
 \n
 Agenda https://datatracker.ietf.org/meeting/102/materials/agenda-102-lamps-00\n
 \n
 Session materials: https://datatracker.ietf.org/meeting/102/session/lamps\n
 \n
 See in schedule: https://datatracker.ietf.org/meeting/102/agenda#row-102-2018-07-19-thu-1550-sec-lamps\n
END:VEVENT
BEGIN:VEVENT
UID:ietf-102-10026-tls
SUMMARY:tls - Transport Layer Security
LOCATION:Laurier
STATUS:CONFIRMED
CLASS:PUBLIC
DTSTART;TZID=America/Toronto:20180719T181000
DTEND;TZID=America/Toronto:20180719T191000
DTSTAMP:20180605T082907Z
URL:https://datatracker.ietf.org/meeting/102/materials/agenda-102-tls-06
DESCRIPTION:Afternoon Session III\n
 \n
 Meetecho: http://www.meetecho.com/ietf102/tls/\n
 \n
 Agenda https://datatracker.ietf.org/meeting/102/materials/agenda-102-tls-06\n
 \n
 Session materials: https://datatracker.ietf.org/meeting/102/session/tls\n
 \n
 See in schedule: https://datatracker.ietf.org/meeting/102/agenda#row-102-2018-07-19-thu-1810-sec-tls\n
END:VEVENT
BEGIN:VEVENT
UID:ietf-102-10024-emu
SUMMARY:emu - EAP Method Update
LOCATION:Notre Dame
STATUS:CONFIRMED
CLASS:PUBLIC
DTSTART;TZID=America/Toronto:20180720T093000
DTEND;TZID=America/Toronto:20180720T113000
DTSTAMP:20180605T082907Z
URL:https://datatracker.ietf.org/meeting/102/materials/agenda-102-emu-00
DESCRIPTION:Morning Session I\n
 \n
 Meetecho: http://www.meetecho.com/ietf102/emu/\n
 \n
 Agenda https://datatracker.ietf.org/meeting/102/materials/agenda-102-emu-00\n
 \n
 Session materials: https://datatracker.ietf.org/meeting/102/session/emu\n
 \n
 See in schedule: https://datatracker.ietf.org/meeting/102/agenda#row-102-2018-07-20-fri-0930-sec-emu\n
END:VEVENT
BEGIN:VEVENT
UID:ietf-102-10021-secevent
SUMMARY:secevent - Security Events
LOCATION:Duluth
STATUS:CONFIRMED
CLASS:PUBLIC
DTSTART;TZID=America/Toronto:20180720T093000
DTEND;TZID=America/Toronto:20180720T113000
DTSTAMP:20180605T082907Z
URL:https://datatracker.ietf.org/meeting/102/materials/agenda-102-secevent-01
DESCRIPTION:Morning Session I\n
 \n
 Meetecho: http://www.meetecho.com/ietf102/secevent/\n
 \n
 Agenda https://datatracker.ietf.org/meeting/102/materials/agenda-102-secevent-01\n
 \n
 Session materials: https://datatracker.ietf.org/meeting/102/session/secevent\n
 \n
 See in schedule: https://datatracker.ietf.org/meeting/102/agenda#row-102-2018-07-20-fri-0930-sec-secevent\n
END:VEVENT
BEGIN:VEVENT
UID:ietf-102-10014-sacm
SUMMARY:sacm - Security Automation and Continuous Monitoring
LOCATION:Van Horne
STATUS:CONFIRMED
CLASS:PUBLIC
DTSTART;TZID=America/Toronto:20180720T115000
DTEND;TZID=America/Toronto:20180720T132000
DTSTAMP:20180605T082907Z
URL:https://datatracker.ietf.org/meeting/102/materials/agenda-102-sacm-01
DESCRIPTION:Afternoon Session I\n
 \n
 Meetecho: http://www.meetecho.com/ietf102/sacm/\n
 \n
 Agenda https://datatracker.ietf.org/meeting/102/materials/agenda-102-sacm-01\n
 \n
 Session materials: https://datatracker.ietf.org/meeting/102/session/sacm\n
 \n
 See in schedule: https://datatracker.ietf.org/meeting/102/agenda#row-102-2018-07-20-fri-1150-sec-sacm\n
END:VEVENT
BEGIN:VEVENT
UID:ietf-102-10012-tokbind
SUMMARY:tokbind - Token Binding
LOCATION:Centre Ville
STATUS:CONFIRMED
CLASS:PUBLIC
DTSTART;TZID=America/Toronto:20180720T115000
DTEND;TZID=America/Toronto:20180720T132000
DTSTAMP:20180605T082907Z
URL:https://datatracker.ietf.org/meeting/102/materials/agenda-102-tokbind-00
DESCRIPTION:Afternoon Session I\n
 \n
 Meetecho: http://www.meetecho.com/ietf102/tokbind/\n
 \n
 Agenda https://datatracker.ietf.org/meeting/102/materials/agenda-102-tokbind-00\n
 \n
 Session materials: https://datatracker.ietf.org/meeting/102/session/tokbind\n
 \n
 See in schedule: https://datatracker.ietf.org/meeting/102/agenda#row-102-2018-07-20-fri-1150-sec-tokbind\n
END:VEVENT
END:VCALENDAR
