BEGIN:VCALENDAR
VERSION:2.0
METHOD:PUBLISH
PRODID:-//IETF//datatracker.ietf.org ical agenda//EN
BEGIN:VTIMEZONE
TZID:America/Toronto
X-LIC-LOCATION:America/Toronto
BEGIN:DAYLIGHT
TZOFFSETFROM:-0500
TZOFFSETTO:-0400
TZNAME:EDT
DTSTART:20070311T020000
RRULE:FREQ=YEARLY;BYMONTH=3;BYDAY=2SU
END:DAYLIGHT
BEGIN:STANDARD
TZOFFSETFROM:-0400
TZOFFSETTO:-0500
TZNAME:EST
DTSTART:20071104T020000
RRULE:FREQ=YEARLY;BYMONTH=11;BYDAY=1SU
END:STANDARD
BEGIN:STANDARD
TZOFFSETFROM:-051732
TZOFFSETTO:-0500
TZNAME:EST
DTSTART:18950101T000000
RDATE:18950101T000000
END:STANDARD
BEGIN:DAYLIGHT
TZOFFSETFROM:-0500
TZOFFSETTO:-0400
TZNAME:EDT
DTSTART:19180414T020000
RDATE:19180414T020000
RDATE:19190330T233000
RDATE:19200502T020000
RDATE:19210515T020000
RDATE:19220514T020000
RDATE:19230513T020000
RDATE:19240504T020000
RDATE:19250503T020000
RDATE:19260502T020000
RDATE:19270501T020000
RDATE:19280429T020000
RDATE:19290428T020000
RDATE:19300427T020000
RDATE:19310426T020000
RDATE:19320501T020000
RDATE:19330430T020000
RDATE:19340429T020000
RDATE:19350428T020000
RDATE:19360426T020000
RDATE:19370425T020000
RDATE:19380424T020000
RDATE:19390430T020000
RDATE:19400428T020000
RDATE:19460428T020000
RDATE:19470427T000000
RDATE:19480425T000000
RDATE:19490424T000000
RDATE:19500430T020000
RDATE:19510429T020000
RDATE:19520427T020000
RDATE:19530426T020000
RDATE:19540425T020000
RDATE:19550424T020000
RDATE:19560429T020000
RDATE:19570428T020000
RDATE:19580427T020000
RDATE:19590426T020000
RDATE:19600424T020000
RDATE:19610430T020000
RDATE:19620429T020000
RDATE:19630428T020000
RDATE:19640426T020000
RDATE:19650425T020000
RDATE:19660424T020000
RDATE:19670430T020000
RDATE:19680428T020000
RDATE:19690427T020000
RDATE:19700426T020000
RDATE:19710425T020000
RDATE:19720430T020000
RDATE:19730429T020000
RDATE:19740428T020000
RDATE:19750427T020000
RDATE:19760425T020000
RDATE:19770424T020000
RDATE:19780430T020000
RDATE:19790429T020000
RDATE:19800427T020000
RDATE:19810426T020000
RDATE:19820425T020000
RDATE:19830424T020000
RDATE:19840429T020000
RDATE:19850428T020000
RDATE:19860427T020000
RDATE:19870405T020000
RDATE:19880403T020000
RDATE:19890402T020000
RDATE:19900401T020000
RDATE:19910407T020000
RDATE:19920405T020000
RDATE:19930404T020000
RDATE:19940403T020000
RDATE:19950402T020000
RDATE:19960407T020000
RDATE:19970406T020000
RDATE:19980405T020000
RDATE:19990404T020000
RDATE:20000402T020000
RDATE:20010401T020000
RDATE:20020407T020000
RDATE:20030406T020000
RDATE:20040404T020000
RDATE:20050403T020000
RDATE:20060402T020000
END:DAYLIGHT
BEGIN:STANDARD
TZOFFSETFROM:-0400
TZOFFSETTO:-0500
TZNAME:EST
DTSTART:19181027T020000
RDATE:19181027T020000
RDATE:19191026T000000
RDATE:19200926T000000
RDATE:19210915T020000
RDATE:19220917T020000
RDATE:19230916T020000
RDATE:19240921T020000
RDATE:19250920T020000
RDATE:19260919T020000
RDATE:19270925T020000
RDATE:19280930T020000
RDATE:19290929T020000
RDATE:19300928T020000
RDATE:19310927T020000
RDATE:19320925T020000
RDATE:19331001T020000
RDATE:19340930T020000
RDATE:19350929T020000
RDATE:19360927T020000
RDATE:19370926T020000
RDATE:19380925T020000
RDATE:19390924T020000
RDATE:19450930T020000
RDATE:19460929T020000
RDATE:19470928T000000
RDATE:19480926T000000
RDATE:19491127T000000
RDATE:19501126T020000
RDATE:19510930T020000
RDATE:19520928T020000
RDATE:19530927T020000
RDATE:19540926T020000
RDATE:19550925T020000
RDATE:19560930T020000
RDATE:19571027T020000
RDATE:19581026T020000
RDATE:19591025T020000
RDATE:19601030T020000
RDATE:19611029T020000
RDATE:19621028T020000
RDATE:19631027T020000
RDATE:19641025T020000
RDATE:19651031T020000
RDATE:19661030T020000
RDATE:19671029T020000
RDATE:19681027T020000
RDATE:19691026T020000
RDATE:19701025T020000
RDATE:19711031T020000
RDATE:19721029T020000
RDATE:19731028T020000
RDATE:19741027T020000
RDATE:19751026T020000
RDATE:19761031T020000
RDATE:19771030T020000
RDATE:19781029T020000
RDATE:19791028T020000
RDATE:19801026T020000
RDATE:19811025T020000
RDATE:19821031T020000
RDATE:19831030T020000
RDATE:19841028T020000
RDATE:19851027T020000
RDATE:19861026T020000
RDATE:19871025T020000
RDATE:19881030T020000
RDATE:19891029T020000
RDATE:19901028T020000
RDATE:19911027T020000
RDATE:19921025T020000
RDATE:19931031T020000
RDATE:19941030T020000
RDATE:19951029T020000
RDATE:19961027T020000
RDATE:19971026T020000
RDATE:19981025T020000
RDATE:19991031T020000
RDATE:20001029T020000
RDATE:20011028T020000
RDATE:20021027T020000
RDATE:20031026T020000
RDATE:20041031T020000
RDATE:20051030T020000
RDATE:20061029T020000
END:STANDARD
BEGIN:STANDARD
TZOFFSETFROM:-0500
TZOFFSETTO:-0500
TZNAME:EST
DTSTART:19190101T000000
RDATE:19190101T000000
RDATE:19460101T000000
RDATE:19740101T000000
END:STANDARD
BEGIN:DAYLIGHT
TZOFFSETFROM:-0400
TZOFFSETTO:-0400
TZNAME:EWT
DTSTART:19420209T020000
RDATE:19420209T020000
END:DAYLIGHT
BEGIN:DAYLIGHT
TZOFFSETFROM:-0400
TZOFFSETTO:-0400
TZNAME:EPT
DTSTART:19450814T190000
RDATE:19450814T190000
END:DAYLIGHT
END:VTIMEZONE
BEGIN:VEVENT
UID:ietf-102-10135-alto
SUMMARY:alto - Application-Layer Traffic Optimization
LOCATION:Saint-Paul/Sainte-Catherine
STATUS:CONFIRMED
CLASS:PUBLIC
DTSTART;TZID=America/Toronto:20180716T093000
DTEND;TZID=America/Toronto:20180716T120000
DTSTAMP:20180605T082908Z
URL:https://datatracker.ietf.org/meeting/102/materials/agenda-102-alto-02
DESCRIPTION:Morning Session I\n
 \n
 Meetecho: http://www.meetecho.com/ietf102/alto/\n
 \n
 Agenda https://datatracker.ietf.org/meeting/102/materials/agenda-102-alto-02\n
 \n
 Session materials: https://datatracker.ietf.org/meeting/102/session/alto\n
 \n
 See in schedule: https://datatracker.ietf.org/meeting/102/agenda#row-102-2018-07-16-mon-0930-tsv-alto\n
END:VEVENT
BEGIN:VEVENT
UID:ietf-102-10136-nfsv4
SUMMARY:nfsv4 - Network File System Version 4
LOCATION:Notre Dame
STATUS:CONFIRMED
CLASS:PUBLIC
DTSTART;TZID=America/Toronto:20180716T093000
DTEND;TZID=America/Toronto:20180716T120000
DTSTAMP:20180605T082908Z
URL:https://datatracker.ietf.org/meeting/102/materials/agenda-102-nfsv4-01
DESCRIPTION:Morning Session I\n
 \n
 Meetecho: http://www.meetecho.com/ietf102/nfsv4/\n
 \n
 Agenda https://datatracker.ietf.org/meeting/102/materials/agenda-102-nfsv4-01\n
 \n
 Session materials: https://datatracker.ietf.org/meeting/102/session/nfsv4\n
 \n
 See in schedule: https://datatracker.ietf.org/meeting/102/agenda#row-102-2018-07-16-mon-0930-tsv-nfsv4\n
END:VEVENT
BEGIN:VEVENT
UID:ietf-102-10119-mptcp
SUMMARY:mptcp - Multipath TCP
LOCATION:Saint-Paul/Sainte-Catherine
STATUS:CONFIRMED
CLASS:PUBLIC
DTSTART;TZID=America/Toronto:20180716T155000
DTEND;TZID=America/Toronto:20180716T175000
DTSTAMP:20180608T123255Z
URL:https://datatracker.ietf.org/meeting/102/materials/agenda-102-mptcp-00
DESCRIPTION:Afternoon Session II\n
 \n
 Meetecho: http://www.meetecho.com/ietf102/mptcp/\n
 \n
 Agenda https://datatracker.ietf.org/meeting/102/materials/agenda-102-mptcp-00\n
 \n
 Session materials: https://datatracker.ietf.org/meeting/102/session/mptcp\n
 \n
 See in schedule: https://datatracker.ietf.org/meeting/102/agenda#row-102-2018-07-16-mon-1550-tsv-mptcp\n
END:VEVENT
BEGIN:VEVENT
UID:ietf-102-10100-tcpm
SUMMARY:tcpm - TCP Maintenance and Minor Extensions
LOCATION:Centre Ville
STATUS:CONFIRMED
CLASS:PUBLIC
DTSTART;TZID=America/Toronto:20180717T093000
DTEND;TZID=America/Toronto:20180717T120000
DTSTAMP:20180605T082908Z
URL:https://datatracker.ietf.org/meeting/102/materials/agenda-102-tcpm-04
DESCRIPTION:Morning Session I\n
 \n
 Meetecho: http://www.meetecho.com/ietf102/tcpm/\n
 \n
 Agenda https://datatracker.ietf.org/meeting/102/materials/agenda-102-tcpm-04\n
 \n
 Session materials: https://datatracker.ietf.org/meeting/102/session/tcpm\n
 \n
 See in schedule: https://datatracker.ietf.org/meeting/102/agenda#row-102-2018-07-17-tue-0930-tsv-tcpm\n
END:VEVENT
BEGIN:VEVENT
UID:ietf-102-10085-taps
SUMMARY:taps - Transport Services
LOCATION:Duluth
STATUS:CONFIRMED
CLASS:PUBLIC
DTSTART;TZID=America/Toronto:20180717T155000
DTEND;TZID=America/Toronto:20180717T182000
DTSTAMP:20180605T082908Z
URL:https://datatracker.ietf.org/meeting/102/materials/agenda-102-taps-01
DESCRIPTION:Afternoon Session II\n
 \n
 Meetecho: http://www.meetecho.com/ietf102/taps/\n
 \n
 Agenda https://datatracker.ietf.org/meeting/102/materials/agenda-102-taps-01\n
 \n
 Session materials: https://datatracker.ietf.org/meeting/102/session/taps\n
 \n
 See in schedule: https://datatracker.ietf.org/meeting/102/agenda#row-102-2018-07-17-tue-1550-tsv-taps\n
END:VEVENT
BEGIN:VEVENT
UID:ietf-102-10073-quic
SUMMARY:quic - QUIC
LOCATION:Place du Canada
STATUS:CONFIRMED
CLASS:PUBLIC
DTSTART;TZID=America/Toronto:20180718T093000
DTEND;TZID=America/Toronto:20180718T120000
DTSTAMP:20180605T082908Z
URL:https://datatracker.ietf.org/meeting/102/materials/agenda-102-quic-07
DESCRIPTION:Morning Session I\n
 \n
 Meetecho: http://www.meetecho.com/ietf102/quic/\n
 \n
 Agenda https://datatracker.ietf.org/meeting/102/materials/agenda-102-quic-07\n
 \n
 Session materials: https://datatracker.ietf.org/meeting/102/session/quic\n
 \n
 See in schedule: https://datatracker.ietf.org/meeting/102/agenda#row-102-2018-07-18-wed-0930-tsv-quic\n
END:VEVENT
BEGIN:VEVENT
UID:ietf-102-10071-ippm
SUMMARY:ippm - IP Performance Measurement
LOCATION:Saint-Paul/Sainte-Catherine
STATUS:CONFIRMED
CLASS:PUBLIC
DTSTART;TZID=America/Toronto:20180718T133000
DTEND;TZID=America/Toronto:20180718T150000
DTSTAMP:20180605T082908Z
URL:https://datatracker.ietf.org/meeting/102/materials/agenda-102-ippm-03
DESCRIPTION:Afternoon Session I\n
 \n
 Meetecho: http://www.meetecho.com/ietf102/ippm/\n
 \n
 Agenda https://datatracker.ietf.org/meeting/102/materials/agenda-102-ippm-03\n
 \n
 Session materials: https://datatracker.ietf.org/meeting/102/session/ippm\n
 \n
 See in schedule: https://datatracker.ietf.org/meeting/102/agenda#row-102-2018-07-18-wed-1330-tsv-ippm\n
END:VEVENT
BEGIN:VEVENT
UID:ietf-102-10059-tsvarea
SUMMARY:tsvarea - Transport Area Open Meeting
LOCATION:Viger
STATUS:CONFIRMED
CLASS:PUBLIC
DTSTART;TZID=America/Toronto:20180718T152000
DTEND;TZID=America/Toronto:20180718T165000
DTSTAMP:20180605T082908Z
URL:https://datatracker.ietf.org/meeting/102/materials/agenda-102-tsvarea-01
DESCRIPTION:Afternoon Session II\n
 \n
 Meetecho: http://www.meetecho.com/ietf102/tsvarea/\n
 \n
 Agenda https://datatracker.ietf.org/meeting/102/materials/agenda-102-tsvarea-01\n
 \n
 Session materials: https://datatracker.ietf.org/meeting/102/session/tsvarea\n
 \n
 See in schedule: https://datatracker.ietf.org/meeting/102/agenda#row-102-2018-07-18-wed-1520-tsv-tsvarea\n
END:VEVENT
BEGIN:VEVENT
UID:ietf-102-10048-dtn
SUMMARY:dtn - Delay/Disruption Tolerant Networking
LOCATION:Notre Dame
STATUS:CONFIRMED
CLASS:PUBLIC
DTSTART;TZID=America/Toronto:20180719T133000
DTEND;TZID=America/Toronto:20180719T153000
DTSTAMP:20180605T082908Z
URL:https://datatracker.ietf.org/meeting/102/materials/agenda-102-dtn-00
DESCRIPTION:Afternoon Session I\n
 \n
 Meetecho: http://www.meetecho.com/ietf102/dtn/\n
 \n
 Agenda https://datatracker.ietf.org/meeting/102/materials/agenda-102-dtn-00\n
 \n
 Session materials: https://datatracker.ietf.org/meeting/102/session/dtn\n
 \n
 See in schedule: https://datatracker.ietf.org/meeting/102/agenda#row-102-2018-07-19-thu-1330-tsv-dtn\n
END:VEVENT
BEGIN:VEVENT
UID:ietf-102-10036-tsvwg
SUMMARY:tsvwg - Transport Area Working Group
LOCATION:Centre Ville
STATUS:CONFIRMED
CLASS:PUBLIC
DTSTART;TZID=America/Toronto:20180719T155000
DTEND;TZID=America/Toronto:20180719T175000
DTSTAMP:20180605T082907Z
URL:https://datatracker.ietf.org/meeting/102/materials/agenda-102-tsvwg-09
DESCRIPTION:Afternoon Session II\n
 \n
 Meetecho: http://www.meetecho.com/ietf102/tsvwg/\n
 \n
 Agenda https://datatracker.ietf.org/meeting/102/materials/agenda-102-tsvwg-09\n
 \n
 Session materials: https://datatracker.ietf.org/meeting/102/session/tsvwg\n
 \n
 See in schedule: https://datatracker.ietf.org/meeting/102/agenda#row-102-2018-07-19-thu-1550-tsv-tsvwg\n
END:VEVENT
BEGIN:VEVENT
UID:ietf-102-10028-tsvwg
SUMMARY:tsvwg - Transport Area Working Group
LOCATION:Centre Ville
STATUS:CONFIRMED
CLASS:PUBLIC
DTSTART;TZID=America/Toronto:20180719T181000
DTEND;TZID=America/Toronto:20180719T191000
DTSTAMP:20180605T082907Z
URL:https://datatracker.ietf.org/meeting/102/materials/agenda-102-tsvwg-09
DESCRIPTION:Afternoon Session III\n
 \n
 Meetecho: http://www.meetecho.com/ietf102/tsvwg/\n
 \n
 Agenda https://datatracker.ietf.org/meeting/102/materials/agenda-102-tsvwg-09\n
 \n
 Session materials: https://datatracker.ietf.org/meeting/102/session/tsvwg\n
 \n
 See in schedule: https://datatracker.ietf.org/meeting/102/agenda#row-102-2018-07-19-thu-1810-tsv-tsvwg\n
END:VEVENT
BEGIN:VEVENT
UID:ietf-102-10023-rmcat
SUMMARY:rmcat - RTP Media Congestion Avoidance Techniques
LOCATION:Saint-Paul/Sainte-Catherine
STATUS:CONFIRMED
CLASS:PUBLIC
DTSTART;TZID=America/Toronto:20180720T093000
DTEND;TZID=America/Toronto:20180720T113000
DTSTAMP:20180605T082907Z
URL:https://datatracker.ietf.org/meeting/102/materials/agenda-102-rmcat-01
DESCRIPTION:Morning Session I\n
 \n
 Meetecho: http://www.meetecho.com/ietf102/rmcat/\n
 \n
 Agenda https://datatracker.ietf.org/meeting/102/materials/agenda-102-rmcat-01\n
 \n
 Session materials: https://datatracker.ietf.org/meeting/102/session/rmcat\n
 \n
 See in schedule: https://datatracker.ietf.org/meeting/102/agenda#row-102-2018-07-20-fri-0930-tsv-rmcat\n
END:VEVENT
END:VCALENDAR
