BEGIN:VCALENDAR
VERSION:2.0
METHOD:PUBLISH
PRODID:-//IETF//datatracker.ietf.org ical agenda//EN
BEGIN:VTIMEZONE
TZID:Europe/Prague
X-LIC-LOCATION:Europe/Prague
BEGIN:DAYLIGHT
TZOFFSETFROM:+0100
TZOFFSETTO:+0200
TZNAME:CEST
DTSTART:19810329T020000
RRULE:FREQ=YEARLY;BYMONTH=3;BYDAY=-1SU
END:DAYLIGHT
BEGIN:STANDARD
TZOFFSETFROM:+0200
TZOFFSETTO:+0100
TZNAME:CET
DTSTART:19961027T030000
RRULE:FREQ=YEARLY;BYMONTH=10;BYDAY=-1SU
END:STANDARD
BEGIN:STANDARD
TZOFFSETFROM:+005744
TZOFFSETTO:+005744
TZNAME:PMT
DTSTART:18500101T000000
RDATE:18500101T000000
END:STANDARD
BEGIN:STANDARD
TZOFFSETFROM:+005744
TZOFFSETTO:+0100
TZNAME:CET
DTSTART:18911001T000000
RDATE:18911001T000000
END:STANDARD
BEGIN:DAYLIGHT
TZOFFSETFROM:+0100
TZOFFSETTO:+0200
TZNAME:CEST
DTSTART:19160430T230000
RDATE:19160430T230000
RDATE:19170416T020000
RDATE:19180415T020000
RDATE:19400401T020000
RDATE:19430329T020000
RDATE:19440403T020000
RDATE:19450408T020000
RDATE:19460506T020000
RDATE:19470420T020000
RDATE:19480418T020000
RDATE:19490409T020000
RDATE:19790401T020000
RDATE:19800406T020000
END:DAYLIGHT
BEGIN:STANDARD
TZOFFSETFROM:+0200
TZOFFSETTO:+0100
TZNAME:CET
DTSTART:19161001T010000
RDATE:19161001T010000
RDATE:19170917T030000
RDATE:19180916T030000
RDATE:19421102T030000
RDATE:19431004T030000
RDATE:19440917T030000
RDATE:19451118T030000
RDATE:19461006T030000
RDATE:19471005T030000
RDATE:19481003T030000
RDATE:19491002T030000
RDATE:19790930T030000
RDATE:19800928T030000
RDATE:19810927T030000
RDATE:19820926T030000
RDATE:19830925T030000
RDATE:19840930T030000
RDATE:19850929T030000
RDATE:19860928T030000
RDATE:19870927T030000
RDATE:19880925T030000
RDATE:19890924T030000
RDATE:19900930T030000
RDATE:19910929T030000
RDATE:19920927T030000
RDATE:19930926T030000
RDATE:19940925T030000
RDATE:19950924T030000
END:STANDARD
BEGIN:STANDARD
TZOFFSETFROM:+0100
TZOFFSETTO:+0100
TZNAME:CET
DTSTART:19790101T000000
RDATE:19790101T000000
END:STANDARD
END:VTIMEZONE
BEGIN:VEVENT
UID:ietf-104-10792-dispatch
SUMMARY:dispatch - Dispatch (Joint with ARTAREA)
LOCATION:Congress Hall 3
STATUS:CONFIRMED
CLASS:PUBLIC
DTSTART;TZID=Europe/Prague:20190325T090000
DTEND;TZID=Europe/Prague:20190325T110000
DTSTAMP:20190212T140438Z
URL:https://datatracker.ietf.org/meeting/104/materials/agenda-104-dispatch-02
DESCRIPTION:Morning Session I\n
 Note: Joint with ARTAREA\n
 \n
 Meetecho: http://www.meetecho.com/ietf104/dispatch/\n
 \n
 Agenda https://datatracker.ietf.org/meeting/104/materials/agenda-104-dispatch-02\n
 \n
 Session materials: https://datatracker.ietf.org/meeting/104/session/dispatch\n
 \n
 See in schedule: https://datatracker.ietf.org/meeting/104/agenda#row-104-2019-03-25-mon-0900-art-dispatch\n
END:VEVENT
BEGIN:VEVENT
UID:ietf-104-10781-calext
SUMMARY:calext - Calendaring Extensions
LOCATION:Athens/Barcelona
STATUS:CONFIRMED
CLASS:PUBLIC
DTSTART;TZID=Europe/Prague:20190325T112000
DTEND;TZID=Europe/Prague:20190325T122000
DTSTAMP:20190212T140438Z
URL:https://datatracker.ietf.org/meeting/104/materials/agenda-104-calext-00
DESCRIPTION:Morning Session II\n
 \n
 Meetecho: http://www.meetecho.com/ietf104/calext/\n
 \n
 Agenda https://datatracker.ietf.org/meeting/104/materials/agenda-104-calext-00\n
 \n
 Session materials: https://datatracker.ietf.org/meeting/104/session/calext\n
 \n
 See in schedule: https://datatracker.ietf.org/meeting/104/agenda#row-104-2019-03-25-mon-1120-art-calext\n
END:VEVENT
BEGIN:VEVENT
UID:ietf-104-10773-extra
SUMMARY:extra - Email mailstore and eXtensions To Revise or Amend (13:50 - 14:50)
LOCATION:Athens/Barcelona
STATUS:CONFIRMED
CLASS:PUBLIC
DTSTART;TZID=Europe/Prague:20190325T135000
DTEND;TZID=Europe/Prague:20190325T155000
DTSTAMP:20190212T140438Z
URL:https://datatracker.ietf.org/meeting/104/materials/agenda-104-extra-00
DESCRIPTION:Afternoon Session I\n
 Note: 13:50 - 14:50\n
 \n
 Meetecho: http://www.meetecho.com/ietf104/extra/\n
 \n
 Agenda https://datatracker.ietf.org/meeting/104/materials/agenda-104-extra-00\n
 \n
 Session materials: https://datatracker.ietf.org/meeting/104/session/extra\n
 \n
 See in schedule: https://datatracker.ietf.org/meeting/104/agenda#row-104-2019-03-25-mon-1350-art-extra\n
END:VEVENT
BEGIN:VEVENT
UID:ietf-104-10773-jmap
SUMMARY:jmap - JSON Mail Access Protocol (14:50 - 15:50)
LOCATION:Athens/Barcelona
STATUS:CONFIRMED
CLASS:PUBLIC
DTSTART;TZID=Europe/Prague:20190325T135000
DTEND;TZID=Europe/Prague:20190325T155000
DTSTAMP:20190212T140438Z
URL:https://datatracker.ietf.org/meeting/104/materials/agenda-104-jmap-00
DESCRIPTION:Afternoon Session I\n
 Note: 14:50 - 15:50\n
 \n
 Meetecho: http://www.meetecho.com/ietf104/jmap/\n
 \n
 Agenda https://datatracker.ietf.org/meeting/104/materials/agenda-104-jmap-00\n
 \n
 Session materials: https://datatracker.ietf.org/meeting/104/session/jmap\n
 \n
 See in schedule: https://datatracker.ietf.org/meeting/104/agenda#row-104-2019-03-25-mon-1350-art-jmap\n
END:VEVENT
BEGIN:VEVENT
UID:ietf-104-10772-regext
SUMMARY:regext - Registration Protocols Extensions
LOCATION:Berlin/Brussels
STATUS:CONFIRMED
CLASS:PUBLIC
DTSTART;TZID=Europe/Prague:20190325T135000
DTEND;TZID=Europe/Prague:20190325T155000
DTSTAMP:20190212T140438Z
URL:https://datatracker.ietf.org/meeting/104/materials/agenda-104-regext-01
DESCRIPTION:Afternoon Session I\n
 \n
 Meetecho: http://www.meetecho.com/ietf104/regext/\n
 \n
 Agenda https://datatracker.ietf.org/meeting/104/materials/agenda-104-regext-01\n
 \n
 Session materials: https://datatracker.ietf.org/meeting/104/session/regext\n
 \n
 See in schedule: https://datatracker.ietf.org/meeting/104/agenda#row-104-2019-03-25-mon-1350-art-regext\n
END:VEVENT
BEGIN:VEVENT
UID:ietf-104-10770-httpbis
SUMMARY:httpbis - Hypertext Transfer Protocol
LOCATION:Congress Hall 2
STATUS:CONFIRMED
CLASS:PUBLIC
DTSTART;TZID=Europe/Prague:20190325T161000
DTEND;TZID=Europe/Prague:20190325T181000
DTSTAMP:20190212T140438Z
URL:https://datatracker.ietf.org/meeting/104/materials/agenda-104-httpbis-01
DESCRIPTION:Afternoon Session II\n
 \n
 Meetecho: http://www.meetecho.com/ietf104/httpbis/\n
 \n
 Agenda https://datatracker.ietf.org/meeting/104/materials/agenda-104-httpbis-01\n
 \n
 Session materials: https://datatracker.ietf.org/meeting/104/session/httpbis\n
 \n
 See in schedule: https://datatracker.ietf.org/meeting/104/agenda#row-104-2019-03-25-mon-1610-art-httpbis\n
END:VEVENT
BEGIN:VEVENT
UID:ietf-104-10755-extra
SUMMARY:extra - Email mailstore and eXtensions To Revise or Amend (09:00 - 10:00)
LOCATION:Karlin 3
STATUS:CONFIRMED
CLASS:PUBLIC
DTSTART;TZID=Europe/Prague:20190326T090000
DTEND;TZID=Europe/Prague:20190326T110000
DTSTAMP:20190212T140438Z
URL:https://datatracker.ietf.org/meeting/104/materials/agenda-104-extra-00
DESCRIPTION:Morning Session I\n
 Note: 09:00 - 10:00\n
 \n
 Meetecho: http://www.meetecho.com/ietf104/extra/\n
 \n
 Agenda https://datatracker.ietf.org/meeting/104/materials/agenda-104-extra-00\n
 \n
 Session materials: https://datatracker.ietf.org/meeting/104/session/extra\n
 \n
 See in schedule: https://datatracker.ietf.org/meeting/104/agenda#row-104-2019-03-26-tue-0900-art-extra\n
END:VEVENT
BEGIN:VEVENT
UID:ietf-104-10755-uta
SUMMARY:uta - Using TLS in Applications (10:00 - 11:00)
LOCATION:Karlin 3
STATUS:CONFIRMED
CLASS:PUBLIC
DTSTART;TZID=Europe/Prague:20190326T090000
DTEND;TZID=Europe/Prague:20190326T110000
DTSTAMP:20190212T140438Z
URL:https://datatracker.ietf.org/meeting/104/materials/agenda-104-uta-02
DESCRIPTION:Morning Session I\n
 Note: 10:00 - 11:00\n
 \n
 Meetecho: http://www.meetecho.com/ietf104/uta/\n
 \n
 Agenda https://datatracker.ietf.org/meeting/104/materials/agenda-104-uta-02\n
 \n
 Session materials: https://datatracker.ietf.org/meeting/104/session/uta\n
 \n
 See in schedule: https://datatracker.ietf.org/meeting/104/agenda#row-104-2019-03-26-tue-0900-art-uta\n
END:VEVENT
BEGIN:VEVENT
UID:ietf-104-10753-doh
SUMMARY:doh - DNS Over HTTPS
LOCATION:Grand Ballroom
STATUS:CONFIRMED
CLASS:PUBLIC
DTSTART;TZID=Europe/Prague:20190326T112000
DTEND;TZID=Europe/Prague:20190326T122000
DTSTAMP:20190212T140438Z
URL:https://datatracker.ietf.org/meeting/104/materials/agenda-104-doh-03
DESCRIPTION:Morning Session II\n
 \n
 Meetecho: http://www.meetecho.com/ietf104/doh/\n
 \n
 Agenda https://datatracker.ietf.org/meeting/104/materials/agenda-104-doh-03\n
 \n
 Session materials: https://datatracker.ietf.org/meeting/104/session/doh\n
 \n
 See in schedule: https://datatracker.ietf.org/meeting/104/agenda#row-104-2019-03-26-tue-1120-art-doh\n
END:VEVENT
BEGIN:VEVENT
UID:ietf-104-10740-core
SUMMARY:core - Constrained RESTful Environments
LOCATION:Berlin/Brussels
STATUS:CONFIRMED
CLASS:PUBLIC
DTSTART;TZID=Europe/Prague:20190326T135000
DTEND;TZID=Europe/Prague:20190326T155000
DTSTAMP:20190212T140438Z
URL:https://datatracker.ietf.org/meeting/104/materials/agenda-104-core-00
DESCRIPTION:Afternoon Session I\n
 \n
 Meetecho: http://www.meetecho.com/ietf104/core/\n
 \n
 Agenda https://datatracker.ietf.org/meeting/104/materials/agenda-104-core-00\n
 \n
 Session materials: https://datatracker.ietf.org/meeting/104/session/core\n
 \n
 See in schedule: https://datatracker.ietf.org/meeting/104/agenda#row-104-2019-03-26-tue-1350-art-core\n
END:VEVENT
BEGIN:VEVENT
UID:ietf-104-10731-avtcore
SUMMARY:avtcore - Audio/Video Transport Core Maintenance
LOCATION:Karlin 3
STATUS:CONFIRMED
CLASS:PUBLIC
DTSTART;TZID=Europe/Prague:20190326T161000
DTEND;TZID=Europe/Prague:20190326T181000
DTSTAMP:20190212T140438Z
URL:https://datatracker.ietf.org/meeting/104/materials/agenda-104-avtcore-01
DESCRIPTION:Afternoon Session II\n
 \n
 Meetecho: http://www.meetecho.com/ietf104/avtcore/\n
 \n
 Agenda https://datatracker.ietf.org/meeting/104/materials/agenda-104-avtcore-01\n
 \n
 Session materials: https://datatracker.ietf.org/meeting/104/session/avtcore\n
 \n
 See in schedule: https://datatracker.ietf.org/meeting/104/agenda#row-104-2019-03-26-tue-1610-art-avtcore\n
END:VEVENT
BEGIN:VEVENT
UID:ietf-104-10715-capport
SUMMARY:capport - Captive Portal Interaction (11:20 - 12:20)
LOCATION:Karlin 3
STATUS:CONFIRMED
CLASS:PUBLIC
DTSTART;TZID=Europe/Prague:20190327T112000
DTEND;TZID=Europe/Prague:20190327T132000
DTSTAMP:20190222T104059Z
URL:https://datatracker.ietf.org/meeting/104/materials/agenda-104-capport-02
DESCRIPTION:Morning Session II\n
 Note: 11:20 - 12:20\n
 \n
 Meetecho: http://www.meetecho.com/ietf104/capport/\n
 \n
 Agenda https://datatracker.ietf.org/meeting/104/materials/agenda-104-capport-02\n
 \n
 Session materials: https://datatracker.ietf.org/meeting/104/session/capport\n
 \n
 See in schedule: https://datatracker.ietf.org/meeting/104/agenda#row-104-2019-03-27-wed-1120-art-capport\n
END:VEVENT
BEGIN:VEVENT
UID:ietf-104-10715-mmusic
SUMMARY:mmusic - Multiparty Multimedia Session Control (12:20 - 13:20)
LOCATION:Karlin 3
STATUS:CANCELLED
CLASS:PUBLIC
DTSTART;TZID=Europe/Prague:20190327T112000
DTEND;TZID=Europe/Prague:20190327T132000
DTSTAMP:20190222T104059Z
DESCRIPTION:Morning Session II\n
 Note: 12:20 - 13:20\n
 \n
 Meetecho: http://www.meetecho.com/ietf104/mmusic/\n
 \n
 Session materials: https://datatracker.ietf.org/meeting/104/session/mmusic\n
 \n
 See in schedule: https://datatracker.ietf.org/meeting/104/agenda#row-104-2019-03-27-wed-1120-art-mmusic\n
END:VEVENT
BEGIN:VEVENT
UID:ietf-104-10865-cbor
SUMMARY:cbor - Concise Binary Object Representation Maintenance and Extensions
LOCATION:Karlin 3
STATUS:CONFIRMED
CLASS:PUBLIC
DTSTART;TZID=Europe/Prague:20190328T090000
DTEND;TZID=Europe/Prague:20190328T103000
DTSTAMP:20190222T134749Z
URL:https://datatracker.ietf.org/meeting/104/materials/agenda-104-cbor-02
DESCRIPTION:Morning Session I\n
 \n
 Meetecho: http://www.meetecho.com/ietf104/cbor/\n
 \n
 Agenda https://datatracker.ietf.org/meeting/104/materials/agenda-104-cbor-02\n
 \n
 Session materials: https://datatracker.ietf.org/meeting/104/session/cbor\n
 \n
 See in schedule: https://datatracker.ietf.org/meeting/104/agenda#row-104-2019-03-28-thu-0900-art-cbor\n
END:VEVENT
BEGIN:VEVENT
UID:ietf-104-10816-httpbis
SUMMARY:httpbis - Hypertext Transfer Protocol
LOCATION:Congress Hall 3
STATUS:CONFIRMED
CLASS:PUBLIC
DTSTART;TZID=Europe/Prague:20190328T135000
DTEND;TZID=Europe/Prague:20190328T155000
DTSTAMP:20190222T134850Z
URL:https://datatracker.ietf.org/meeting/104/materials/agenda-104-httpbis-01
DESCRIPTION:Afternoon Session I\n
 \n
 Meetecho: http://www.meetecho.com/ietf104/httpbis/\n
 \n
 Agenda https://datatracker.ietf.org/meeting/104/materials/agenda-104-httpbis-01\n
 \n
 Session materials: https://datatracker.ietf.org/meeting/104/session/httpbis\n
 \n
 See in schedule: https://datatracker.ietf.org/meeting/104/agenda#row-104-2019-03-28-thu-1350-art-httpbis\n
END:VEVENT
BEGIN:VEVENT
UID:ietf-104-10819-bimi
SUMMARY:bimi - Brand Indicators for Message Identification
LOCATION:Karlin 3
STATUS:CONFIRMED
CLASS:PUBLIC
DTSTART;TZID=Europe/Prague:20190328T161000
DTEND;TZID=Europe/Prague:20190328T181000
DTSTAMP:20190222T134923Z
URL:https://datatracker.ietf.org/meeting/104/materials/agenda-104-bimi-00
DESCRIPTION:Afternoon Session II\n
 \n
 Meetecho: http://www.meetecho.com/ietf104/bimi/\n
 \n
 Agenda https://datatracker.ietf.org/meeting/104/materials/agenda-104-bimi-00\n
 \n
 Session materials: https://datatracker.ietf.org/meeting/104/session/bimi\n
 \n
 See in schedule: https://datatracker.ietf.org/meeting/104/agenda#row-104-2019-03-28-thu-1610-art-bimi\n
END:VEVENT
BEGIN:VEVENT
UID:ietf-104-10801-core
SUMMARY:core - Constrained RESTful Environments
LOCATION:Grand Ballroom
STATUS:CONFIRMED
CLASS:PUBLIC
DTSTART;TZID=Europe/Prague:20190329T090000
DTEND;TZID=Europe/Prague:20190329T103000
DTSTAMP:20190212T140613Z
URL:https://datatracker.ietf.org/meeting/104/materials/agenda-104-core-00
DESCRIPTION:Morning Session I\n
 \n
 Meetecho: http://www.meetecho.com/ietf104/core/\n
 \n
 Agenda https://datatracker.ietf.org/meeting/104/materials/agenda-104-core-00\n
 \n
 Session materials: https://datatracker.ietf.org/meeting/104/session/core\n
 \n
 See in schedule: https://datatracker.ietf.org/meeting/104/agenda#row-104-2019-03-29-fri-0900-art-core\n
END:VEVENT
BEGIN:VEVENT
UID:ietf-104-10798-stir
SUMMARY:stir - Secure Telephone Identity Revisited
LOCATION:Karlin 1/2
STATUS:CONFIRMED
CLASS:PUBLIC
DTSTART;TZID=Europe/Prague:20190329T090000
DTEND;TZID=Europe/Prague:20190329T103000
DTSTAMP:20190212T140613Z
URL:https://datatracker.ietf.org/meeting/104/materials/agenda-104-stir-02
DESCRIPTION:Morning Session I\n
 \n
 Meetecho: http://www.meetecho.com/ietf104/stir/\n
 \n
 Agenda https://datatracker.ietf.org/meeting/104/materials/agenda-104-stir-02\n
 \n
 Session materials: https://datatracker.ietf.org/meeting/104/session/stir\n
 \n
 See in schedule: https://datatracker.ietf.org/meeting/104/agenda#row-104-2019-03-29-fri-0900-art-stir\n
END:VEVENT
END:VCALENDAR
