BEGIN:VCALENDAR
VERSION:2.0
METHOD:PUBLISH
PRODID:-//IETF//datatracker.ietf.org ical agenda//EN
BEGIN:VTIMEZONE
TZID:Europe/Prague
X-LIC-LOCATION:Europe/Prague
BEGIN:DAYLIGHT
TZOFFSETFROM:+0100
TZOFFSETTO:+0200
TZNAME:CEST
DTSTART:19810329T020000
RRULE:FREQ=YEARLY;BYMONTH=3;BYDAY=-1SU
END:DAYLIGHT
BEGIN:STANDARD
TZOFFSETFROM:+0200
TZOFFSETTO:+0100
TZNAME:CET
DTSTART:19961027T030000
RRULE:FREQ=YEARLY;BYMONTH=10;BYDAY=-1SU
END:STANDARD
BEGIN:STANDARD
TZOFFSETFROM:+005744
TZOFFSETTO:+005744
TZNAME:PMT
DTSTART:18500101T000000
RDATE:18500101T000000
END:STANDARD
BEGIN:STANDARD
TZOFFSETFROM:+005744
TZOFFSETTO:+0100
TZNAME:CET
DTSTART:18911001T000000
RDATE:18911001T000000
END:STANDARD
BEGIN:DAYLIGHT
TZOFFSETFROM:+0100
TZOFFSETTO:+0200
TZNAME:CEST
DTSTART:19160430T230000
RDATE:19160430T230000
RDATE:19170416T020000
RDATE:19180415T020000
RDATE:19400401T020000
RDATE:19430329T020000
RDATE:19440403T020000
RDATE:19450408T020000
RDATE:19460506T020000
RDATE:19470420T020000
RDATE:19480418T020000
RDATE:19490409T020000
RDATE:19790401T020000
RDATE:19800406T020000
END:DAYLIGHT
BEGIN:STANDARD
TZOFFSETFROM:+0200
TZOFFSETTO:+0100
TZNAME:CET
DTSTART:19161001T010000
RDATE:19161001T010000
RDATE:19170917T030000
RDATE:19180916T030000
RDATE:19421102T030000
RDATE:19431004T030000
RDATE:19440917T030000
RDATE:19451118T030000
RDATE:19461006T030000
RDATE:19471005T030000
RDATE:19481003T030000
RDATE:19491002T030000
RDATE:19790930T030000
RDATE:19800928T030000
RDATE:19810927T030000
RDATE:19820926T030000
RDATE:19830925T030000
RDATE:19840930T030000
RDATE:19850929T030000
RDATE:19860928T030000
RDATE:19870927T030000
RDATE:19880925T030000
RDATE:19890924T030000
RDATE:19900930T030000
RDATE:19910929T030000
RDATE:19920927T030000
RDATE:19930926T030000
RDATE:19940925T030000
RDATE:19950924T030000
END:STANDARD
BEGIN:STANDARD
TZOFFSETFROM:+0100
TZOFFSETTO:+0100
TZNAME:CET
DTSTART:19790101T000000
RDATE:19790101T000000
END:STANDARD
END:VTIMEZONE
BEGIN:VEVENT
UID:ietf-104-10560-hackathon
SUMMARY:IETF Hackathon
LOCATION:Grand Ballroom
STATUS:CONFIRMED
CLASS:PUBLIC
DTSTART;TZID=Europe/Prague:20190323T083000
DTEND;TZID=Europe/Prague:20190323T220000
DTSTAMP:20190222T115315Z
DESCRIPTION:IETF Hackathon\n
 \n
 Meetecho: http://www.meetecho.com/ietf104/hackathon/hackathon\n
 \n
 Session materials: https://datatracker.ietf.org/meeting/104/session/hackathon\n
 \n
 See in schedule: https://datatracker.ietf.org/meeting/104/agenda#row-104-2019-03-23-sat-0830-hackathon-ietf-hackathon\n
END:VEVENT
BEGIN:VEVENT
UID:ietf-104-10561-tools
SUMMARY:Code Sprint
LOCATION:Amsterdam
STATUS:CONFIRMED
CLASS:PUBLIC
DTSTART;TZID=Europe/Prague:20190323T093000
DTEND;TZID=Europe/Prague:20190323T180000
DTSTAMP:20190222T115424Z
DESCRIPTION:Code Sprint\n
 \n
 Session materials: https://datatracker.ietf.org/meeting/104/session/tools\n
 \n
 See in schedule: https://datatracker.ietf.org/meeting/104/agenda#row-104-2019-03-23-sat-0930-tools-code-sprint\n
END:VEVENT
BEGIN:VEVENT
UID:ietf-104-10910-hackathon
SUMMARY:IETF Hackathon
LOCATION:Grand Ballroom
STATUS:CONFIRMED
CLASS:PUBLIC
DTSTART;TZID=Europe/Prague:20190324T083000
DTEND;TZID=Europe/Prague:20190324T160000
DTSTAMP:20190222T192810Z
DESCRIPTION:IETF Hackathon\n
 \n
 Meetecho: http://www.meetecho.com/ietf104/hackathon/hackathon\n
 \n
 Session materials: https://datatracker.ietf.org/meeting/104/session/hackathon\n
 \n
 See in schedule: https://datatracker.ietf.org/meeting/104/agenda#row-104-2019-03-24-sun-0830-hackathon-ietf-hackathon\n
END:VEVENT
BEGIN:VEVENT
UID:ietf-104-10911-iepg
SUMMARY:IEPG Meeting
LOCATION:Athens/Barcelona
STATUS:CONFIRMED
CLASS:PUBLIC
DTSTART;TZID=Europe/Prague:20190324T100000
DTEND;TZID=Europe/Prague:20190324T120000
DTSTAMP:20190228T143904Z
DESCRIPTION:IEPG Meeting\n
 \n
 Meetecho: http://www.meetecho.com/ietf104/iepg/iepg\n
 \n
 Session materials: https://datatracker.ietf.org/meeting/104/session/iepg\n
 \n
 See in schedule: https://datatracker.ietf.org/meeting/104/agenda#row-104-2019-03-24-sun-1000-iepg-iepg-meeting\n
END:VEVENT
BEGIN:VEVENT
UID:ietf-104-10913-edu
SUMMARY:Tutorial: How to Create an Internet-Draft Using XML or Markdown
LOCATION:Karlin 1/2
STATUS:CONFIRMED
CLASS:PUBLIC
DTSTART;TZID=Europe/Prague:20190324T123000
DTEND;TZID=Europe/Prague:20190324T133000
DTSTAMP:20190226T093008Z
URL:https://datatracker.ietf.org/meeting/104/materials/agenda-104-edu-sessf-01
DESCRIPTION:Tutorial: How to Create an Internet-Draft Using XML or Markdown\n
 \n
 Meetecho: http://www.meetecho.com/ietf104/edu/tutorialids\n
 \n
 Agenda https://datatracker.ietf.org/meeting/104/materials/agenda-104-edu-sessf-01\n
 \n
 Session materials: https://datatracker.ietf.org/meeting/104/session/edu\n
 \n
 See in schedule: https://datatracker.ietf.org/meeting/104/agenda#row-104-2019-03-24-sun-1230-edu-tutorial-how-to-create-an-internet-draft-using-xml-or-markdown\n
END:VEVENT
BEGIN:VEVENT
UID:ietf-104-10912-edu
SUMMARY:Tutorial: Newcomers' Overview
LOCATION:Athens/Barcelona
STATUS:CONFIRMED
CLASS:PUBLIC
DTSTART;TZID=Europe/Prague:20190324T123000
DTEND;TZID=Europe/Prague:20190324T133000
DTSTAMP:20190228T133434Z
URL:https://datatracker.ietf.org/meeting/104/materials/agenda-104-edu-sesse-01
DESCRIPTION:Tutorial: Newcomers' Overview\n
 \n
 Meetecho: http://www.meetecho.com/ietf104/edu/tutorialnew\n
 \n
 Agenda https://datatracker.ietf.org/meeting/104/materials/agenda-104-edu-sesse-01\n
 \n
 Session materials: https://datatracker.ietf.org/meeting/104/session/edu\n
 \n
 See in schedule: https://datatracker.ietf.org/meeting/104/agenda#row-104-2019-03-24-sun-1230-edu-tutorial-newcomers-overview\n
END:VEVENT
BEGIN:VEVENT
UID:ietf-104-10914-edu
SUMMARY:Tutorial: GitHub Tools
LOCATION:Athens/Barcelona
STATUS:CONFIRMED
CLASS:PUBLIC
DTSTART;TZID=Europe/Prague:20190324T134500
DTEND;TZID=Europe/Prague:20190324T144500
DTSTAMP:20190222T193128Z
URL:https://datatracker.ietf.org/meeting/104/materials/agenda-104-edu-sessg-02
DESCRIPTION:Tutorial: GitHub Tools\n
 \n
 Meetecho: http://www.meetecho.com/ietf104/edu/tutorialgit\n
 \n
 Agenda https://datatracker.ietf.org/meeting/104/materials/agenda-104-edu-sessg-02\n
 \n
 Session materials: https://datatracker.ietf.org/meeting/104/session/edu\n
 \n
 See in schedule: https://datatracker.ietf.org/meeting/104/agenda#row-104-2019-03-24-sun-1345-edu-tutorial-github-tools\n
END:VEVENT
BEGIN:VEVENT
UID:ietf-104-10562-edu
SUMMARY:Newcomers' Quick Connections (Open to Newcomers. Note that pre-registration is required)
LOCATION:Congress Hall 1/2
STATUS:CONFIRMED
CLASS:PUBLIC
DTSTART;TZID=Europe/Prague:20190324T150000
DTEND;TZID=Europe/Prague:20190324T160000
DTSTAMP:20190228T133424Z
URL:https://datatracker.ietf.org/meeting/104/materials/agenda-104-edu-sessd-00
DESCRIPTION:Newcomers' Quick Connections (Open to Newcomers. Note that pre-registration is required)\n
 \n
 Meetecho: http://www.meetecho.com/ietf104/edu/quick\n
 \n
 Agenda https://datatracker.ietf.org/meeting/104/materials/agenda-104-edu-sessd-00\n
 \n
 Session materials: https://datatracker.ietf.org/meeting/104/session/edu\n
 \n
 See in schedule: https://datatracker.ietf.org/meeting/104/agenda#row-104-2019-03-24-sun-1500-edu-newcomers-quick-connections-open-to-newcomers-note-that-pre-registration-is-required\n
END:VEVENT
BEGIN:VEVENT
UID:ietf-104-10563-mentor
SUMMARY:Newcomers' Meet and Greet (Open to Newcomers\, WG chairs and Mentors only)
LOCATION:Congress Hall 1/2
STATUS:CONFIRMED
CLASS:PUBLIC
DTSTART;TZID=Europe/Prague:20190324T160000
DTEND;TZID=Europe/Prague:20190324T170000
DTSTAMP:20190222T115627Z
DESCRIPTION:Newcomers' Meet and Greet (Open to Newcomers\, WG chairs and Mentors only)\n
 \n
 Meetecho: http://www.meetecho.com/ietf104/mentor/newcomers\n
 \n
 Session materials: https://datatracker.ietf.org/meeting/104/session/mentor\n
 \n
 See in schedule: https://datatracker.ietf.org/meeting/104/agenda#row-104-2019-03-24-sun-1600-mentor-newcomers-meet-and-greet-open-to-newcomers-wg-chairs-and-mentors-only\n
END:VEVENT
BEGIN:VEVENT
UID:ietf-104-10915-hotrfc
SUMMARY:Hot RFC Lightning Talks
LOCATION:Congress Hall 3
STATUS:CONFIRMED
CLASS:PUBLIC
DTSTART;TZID=Europe/Prague:20190324T180000
DTEND;TZID=Europe/Prague:20190324T200000
DTSTAMP:20190222T193220Z
URL:https://datatracker.ietf.org/meeting/104/materials/agenda-104-hotrfc-12
DESCRIPTION:Hot RFC Lightning Talks\n
 \n
 Meetecho: http://www.meetecho.com/ietf104/hotrfc/hotrfc\n
 \n
 Agenda https://datatracker.ietf.org/meeting/104/materials/agenda-104-hotrfc-12\n
 \n
 Session materials: https://datatracker.ietf.org/meeting/104/session/hotrfc\n
 \n
 See in schedule: https://datatracker.ietf.org/meeting/104/agenda#row-104-2019-03-24-sun-1800-hotrfc-hot-rfc-lightning-talks\n
END:VEVENT
BEGIN:VEVENT
UID:ietf-104-10916-hackathon
SUMMARY:Hackdemo Happy Hour
LOCATION:Chez Louis
STATUS:CONFIRMED
CLASS:PUBLIC
DTSTART;TZID=Europe/Prague:20190325T183000
DTEND;TZID=Europe/Prague:20190325T200000
DTSTAMP:20190222T193350Z
DESCRIPTION:Hackdemo Happy Hour\n
 \n
 Session materials: https://datatracker.ietf.org/meeting/104/session/hackathon\n
 \n
 See in schedule: https://datatracker.ietf.org/meeting/104/agenda#row-104-2019-03-25-mon-1830-hackathon-hackdemo-happy-hour\n
END:VEVENT
BEGIN:VEVENT
UID:ietf-104-10748-bcause
SUMMARY:bcause - BNG Control-plane And User-plane SEparation
LOCATION:Berlin/Brussels
STATUS:CONFIRMED
CLASS:PUBLIC
DTSTART;TZID=Europe/Prague:20190326T112000
DTEND;TZID=Europe/Prague:20190326T122000
DTSTAMP:20190212T140438Z
URL:https://datatracker.ietf.org/meeting/104/materials/agenda-104-bcause-03
DESCRIPTION:Morning Session II\n
 \n
 Meetecho: http://www.meetecho.com/ietf104/bcause/\n
 \n
 Agenda https://datatracker.ietf.org/meeting/104/materials/agenda-104-bcause-03\n
 \n
 Session materials: https://datatracker.ietf.org/meeting/104/session/bcause\n
 \n
 See in schedule: https://datatracker.ietf.org/meeting/104/agenda#row-104-2019-03-26-tue-1120-rtg-bcause\n
END:VEVENT
BEGIN:VEVENT
UID:ietf-104-10256-edu
SUMMARY:WG Chairs Forum (For WG Chairs Only)
LOCATION:Grand Ballroom
STATUS:CONFIRMED
CLASS:PUBLIC
DTSTART;TZID=Europe/Prague:20190326T123500
DTEND;TZID=Europe/Prague:20190326T133500
DTSTAMP:20190228T150252Z
URL:https://datatracker.ietf.org/meeting/104/materials/agenda-104-edu-sessc-00
DESCRIPTION:WG Chairs Forum (For WG Chairs Only)\n
 \n
 Meetecho: http://www.meetecho.com/ietf104/edu/wglunch\n
 \n
 Agenda https://datatracker.ietf.org/meeting/104/materials/agenda-104-edu-sessc-00\n
 \n
 Session materials: https://datatracker.ietf.org/meeting/104/session/edu\n
 \n
 See in schedule: https://datatracker.ietf.org/meeting/104/agenda#row-104-2019-03-26-tue-1235-edu-wg-chairs-forum-for-wg-chairs-only\n
END:VEVENT
BEGIN:VEVENT
UID:ietf-104-10895-wgtlgo
SUMMARY:wgtlgo - Technology Deep Dive - Modern Router Architecture
LOCATION:Grand Ballroom
STATUS:CONFIRMED
CLASS:PUBLIC
DTSTART;TZID=Europe/Prague:20190327T150000
DTEND;TZID=Europe/Prague:20190327T170000
DTSTAMP:20190222T150810Z
URL:https://datatracker.ietf.org/meeting/104/materials/agenda-104-wgtlgo-02
DESCRIPTION:Afternoon Session I\n
 \n
 Meetecho: http://www.meetecho.com/ietf104/wgtlgo/\n
 \n
 Agenda https://datatracker.ietf.org/meeting/104/materials/agenda-104-wgtlgo-02\n
 \n
 Session materials: https://datatracker.ietf.org/meeting/104/session/wgtlgo\n
 \n
 See in schedule: https://datatracker.ietf.org/meeting/104/agenda#row-104-2019-03-27-wed-1500-ops-wgtlgo\n
END:VEVENT
BEGIN:VEVENT
UID:ietf-104-10251-ietf
SUMMARY:IETF Plenary
LOCATION:Congress Hall 1/2
STATUS:CONFIRMED
CLASS:PUBLIC
DTSTART;TZID=Europe/Prague:20190327T171000
DTEND;TZID=Europe/Prague:20190327T194000
DTSTAMP:20190222T115156Z
URL:https://datatracker.ietf.org/meeting/104/materials/agenda-104-ietf-sessa-01
DESCRIPTION:IETF Plenary\n
 \n
 Meetecho: http://www.meetecho.com/ietf104/ietf/plenary\n
 \n
 Agenda https://datatracker.ietf.org/meeting/104/materials/agenda-104-ietf-sessa-01\n
 \n
 Session materials: https://datatracker.ietf.org/meeting/104/session/ietf\n
 \n
 See in schedule: https://datatracker.ietf.org/meeting/104/agenda#row-104-2019-03-27-wed-1710-1plenary-ietf\n
END:VEVENT
BEGIN:VEVENT
UID:ietf-104-10248-edu
SUMMARY:Newcomers Feedback Session
LOCATION:Tyrolka
STATUS:CONFIRMED
CLASS:PUBLIC
DTSTART;TZID=Europe/Prague:20190328T080000
DTEND;TZID=Europe/Prague:20190328T090000
DTSTAMP:20190222T115749Z
URL:https://datatracker.ietf.org/meeting/104/materials/agenda-104-edu-sessb-00
DESCRIPTION:Newcomers Feedback Session\n
 \n
 Agenda https://datatracker.ietf.org/meeting/104/materials/agenda-104-edu-sessb-00\n
 \n
 Session materials: https://datatracker.ietf.org/meeting/104/session/edu\n
 \n
 See in schedule: https://datatracker.ietf.org/meeting/104/agenda#row-104-2019-03-28-thu-0800-edu-newcomers-feedback-session\n
END:VEVENT
BEGIN:VEVENT
UID:ietf-104-10872-ksk
SUMMARY:ksk - KSK Futures
LOCATION:Congress Hall 2
STATUS:CONFIRMED
CLASS:PUBLIC
DTSTART;TZID=Europe/Prague:20190328T090000
DTEND;TZID=Europe/Prague:20190328T103000
DTSTAMP:20190222T134749Z
URL:https://datatracker.ietf.org/meeting/104/materials/agenda-104-ksk-00
DESCRIPTION:Morning Session I\n
 \n
 Meetecho: http://www.meetecho.com/ietf104/ksk/\n
 \n
 Agenda https://datatracker.ietf.org/meeting/104/materials/agenda-104-ksk-00\n
 \n
 Session materials: https://datatracker.ietf.org/meeting/104/session/ksk\n
 \n
 See in schedule: https://datatracker.ietf.org/meeting/104/agenda#row-104-2019-03-28-thu-0900-ops-ksk\n
END:VEVENT
BEGIN:VEVENT
UID:ietf-104-10243-edu
SUMMARY:Host Speaker Series
LOCATION:Grand Ballroom
STATUS:CONFIRMED
CLASS:PUBLIC
DTSTART;TZID=Europe/Prague:20190328T123000
DTEND;TZID=Europe/Prague:20190328T131500
DTSTAMP:20190222T133139Z
DESCRIPTION:Host Speaker Series\n
 \n
 Meetecho: http://www.meetecho.com/ietf104/edu/speaker\n
 \n
 Session materials: https://datatracker.ietf.org/meeting/104/session/edu\n
 \n
 See in schedule: https://datatracker.ietf.org/meeting/104/agenda#row-104-2019-03-28-thu-1230-edu-host-speaker-series\n
END:VEVENT
BEGIN:VEVENT
UID:ietf-104-10817-paw
SUMMARY:paw - Predictable and Available Wireless
LOCATION:Grand Ballroom
STATUS:CONFIRMED
CLASS:PUBLIC
DTSTART;TZID=Europe/Prague:20190328T135000
DTEND;TZID=Europe/Prague:20190328T155000
DTSTAMP:20190222T134850Z
URL:https://datatracker.ietf.org/meeting/104/materials/agenda-104-paw-00
DESCRIPTION:Afternoon Session I\n
 \n
 Meetecho: http://www.meetecho.com/ietf104/paw/\n
 \n
 Agenda https://datatracker.ietf.org/meeting/104/materials/agenda-104-paw-00\n
 \n
 Session materials: https://datatracker.ietf.org/meeting/104/session/paw\n
 \n
 See in schedule: https://datatracker.ietf.org/meeting/104/agenda#row-104-2019-03-28-thu-1350-int-paw\n
END:VEVENT
BEGIN:VEVENT
UID:ietf-104-10819-bimi
SUMMARY:bimi - Brand Indicators for Message Identification
LOCATION:Karlin 3
STATUS:CONFIRMED
CLASS:PUBLIC
DTSTART;TZID=Europe/Prague:20190328T161000
DTEND;TZID=Europe/Prague:20190328T181000
DTSTAMP:20190222T134923Z
URL:https://datatracker.ietf.org/meeting/104/materials/agenda-104-bimi-00
DESCRIPTION:Afternoon Session II\n
 \n
 Meetecho: http://www.meetecho.com/ietf104/bimi/\n
 \n
 Agenda https://datatracker.ietf.org/meeting/104/materials/agenda-104-bimi-00\n
 \n
 Session materials: https://datatracker.ietf.org/meeting/104/session/bimi\n
 \n
 See in schedule: https://datatracker.ietf.org/meeting/104/agenda#row-104-2019-03-28-thu-1610-art-bimi\n
END:VEVENT
BEGIN:VEVENT
UID:ietf-104-10796-cacao
SUMMARY:cacao - Collaborative Automated Course of Action Operations for Cyber Security
LOCATION:Berlin/Brussels
STATUS:CONFIRMED
CLASS:PUBLIC
DTSTART;TZID=Europe/Prague:20190329T090000
DTEND;TZID=Europe/Prague:20190329T103000
DTSTAMP:20190212T140613Z
URL:https://datatracker.ietf.org/meeting/104/materials/agenda-104-cacao-01
DESCRIPTION:Morning Session I\n
 \n
 Meetecho: http://www.meetecho.com/ietf104/cacao/\n
 \n
 Agenda https://datatracker.ietf.org/meeting/104/materials/agenda-104-cacao-01\n
 \n
 Session materials: https://datatracker.ietf.org/meeting/104/session/cacao\n
 \n
 See in schedule: https://datatracker.ietf.org/meeting/104/agenda#row-104-2019-03-29-fri-0900-sec-cacao\n
END:VEVENT
END:VCALENDAR
