BEGIN:VCALENDAR
VERSION:2.0
METHOD:PUBLISH
PRODID:-//IETF//datatracker.ietf.org ical agenda//EN
BEGIN:VTIMEZONE
TZID:Europe/Prague
X-LIC-LOCATION:Europe/Prague
BEGIN:DAYLIGHT
TZOFFSETFROM:+0100
TZOFFSETTO:+0200
TZNAME:CEST
DTSTART:19810329T020000
RRULE:FREQ=YEARLY;BYMONTH=3;BYDAY=-1SU
END:DAYLIGHT
BEGIN:STANDARD
TZOFFSETFROM:+0200
TZOFFSETTO:+0100
TZNAME:CET
DTSTART:19961027T030000
RRULE:FREQ=YEARLY;BYMONTH=10;BYDAY=-1SU
END:STANDARD
BEGIN:STANDARD
TZOFFSETFROM:+005744
TZOFFSETTO:+005744
TZNAME:PMT
DTSTART:18500101T000000
RDATE:18500101T000000
END:STANDARD
BEGIN:STANDARD
TZOFFSETFROM:+005744
TZOFFSETTO:+0100
TZNAME:CET
DTSTART:18911001T000000
RDATE:18911001T000000
END:STANDARD
BEGIN:DAYLIGHT
TZOFFSETFROM:+0100
TZOFFSETTO:+0200
TZNAME:CEST
DTSTART:19160430T230000
RDATE:19160430T230000
RDATE:19170416T020000
RDATE:19180415T020000
RDATE:19400401T020000
RDATE:19430329T020000
RDATE:19440403T020000
RDATE:19450408T020000
RDATE:19460506T020000
RDATE:19470420T020000
RDATE:19480418T020000
RDATE:19490409T020000
RDATE:19790401T020000
RDATE:19800406T020000
END:DAYLIGHT
BEGIN:STANDARD
TZOFFSETFROM:+0200
TZOFFSETTO:+0100
TZNAME:CET
DTSTART:19161001T010000
RDATE:19161001T010000
RDATE:19170917T030000
RDATE:19180916T030000
RDATE:19421102T030000
RDATE:19431004T030000
RDATE:19440917T030000
RDATE:19451118T030000
RDATE:19461006T030000
RDATE:19471005T030000
RDATE:19481003T030000
RDATE:19491002T030000
RDATE:19790930T030000
RDATE:19800928T030000
RDATE:19810927T030000
RDATE:19820926T030000
RDATE:19830925T030000
RDATE:19840930T030000
RDATE:19850929T030000
RDATE:19860928T030000
RDATE:19870927T030000
RDATE:19880925T030000
RDATE:19890924T030000
RDATE:19900930T030000
RDATE:19910929T030000
RDATE:19920927T030000
RDATE:19930926T030000
RDATE:19940925T030000
RDATE:19950924T030000
END:STANDARD
BEGIN:STANDARD
TZOFFSETFROM:+0100
TZOFFSETTO:+0100
TZNAME:CET
DTSTART:19790101T000000
RDATE:19790101T000000
END:STANDARD
END:VTIMEZONE
BEGIN:VEVENT
UID:ietf-104-10794-6man
SUMMARY:6man - IPv6 Maintenance
LOCATION:Congress Hall 2
STATUS:CONFIRMED
CLASS:PUBLIC
DTSTART;TZID=Europe/Prague:20190325T090000
DTEND;TZID=Europe/Prague:20190325T110000
DTSTAMP:20190212T140438Z
URL:https://datatracker.ietf.org/meeting/104/materials/agenda-104-6man-04
DESCRIPTION:Morning Session I\n
 \n
 Meetecho: http://www.meetecho.com/ietf104/6man/\n
 \n
 Agenda https://datatracker.ietf.org/meeting/104/materials/agenda-104-6man-04\n
 \n
 Session materials: https://datatracker.ietf.org/meeting/104/session/6man\n
 \n
 See in schedule: https://datatracker.ietf.org/meeting/104/agenda#row-104-2019-03-25-mon-0900-int-6man\n
END:VEVENT
BEGIN:VEVENT
UID:ietf-104-10784-6tisch
SUMMARY:6tisch - IPv6 over the TSCH mode of IEEE 802.15.4e
LOCATION:Congress Hall 3
STATUS:CONFIRMED
CLASS:PUBLIC
DTSTART;TZID=Europe/Prague:20190325T112000
DTEND;TZID=Europe/Prague:20190325T122000
DTSTAMP:20190212T140438Z
URL:https://datatracker.ietf.org/meeting/104/materials/agenda-104-6tisch-07
DESCRIPTION:Morning Session II\n
 \n
 Meetecho: http://www.meetecho.com/ietf104/6tisch/\n
 \n
 Agenda https://datatracker.ietf.org/meeting/104/materials/agenda-104-6tisch-07\n
 \n
 Session materials: https://datatracker.ietf.org/meeting/104/session/6tisch\n
 \n
 See in schedule: https://datatracker.ietf.org/meeting/104/agenda#row-104-2019-03-25-mon-1120-int-6tisch\n
END:VEVENT
BEGIN:VEVENT
UID:ietf-104-10774-6lo
SUMMARY:6lo - IPv6 over Networks of Resource-constrained Nodes
LOCATION:Karlin 1/2
STATUS:CONFIRMED
CLASS:PUBLIC
DTSTART;TZID=Europe/Prague:20190325T135000
DTEND;TZID=Europe/Prague:20190325T155000
DTSTAMP:20190212T140438Z
URL:https://datatracker.ietf.org/meeting/104/materials/agenda-104-6lo-03
DESCRIPTION:Afternoon Session I\n
 \n
 Meetecho: http://www.meetecho.com/ietf104/6lo/\n
 \n
 Agenda https://datatracker.ietf.org/meeting/104/materials/agenda-104-6lo-03\n
 \n
 Session materials: https://datatracker.ietf.org/meeting/104/session/6lo\n
 \n
 See in schedule: https://datatracker.ietf.org/meeting/104/agenda#row-104-2019-03-25-mon-1350-int-6lo\n
END:VEVENT
BEGIN:VEVENT
UID:ietf-104-10764-dnssd
SUMMARY:dnssd - Extensions for Scalable DNS Service Discovery
LOCATION:Berlin/Brussels
STATUS:CONFIRMED
CLASS:PUBLIC
DTSTART;TZID=Europe/Prague:20190325T161000
DTEND;TZID=Europe/Prague:20190325T181000
DTSTAMP:20190212T140438Z
URL:https://datatracker.ietf.org/meeting/104/materials/agenda-104-dnssd-04
DESCRIPTION:Afternoon Session II\n
 \n
 Meetecho: http://www.meetecho.com/ietf104/dnssd/\n
 \n
 Agenda https://datatracker.ietf.org/meeting/104/materials/agenda-104-dnssd-04\n
 \n
 Session materials: https://datatracker.ietf.org/meeting/104/session/dnssd\n
 \n
 See in schedule: https://datatracker.ietf.org/meeting/104/agenda#row-104-2019-03-25-mon-1610-int-dnssd\n
END:VEVENT
BEGIN:VEVENT
UID:ietf-104-10757-dmm
SUMMARY:dmm - Distributed Mobility Management
LOCATION:Athens/Barcelona
STATUS:CONFIRMED
CLASS:PUBLIC
DTSTART;TZID=Europe/Prague:20190326T090000
DTEND;TZID=Europe/Prague:20190326T110000
DTSTAMP:20190212T140438Z
URL:https://datatracker.ietf.org/meeting/104/materials/agenda-104-dmm-00
DESCRIPTION:Morning Session I\n
 \n
 Meetecho: http://www.meetecho.com/ietf104/dmm/\n
 \n
 Agenda https://datatracker.ietf.org/meeting/104/materials/agenda-104-dmm-00\n
 \n
 Session materials: https://datatracker.ietf.org/meeting/104/session/dmm\n
 \n
 See in schedule: https://datatracker.ietf.org/meeting/104/agenda#row-104-2019-03-26-tue-0900-int-dmm\n
END:VEVENT
BEGIN:VEVENT
UID:ietf-104-10761-homenet
SUMMARY:homenet - Home Networking
LOCATION:Grand Ballroom
STATUS:CONFIRMED
CLASS:PUBLIC
DTSTART;TZID=Europe/Prague:20190326T090000
DTEND;TZID=Europe/Prague:20190326T110000
DTSTAMP:20190212T140438Z
URL:https://datatracker.ietf.org/meeting/104/materials/agenda-104-homenet-01
DESCRIPTION:Morning Session I\n
 \n
 Meetecho: http://www.meetecho.com/ietf104/homenet/\n
 \n
 Agenda https://datatracker.ietf.org/meeting/104/materials/agenda-104-homenet-01\n
 \n
 Session materials: https://datatracker.ietf.org/meeting/104/session/homenet\n
 \n
 See in schedule: https://datatracker.ietf.org/meeting/104/agenda#row-104-2019-03-26-tue-0900-int-homenet\n
END:VEVENT
BEGIN:VEVENT
UID:ietf-104-10749-lwig
SUMMARY:lwig - Light-Weight Implementation Guidance
LOCATION:Athens/Barcelona
STATUS:CONFIRMED
CLASS:PUBLIC
DTSTART;TZID=Europe/Prague:20190326T112000
DTEND;TZID=Europe/Prague:20190326T122000
DTSTAMP:20190212T140438Z
URL:https://datatracker.ietf.org/meeting/104/materials/agenda-104-lwig-00
DESCRIPTION:Morning Session II\n
 \n
 Meetecho: http://www.meetecho.com/ietf104/lwig/\n
 \n
 Agenda https://datatracker.ietf.org/meeting/104/materials/agenda-104-lwig-00\n
 \n
 Session materials: https://datatracker.ietf.org/meeting/104/session/lwig\n
 \n
 See in schedule: https://datatracker.ietf.org/meeting/104/agenda#row-104-2019-03-26-tue-1120-int-lwig\n
END:VEVENT
BEGIN:VEVENT
UID:ietf-104-10739-ntp
SUMMARY:ntp - Network Time Protocol (Joint with TICTOC)
LOCATION:Karlin 3
STATUS:CONFIRMED
CLASS:PUBLIC
DTSTART;TZID=Europe/Prague:20190326T135000
DTEND;TZID=Europe/Prague:20190326T155000
DTSTAMP:20190212T140438Z
URL:https://datatracker.ietf.org/meeting/104/materials/agenda-104-ntp-02
DESCRIPTION:Afternoon Session I\n
 Note: Joint with TICTOC\n
 \n
 Meetecho: http://www.meetecho.com/ietf104/ntp/\n
 \n
 Agenda https://datatracker.ietf.org/meeting/104/materials/agenda-104-ntp-02\n
 \n
 Session materials: https://datatracker.ietf.org/meeting/104/session/ntp\n
 \n
 See in schedule: https://datatracker.ietf.org/meeting/104/agenda#row-104-2019-03-26-tue-1350-int-ntp\n
END:VEVENT
BEGIN:VEVENT
UID:ietf-104-10739-tictoc
SUMMARY:tictoc - Timing over IP Connection and Transfer of Clock (Joint with NTP)
LOCATION:Karlin 3
STATUS:CONFIRMED
CLASS:PUBLIC
DTSTART;TZID=Europe/Prague:20190326T135000
DTEND;TZID=Europe/Prague:20190326T155000
DTSTAMP:20190212T140438Z
URL:https://datatracker.ietf.org/meeting/104/materials/agenda-104-tictoc-00
DESCRIPTION:Afternoon Session I\n
 Note: Joint with NTP\n
 \n
 Meetecho: http://www.meetecho.com/ietf104/tictoc/\n
 \n
 Agenda https://datatracker.ietf.org/meeting/104/materials/agenda-104-tictoc-00\n
 \n
 Session materials: https://datatracker.ietf.org/meeting/104/session/tictoc\n
 \n
 See in schedule: https://datatracker.ietf.org/meeting/104/agenda#row-104-2019-03-26-tue-1350-int-tictoc\n
END:VEVENT
BEGIN:VEVENT
UID:ietf-104-10737-lpwan
SUMMARY:lpwan - IPv6 over Low Power Wide-Area Networks
LOCATION:Grand Ballroom
STATUS:CONFIRMED
CLASS:PUBLIC
DTSTART;TZID=Europe/Prague:20190326T161000
DTEND;TZID=Europe/Prague:20190326T181000
DTSTAMP:20190212T140438Z
URL:https://datatracker.ietf.org/meeting/104/materials/agenda-104-lpwan-05
DESCRIPTION:Afternoon Session II\n
 \n
 Meetecho: http://www.meetecho.com/ietf104/lpwan/\n
 \n
 Agenda https://datatracker.ietf.org/meeting/104/materials/agenda-104-lpwan-05\n
 \n
 Session materials: https://datatracker.ietf.org/meeting/104/session/lpwan\n
 \n
 See in schedule: https://datatracker.ietf.org/meeting/104/agenda#row-104-2019-03-26-tue-1610-int-lpwan\n
END:VEVENT
BEGIN:VEVENT
UID:ietf-104-10691-dhc
SUMMARY:dhc - Dynamic Host Configuration
LOCATION:Karlin 3
STATUS:CONFIRMED
CLASS:PUBLIC
DTSTART;TZID=Europe/Prague:20190327T090000
DTEND;TZID=Europe/Prague:20190327T110000
DTSTAMP:20190222T135129Z
URL:https://datatracker.ietf.org/meeting/104/materials/agenda-104-dhc-04
DESCRIPTION:Morning Session I\n
 \n
 Meetecho: http://www.meetecho.com/ietf104/dhc/\n
 \n
 Agenda https://datatracker.ietf.org/meeting/104/materials/agenda-104-dhc-04\n
 \n
 Session materials: https://datatracker.ietf.org/meeting/104/session/dhc\n
 \n
 See in schedule: https://datatracker.ietf.org/meeting/104/agenda#row-104-2019-03-27-wed-0900-int-dhc\n
END:VEVENT
BEGIN:VEVENT
UID:ietf-104-10817-paw
SUMMARY:paw - Predictable and Available Wireless
LOCATION:Grand Ballroom
STATUS:CONFIRMED
CLASS:PUBLIC
DTSTART;TZID=Europe/Prague:20190328T135000
DTEND;TZID=Europe/Prague:20190328T155000
DTSTAMP:20190222T134850Z
URL:https://datatracker.ietf.org/meeting/104/materials/agenda-104-paw-00
DESCRIPTION:Afternoon Session I\n
 \n
 Meetecho: http://www.meetecho.com/ietf104/paw/\n
 \n
 Agenda https://datatracker.ietf.org/meeting/104/materials/agenda-104-paw-00\n
 \n
 Session materials: https://datatracker.ietf.org/meeting/104/session/paw\n
 \n
 See in schedule: https://datatracker.ietf.org/meeting/104/agenda#row-104-2019-03-28-thu-1350-int-paw\n
END:VEVENT
BEGIN:VEVENT
UID:ietf-104-10821-intarea
SUMMARY:intarea - Internet Area Working Group
LOCATION:Athens/Barcelona
STATUS:CONFIRMED
CLASS:PUBLIC
DTSTART;TZID=Europe/Prague:20190328T161000
DTEND;TZID=Europe/Prague:20190328T181000
DTSTAMP:20190222T134923Z
URL:https://datatracker.ietf.org/meeting/104/materials/agenda-104-intarea-03
DESCRIPTION:Afternoon Session II\n
 \n
 Meetecho: http://www.meetecho.com/ietf104/intarea/\n
 \n
 Agenda https://datatracker.ietf.org/meeting/104/materials/agenda-104-intarea-03\n
 \n
 Session materials: https://datatracker.ietf.org/meeting/104/session/intarea\n
 \n
 See in schedule: https://datatracker.ietf.org/meeting/104/agenda#row-104-2019-03-28-thu-1610-int-intarea\n
END:VEVENT
BEGIN:VEVENT
UID:ietf-104-10799-6man
SUMMARY:6man - IPv6 Maintenance
LOCATION:Congress Hall 1
STATUS:CONFIRMED
CLASS:PUBLIC
DTSTART;TZID=Europe/Prague:20190329T090000
DTEND;TZID=Europe/Prague:20190329T103000
DTSTAMP:20190212T140613Z
URL:https://datatracker.ietf.org/meeting/104/materials/agenda-104-6man-04
DESCRIPTION:Morning Session I\n
 \n
 Meetecho: http://www.meetecho.com/ietf104/6man/\n
 \n
 Agenda https://datatracker.ietf.org/meeting/104/materials/agenda-104-6man-04\n
 \n
 Session materials: https://datatracker.ietf.org/meeting/104/session/6man\n
 \n
 See in schedule: https://datatracker.ietf.org/meeting/104/agenda#row-104-2019-03-29-fri-0900-int-6man\n
END:VEVENT
BEGIN:VEVENT
UID:ietf-104-10810-dprive
SUMMARY:dprive - DNS PRIVate Exchange
LOCATION:Congress Hall 2
STATUS:CONFIRMED
CLASS:PUBLIC
DTSTART;TZID=Europe/Prague:20190329T105000
DTEND;TZID=Europe/Prague:20190329T125000
DTSTAMP:20190219T212719Z
URL:https://datatracker.ietf.org/meeting/104/materials/agenda-104-dprive-01
DESCRIPTION:Morning Session II\n
 \n
 Meetecho: http://www.meetecho.com/ietf104/dprive/\n
 \n
 Agenda https://datatracker.ietf.org/meeting/104/materials/agenda-104-dprive-01\n
 \n
 Session materials: https://datatracker.ietf.org/meeting/104/session/dprive\n
 \n
 See in schedule: https://datatracker.ietf.org/meeting/104/agenda#row-104-2019-03-29-fri-1050-int-dprive\n
END:VEVENT
BEGIN:VEVENT
UID:ietf-104-10804-ipwave
SUMMARY:ipwave - IP Wireless Access in Vehicular Environments
LOCATION:Berlin/Brussels
STATUS:CONFIRMED
CLASS:PUBLIC
DTSTART;TZID=Europe/Prague:20190329T105000
DTEND;TZID=Europe/Prague:20190329T125000
DTSTAMP:20190219T212719Z
URL:https://datatracker.ietf.org/meeting/104/materials/agenda-104-ipwave-03
DESCRIPTION:Morning Session II\n
 \n
 Meetecho: http://www.meetecho.com/ietf104/ipwave/\n
 \n
 Agenda https://datatracker.ietf.org/meeting/104/materials/agenda-104-ipwave-03\n
 \n
 Session materials: https://datatracker.ietf.org/meeting/104/session/ipwave\n
 \n
 See in schedule: https://datatracker.ietf.org/meeting/104/agenda#row-104-2019-03-29-fri-1050-int-ipwave\n
END:VEVENT
END:VCALENDAR
