BEGIN:VCALENDAR
VERSION:2.0
METHOD:PUBLISH
PRODID:-//IETF//datatracker.ietf.org ical agenda//EN
BEGIN:VTIMEZONE
TZID:Europe/Prague
X-LIC-LOCATION:Europe/Prague
BEGIN:DAYLIGHT
TZOFFSETFROM:+0100
TZOFFSETTO:+0200
TZNAME:CEST
DTSTART:19810329T020000
RRULE:FREQ=YEARLY;BYMONTH=3;BYDAY=-1SU
END:DAYLIGHT
BEGIN:STANDARD
TZOFFSETFROM:+0200
TZOFFSETTO:+0100
TZNAME:CET
DTSTART:19961027T030000
RRULE:FREQ=YEARLY;BYMONTH=10;BYDAY=-1SU
END:STANDARD
BEGIN:STANDARD
TZOFFSETFROM:+005744
TZOFFSETTO:+005744
TZNAME:PMT
DTSTART:18500101T000000
RDATE:18500101T000000
END:STANDARD
BEGIN:STANDARD
TZOFFSETFROM:+005744
TZOFFSETTO:+0100
TZNAME:CET
DTSTART:18911001T000000
RDATE:18911001T000000
END:STANDARD
BEGIN:DAYLIGHT
TZOFFSETFROM:+0100
TZOFFSETTO:+0200
TZNAME:CEST
DTSTART:19160430T230000
RDATE:19160430T230000
RDATE:19170416T020000
RDATE:19180415T020000
RDATE:19400401T020000
RDATE:19430329T020000
RDATE:19440403T020000
RDATE:19450408T020000
RDATE:19460506T020000
RDATE:19470420T020000
RDATE:19480418T020000
RDATE:19490409T020000
RDATE:19790401T020000
RDATE:19800406T020000
END:DAYLIGHT
BEGIN:STANDARD
TZOFFSETFROM:+0200
TZOFFSETTO:+0100
TZNAME:CET
DTSTART:19161001T010000
RDATE:19161001T010000
RDATE:19170917T030000
RDATE:19180916T030000
RDATE:19421102T030000
RDATE:19431004T030000
RDATE:19440917T030000
RDATE:19451118T030000
RDATE:19461006T030000
RDATE:19471005T030000
RDATE:19481003T030000
RDATE:19491002T030000
RDATE:19790930T030000
RDATE:19800928T030000
RDATE:19810927T030000
RDATE:19820926T030000
RDATE:19830925T030000
RDATE:19840930T030000
RDATE:19850929T030000
RDATE:19860928T030000
RDATE:19870927T030000
RDATE:19880925T030000
RDATE:19890924T030000
RDATE:19900930T030000
RDATE:19910929T030000
RDATE:19920927T030000
RDATE:19930926T030000
RDATE:19940925T030000
RDATE:19950924T030000
END:STANDARD
BEGIN:STANDARD
TZOFFSETFROM:+0100
TZOFFSETTO:+0100
TZNAME:CET
DTSTART:19790101T000000
RDATE:19790101T000000
END:STANDARD
END:VTIMEZONE
BEGIN:VEVENT
UID:ietf-104-10791-pearg
SUMMARY:pearg - Privacy Enhancements and Assessments Proposed Research Group
LOCATION:Congress Hall 1
STATUS:CONFIRMED
CLASS:PUBLIC
DTSTART;TZID=Europe/Prague:20190325T090000
DTEND;TZID=Europe/Prague:20190325T110000
DTSTAMP:20190212T140438Z
URL:https://datatracker.ietf.org/meeting/104/materials/agenda-104-pearg-03
DESCRIPTION:Morning Session I\n
 \n
 Meetecho: http://www.meetecho.com/ietf104/pearg/\n
 \n
 Agenda https://datatracker.ietf.org/meeting/104/materials/agenda-104-pearg-03\n
 \n
 Session materials: https://datatracker.ietf.org/meeting/104/session/pearg\n
 \n
 See in schedule: https://datatracker.ietf.org/meeting/104/agenda#row-104-2019-03-25-mon-0900-irtf-pearg\n
END:VEVENT
BEGIN:VEVENT
UID:ietf-104-10785-nmrg
SUMMARY:nmrg - Network Management
LOCATION:Grand Ballroom
STATUS:CONFIRMED
CLASS:PUBLIC
DTSTART;TZID=Europe/Prague:20190325T112000
DTEND;TZID=Europe/Prague:20190325T122000
DTSTAMP:20190212T140438Z
URL:https://datatracker.ietf.org/meeting/104/materials/agenda-104-nmrg-01
DESCRIPTION:Morning Session II\n
 \n
 Meetecho: http://www.meetecho.com/ietf104/nmrg/\n
 \n
 Agenda https://datatracker.ietf.org/meeting/104/materials/agenda-104-nmrg-01\n
 \n
 Session materials: https://datatracker.ietf.org/meeting/104/session/nmrg\n
 \n
 See in schedule: https://datatracker.ietf.org/meeting/104/agenda#row-104-2019-03-25-mon-1120-irtf-nmrg\n
END:VEVENT
BEGIN:VEVENT
UID:ietf-104-10778-irtfopen
SUMMARY:irtfopen - IRTF Open Meeting
LOCATION:Congress Hall 2
STATUS:CONFIRMED
CLASS:PUBLIC
DTSTART;TZID=Europe/Prague:20190325T135000
DTEND;TZID=Europe/Prague:20190325T155000
DTSTAMP:20190212T140438Z
URL:https://datatracker.ietf.org/meeting/104/materials/agenda-104-irtfopen-01
DESCRIPTION:Afternoon Session I\n
 \n
 Meetecho: http://www.meetecho.com/ietf104/irtfopen/\n
 \n
 Agenda https://datatracker.ietf.org/meeting/104/materials/agenda-104-irtfopen-01\n
 \n
 Session materials: https://datatracker.ietf.org/meeting/104/session/irtfopen\n
 \n
 See in schedule: https://datatracker.ietf.org/meeting/104/agenda#row-104-2019-03-25-mon-1350-irtf-irtfopen\n
END:VEVENT
BEGIN:VEVENT
UID:ietf-104-10769-qirg
SUMMARY:qirg - Quantum Internet Proposed Research Group
LOCATION:Grand Ballroom
STATUS:CONFIRMED
CLASS:PUBLIC
DTSTART;TZID=Europe/Prague:20190325T161000
DTEND;TZID=Europe/Prague:20190325T181000
DTSTAMP:20190212T140438Z
URL:https://datatracker.ietf.org/meeting/104/materials/agenda-104-qirg-06
DESCRIPTION:Afternoon Session II\n
 \n
 Meetecho: http://www.meetecho.com/ietf104/qirg/\n
 \n
 Agenda https://datatracker.ietf.org/meeting/104/materials/agenda-104-qirg-06\n
 \n
 Session materials: https://datatracker.ietf.org/meeting/104/session/qirg\n
 \n
 See in schedule: https://datatracker.ietf.org/meeting/104/agenda#row-104-2019-03-25-mon-1610-irtf-qirg\n
END:VEVENT
BEGIN:VEVENT
UID:ietf-104-10751-qirg
SUMMARY:qirg - Quantum Internet Proposed Research Group
LOCATION:Congress Hall 1
STATUS:CONFIRMED
CLASS:PUBLIC
DTSTART;TZID=Europe/Prague:20190326T112000
DTEND;TZID=Europe/Prague:20190326T122000
DTSTAMP:20190212T140438Z
URL:https://datatracker.ietf.org/meeting/104/materials/agenda-104-qirg-06
DESCRIPTION:Morning Session II\n
 \n
 Meetecho: http://www.meetecho.com/ietf104/qirg/\n
 \n
 Agenda https://datatracker.ietf.org/meeting/104/materials/agenda-104-qirg-06\n
 \n
 Session materials: https://datatracker.ietf.org/meeting/104/session/qirg\n
 \n
 See in schedule: https://datatracker.ietf.org/meeting/104/agenda#row-104-2019-03-26-tue-1120-irtf-qirg\n
END:VEVENT
BEGIN:VEVENT
UID:ietf-104-10735-t2trg
SUMMARY:t2trg - Thing-to-Thing
LOCATION:Congress Hall 1
STATUS:CONFIRMED
CLASS:PUBLIC
DTSTART;TZID=Europe/Prague:20190326T161000
DTEND;TZID=Europe/Prague:20190326T181000
DTSTAMP:20190212T140438Z
URL:https://datatracker.ietf.org/meeting/104/materials/agenda-104-t2trg-00
DESCRIPTION:Afternoon Session II\n
 \n
 Meetecho: http://www.meetecho.com/ietf104/t2trg/\n
 \n
 Agenda https://datatracker.ietf.org/meeting/104/materials/agenda-104-t2trg-00\n
 \n
 Session materials: https://datatracker.ietf.org/meeting/104/session/t2trg\n
 \n
 See in schedule: https://datatracker.ietf.org/meeting/104/agenda#row-104-2019-03-26-tue-1610-irtf-t2trg\n
END:VEVENT
BEGIN:VEVENT
UID:ietf-104-10694-dinrg
SUMMARY:dinrg - Decentralized Internet Infrastructure
LOCATION:Karlin 1/2
STATUS:CONFIRMED
CLASS:PUBLIC
DTSTART;TZID=Europe/Prague:20190327T090000
DTEND;TZID=Europe/Prague:20190327T110000
DTSTAMP:20190222T135129Z
URL:https://datatracker.ietf.org/meeting/104/materials/agenda-104-dinrg-00
DESCRIPTION:Morning Session I\n
 \n
 Meetecho: http://www.meetecho.com/ietf104/dinrg/\n
 \n
 Agenda https://datatracker.ietf.org/meeting/104/materials/agenda-104-dinrg-00\n
 \n
 Session materials: https://datatracker.ietf.org/meeting/104/session/dinrg\n
 \n
 See in schedule: https://datatracker.ietf.org/meeting/104/agenda#row-104-2019-03-27-wed-0900-irtf-dinrg\n
END:VEVENT
BEGIN:VEVENT
UID:ietf-104-10721-cfrg
SUMMARY:cfrg - Crypto Forum (12:20 - 13:20)
LOCATION:Grand Ballroom
STATUS:CONFIRMED
CLASS:PUBLIC
DTSTART;TZID=Europe/Prague:20190327T112000
DTEND;TZID=Europe/Prague:20190327T132000
DTSTAMP:20190222T104059Z
URL:https://datatracker.ietf.org/meeting/104/materials/agenda-104-cfrg-00
DESCRIPTION:Morning Session II\n
 Note: 12:20 - 13:20\n
 \n
 Meetecho: http://www.meetecho.com/ietf104/cfrg/\n
 \n
 Agenda https://datatracker.ietf.org/meeting/104/materials/agenda-104-cfrg-00\n
 \n
 Session materials: https://datatracker.ietf.org/meeting/104/session/cfrg\n
 \n
 See in schedule: https://datatracker.ietf.org/meeting/104/agenda#row-104-2019-03-27-wed-1120-irtf-cfrg\n
END:VEVENT
BEGIN:VEVENT
UID:ietf-104-10870-panrg
SUMMARY:panrg - Path Aware Networking RG
LOCATION:Congress Hall 3
STATUS:CONFIRMED
CLASS:PUBLIC
DTSTART;TZID=Europe/Prague:20190328T090000
DTEND;TZID=Europe/Prague:20190328T103000
DTSTAMP:20190222T134749Z
URL:https://datatracker.ietf.org/meeting/104/materials/agenda-104-panrg-02
DESCRIPTION:Morning Session I\n
 \n
 Meetecho: http://www.meetecho.com/ietf104/panrg/\n
 \n
 Agenda https://datatracker.ietf.org/meeting/104/materials/agenda-104-panrg-02\n
 \n
 Session materials: https://datatracker.ietf.org/meeting/104/session/panrg\n
 \n
 See in schedule: https://datatracker.ietf.org/meeting/104/agenda#row-104-2019-03-28-thu-0900-irtf-panrg\n
END:VEVENT
BEGIN:VEVENT
UID:ietf-104-10687-coinrg
SUMMARY:coinrg - Computing in the Network Proposed Research Group
LOCATION:Congress Hall 1
STATUS:CONFIRMED
CLASS:PUBLIC
DTSTART;TZID=Europe/Prague:20190328T105000
DTEND;TZID=Europe/Prague:20190328T122000
DTSTAMP:20190222T134811Z
URL:https://datatracker.ietf.org/meeting/104/materials/agenda-104-coinrg-01
DESCRIPTION:Morning Session II\n
 \n
 Meetecho: http://www.meetecho.com/ietf104/coinrg/\n
 \n
 Agenda https://datatracker.ietf.org/meeting/104/materials/agenda-104-coinrg-01\n
 \n
 Session materials: https://datatracker.ietf.org/meeting/104/session/coinrg\n
 \n
 See in schedule: https://datatracker.ietf.org/meeting/104/agenda#row-104-2019-03-28-thu-1050-irtf-coinrg\n
END:VEVENT
BEGIN:VEVENT
UID:ietf-104-10690-maprg
SUMMARY:maprg - Measurement and Analysis for Protocols
LOCATION:Congress Hall 2
STATUS:CONFIRMED
CLASS:PUBLIC
DTSTART;TZID=Europe/Prague:20190328T105000
DTEND;TZID=Europe/Prague:20190328T122000
DTSTAMP:20190222T134811Z
URL:https://datatracker.ietf.org/meeting/104/materials/agenda-104-maprg-04
DESCRIPTION:Morning Session II\n
 \n
 Meetecho: http://www.meetecho.com/ietf104/maprg/\n
 \n
 Agenda https://datatracker.ietf.org/meeting/104/materials/agenda-104-maprg-04\n
 \n
 Session materials: https://datatracker.ietf.org/meeting/104/session/maprg\n
 \n
 See in schedule: https://datatracker.ietf.org/meeting/104/agenda#row-104-2019-03-28-thu-1050-irtf-maprg\n
END:VEVENT
BEGIN:VEVENT
UID:ietf-104-10814-nmrg
SUMMARY:nmrg - Network Management
LOCATION:Karlin 1/2
STATUS:CONFIRMED
CLASS:PUBLIC
DTSTART;TZID=Europe/Prague:20190328T135000
DTEND;TZID=Europe/Prague:20190328T155000
DTSTAMP:20190222T134850Z
URL:https://datatracker.ietf.org/meeting/104/materials/agenda-104-nmrg-01
DESCRIPTION:Afternoon Session I\n
 \n
 Meetecho: http://www.meetecho.com/ietf104/nmrg/\n
 \n
 Agenda https://datatracker.ietf.org/meeting/104/materials/agenda-104-nmrg-01\n
 \n
 Session materials: https://datatracker.ietf.org/meeting/104/session/nmrg\n
 \n
 See in schedule: https://datatracker.ietf.org/meeting/104/agenda#row-104-2019-03-28-thu-1350-irtf-nmrg\n
END:VEVENT
BEGIN:VEVENT
UID:ietf-104-10812-nwcrg
SUMMARY:nwcrg - Coding for efficient NetWork Communications Research Group
LOCATION:Berlin/Brussels
STATUS:CONFIRMED
CLASS:PUBLIC
DTSTART;TZID=Europe/Prague:20190328T135000
DTEND;TZID=Europe/Prague:20190328T155000
DTSTAMP:20190222T134850Z
URL:https://datatracker.ietf.org/meeting/104/materials/agenda-104-nwcrg-01
DESCRIPTION:Afternoon Session I\n
 \n
 Meetecho: http://www.meetecho.com/ietf104/nwcrg/\n
 \n
 Agenda https://datatracker.ietf.org/meeting/104/materials/agenda-104-nwcrg-01\n
 \n
 Session materials: https://datatracker.ietf.org/meeting/104/session/nwcrg\n
 \n
 See in schedule: https://datatracker.ietf.org/meeting/104/agenda#row-104-2019-03-28-thu-1350-irtf-nwcrg\n
END:VEVENT
BEGIN:VEVENT
UID:ietf-104-10820-hrpc
SUMMARY:hrpc - Human Rights Protocol Considerations
LOCATION:Berlin/Brussels
STATUS:CONFIRMED
CLASS:PUBLIC
DTSTART;TZID=Europe/Prague:20190328T161000
DTEND;TZID=Europe/Prague:20190328T181000
DTSTAMP:20190222T134923Z
URL:https://datatracker.ietf.org/meeting/104/materials/agenda-104-hrpc-05
DESCRIPTION:Afternoon Session II\n
 \n
 Meetecho: http://www.meetecho.com/ietf104/hrpc/\n
 \n
 Agenda https://datatracker.ietf.org/meeting/104/materials/agenda-104-hrpc-05\n
 \n
 Session materials: https://datatracker.ietf.org/meeting/104/session/hrpc\n
 \n
 See in schedule: https://datatracker.ietf.org/meeting/104/agenda#row-104-2019-03-28-thu-1610-irtf-hrpc\n
END:VEVENT
BEGIN:VEVENT
UID:ietf-104-10822-iccrg
SUMMARY:iccrg - Internet Congestion Control
LOCATION:Karlin 1/2
STATUS:CONFIRMED
CLASS:PUBLIC
DTSTART;TZID=Europe/Prague:20190328T161000
DTEND;TZID=Europe/Prague:20190328T181000
DTSTAMP:20190222T134923Z
URL:https://datatracker.ietf.org/meeting/104/materials/agenda-104-iccrg-00
DESCRIPTION:Afternoon Session II\n
 \n
 Meetecho: http://www.meetecho.com/ietf104/iccrg/\n
 \n
 Agenda https://datatracker.ietf.org/meeting/104/materials/agenda-104-iccrg-00\n
 \n
 Session materials: https://datatracker.ietf.org/meeting/104/session/iccrg\n
 \n
 See in schedule: https://datatracker.ietf.org/meeting/104/agenda#row-104-2019-03-28-thu-1610-irtf-iccrg\n
END:VEVENT
BEGIN:VEVENT
UID:ietf-104-10800-gaia
SUMMARY:gaia - Global Access to the Internet for All
LOCATION:Congress Hall 3
STATUS:CONFIRMED
CLASS:PUBLIC
DTSTART;TZID=Europe/Prague:20190329T090000
DTEND;TZID=Europe/Prague:20190329T103000
DTSTAMP:20190212T140613Z
URL:https://datatracker.ietf.org/meeting/104/materials/agenda-104-gaia-02
DESCRIPTION:Morning Session I\n
 \n
 Meetecho: http://www.meetecho.com/ietf104/gaia/\n
 \n
 Agenda https://datatracker.ietf.org/meeting/104/materials/agenda-104-gaia-02\n
 \n
 Session materials: https://datatracker.ietf.org/meeting/104/session/gaia\n
 \n
 See in schedule: https://datatracker.ietf.org/meeting/104/agenda#row-104-2019-03-29-fri-0900-irtf-gaia\n
END:VEVENT
BEGIN:VEVENT
UID:ietf-104-10806-icnrg
SUMMARY:icnrg - Information-Centric Networking
LOCATION:Karlin 1/2
STATUS:CONFIRMED
CLASS:PUBLIC
DTSTART;TZID=Europe/Prague:20190329T105000
DTEND;TZID=Europe/Prague:20190329T125000
DTSTAMP:20190219T212719Z
URL:https://datatracker.ietf.org/meeting/104/materials/agenda-104-icnrg-10
DESCRIPTION:Morning Session II\n
 \n
 Meetecho: http://www.meetecho.com/ietf104/icnrg/\n
 \n
 Agenda https://datatracker.ietf.org/meeting/104/materials/agenda-104-icnrg-10\n
 \n
 Session materials: https://datatracker.ietf.org/meeting/104/session/icnrg\n
 \n
 See in schedule: https://datatracker.ietf.org/meeting/104/agenda#row-104-2019-03-29-fri-1050-irtf-icnrg\n
END:VEVENT
END:VCALENDAR
