BEGIN:VCALENDAR
VERSION:2.0
METHOD:PUBLISH
PRODID:-//IETF//datatracker.ietf.org ical agenda//EN
BEGIN:VTIMEZONE
TZID:Europe/Prague
X-LIC-LOCATION:Europe/Prague
BEGIN:DAYLIGHT
TZOFFSETFROM:+0100
TZOFFSETTO:+0200
TZNAME:CEST
DTSTART:19810329T020000
RRULE:FREQ=YEARLY;BYMONTH=3;BYDAY=-1SU
END:DAYLIGHT
BEGIN:STANDARD
TZOFFSETFROM:+0200
TZOFFSETTO:+0100
TZNAME:CET
DTSTART:19961027T030000
RRULE:FREQ=YEARLY;BYMONTH=10;BYDAY=-1SU
END:STANDARD
BEGIN:STANDARD
TZOFFSETFROM:+005744
TZOFFSETTO:+005744
TZNAME:PMT
DTSTART:18500101T000000
RDATE:18500101T000000
END:STANDARD
BEGIN:STANDARD
TZOFFSETFROM:+005744
TZOFFSETTO:+0100
TZNAME:CET
DTSTART:18911001T000000
RDATE:18911001T000000
END:STANDARD
BEGIN:DAYLIGHT
TZOFFSETFROM:+0100
TZOFFSETTO:+0200
TZNAME:CEST
DTSTART:19160430T230000
RDATE:19160430T230000
RDATE:19170416T020000
RDATE:19180415T020000
RDATE:19400401T020000
RDATE:19430329T020000
RDATE:19440403T020000
RDATE:19450408T020000
RDATE:19460506T020000
RDATE:19470420T020000
RDATE:19480418T020000
RDATE:19490409T020000
RDATE:19790401T020000
RDATE:19800406T020000
END:DAYLIGHT
BEGIN:STANDARD
TZOFFSETFROM:+0200
TZOFFSETTO:+0100
TZNAME:CET
DTSTART:19161001T010000
RDATE:19161001T010000
RDATE:19170917T030000
RDATE:19180916T030000
RDATE:19421102T030000
RDATE:19431004T030000
RDATE:19440917T030000
RDATE:19451118T030000
RDATE:19461006T030000
RDATE:19471005T030000
RDATE:19481003T030000
RDATE:19491002T030000
RDATE:19790930T030000
RDATE:19800928T030000
RDATE:19810927T030000
RDATE:19820926T030000
RDATE:19830925T030000
RDATE:19840930T030000
RDATE:19850929T030000
RDATE:19860928T030000
RDATE:19870927T030000
RDATE:19880925T030000
RDATE:19890924T030000
RDATE:19900930T030000
RDATE:19910929T030000
RDATE:19920927T030000
RDATE:19930926T030000
RDATE:19940925T030000
RDATE:19950924T030000
END:STANDARD
BEGIN:STANDARD
TZOFFSETFROM:+0100
TZOFFSETTO:+0100
TZNAME:CET
DTSTART:19790101T000000
RDATE:19790101T000000
END:STANDARD
END:VTIMEZONE
BEGIN:VEVENT
UID:ietf-104-10793-netconf
SUMMARY:netconf - Network Configuration (09:00 - 10:00)
LOCATION:Grand Ballroom
STATUS:CONFIRMED
CLASS:PUBLIC
DTSTART;TZID=Europe/Prague:20190325T090000
DTEND;TZID=Europe/Prague:20190325T110000
DTSTAMP:20190212T140438Z
URL:https://datatracker.ietf.org/meeting/104/materials/agenda-104-netconf-03
DESCRIPTION:Morning Session I\n
 Note: 09:00 - 10:00\n
 \n
 Meetecho: http://www.meetecho.com/ietf104/netconf/\n
 \n
 Agenda https://datatracker.ietf.org/meeting/104/materials/agenda-104-netconf-03\n
 \n
 Session materials: https://datatracker.ietf.org/meeting/104/session/netconf\n
 \n
 See in schedule: https://datatracker.ietf.org/meeting/104/agenda#row-104-2019-03-25-mon-0900-ops-netconf\n
END:VEVENT
BEGIN:VEVENT
UID:ietf-104-10793-netmod
SUMMARY:netmod - Network Modeling (10:00 - 11:00)
LOCATION:Grand Ballroom
STATUS:CONFIRMED
CLASS:PUBLIC
DTSTART;TZID=Europe/Prague:20190325T090000
DTEND;TZID=Europe/Prague:20190325T110000
DTSTAMP:20190212T140438Z
URL:https://datatracker.ietf.org/meeting/104/materials/agenda-104-netmod-05
DESCRIPTION:Morning Session I\n
 Note: 10:00 - 11:00\n
 \n
 Meetecho: http://www.meetecho.com/ietf104/netmod/\n
 \n
 Agenda https://datatracker.ietf.org/meeting/104/materials/agenda-104-netmod-05\n
 \n
 Session materials: https://datatracker.ietf.org/meeting/104/session/netmod\n
 \n
 See in schedule: https://datatracker.ietf.org/meeting/104/agenda#row-104-2019-03-25-mon-0900-ops-netmod\n
END:VEVENT
BEGIN:VEVENT
UID:ietf-104-10780-opsec
SUMMARY:opsec - Operational Security Capabilities for IP Network Infrastructure
LOCATION:Berlin/Brussels
STATUS:CONFIRMED
CLASS:PUBLIC
DTSTART;TZID=Europe/Prague:20190325T112000
DTEND;TZID=Europe/Prague:20190325T122000
DTSTAMP:20190212T140438Z
URL:https://datatracker.ietf.org/meeting/104/materials/agenda-104-opsec-01
DESCRIPTION:Morning Session II\n
 \n
 Meetecho: http://www.meetecho.com/ietf104/opsec/\n
 \n
 Agenda https://datatracker.ietf.org/meeting/104/materials/agenda-104-opsec-01\n
 \n
 Session materials: https://datatracker.ietf.org/meeting/104/session/opsec\n
 \n
 See in schedule: https://datatracker.ietf.org/meeting/104/agenda#row-104-2019-03-25-mon-1120-ops-opsec\n
END:VEVENT
BEGIN:VEVENT
UID:ietf-104-10775-netmod
SUMMARY:netmod - Network Modeling
LOCATION:Congress Hall 1
STATUS:CONFIRMED
CLASS:PUBLIC
DTSTART;TZID=Europe/Prague:20190325T135000
DTEND;TZID=Europe/Prague:20190325T155000
DTSTAMP:20190212T140438Z
URL:https://datatracker.ietf.org/meeting/104/materials/agenda-104-netmod-05
DESCRIPTION:Afternoon Session I\n
 \n
 Meetecho: http://www.meetecho.com/ietf104/netmod/\n
 \n
 Agenda https://datatracker.ietf.org/meeting/104/materials/agenda-104-netmod-05\n
 \n
 Session materials: https://datatracker.ietf.org/meeting/104/session/netmod\n
 \n
 See in schedule: https://datatracker.ietf.org/meeting/104/agenda#row-104-2019-03-25-mon-1350-ops-netmod\n
END:VEVENT
BEGIN:VEVENT
UID:ietf-104-10760-sidrops
SUMMARY:sidrops - SIDR Operations
LOCATION:Congress Hall 3
STATUS:CONFIRMED
CLASS:PUBLIC
DTSTART;TZID=Europe/Prague:20190326T090000
DTEND;TZID=Europe/Prague:20190326T110000
DTSTAMP:20190212T140438Z
URL:https://datatracker.ietf.org/meeting/104/materials/agenda-104-sidrops-05
DESCRIPTION:Morning Session I\n
 \n
 Meetecho: http://www.meetecho.com/ietf104/sidrops/\n
 \n
 Agenda https://datatracker.ietf.org/meeting/104/materials/agenda-104-sidrops-05\n
 \n
 Session materials: https://datatracker.ietf.org/meeting/104/session/sidrops\n
 \n
 See in schedule: https://datatracker.ietf.org/meeting/104/agenda#row-104-2019-03-26-tue-0900-ops-sidrops\n
END:VEVENT
BEGIN:VEVENT
UID:ietf-104-10742-anima
SUMMARY:anima - Autonomic Networking Integrated Model and Approach
LOCATION:Karlin 1/2
STATUS:CONFIRMED
CLASS:PUBLIC
DTSTART;TZID=Europe/Prague:20190326T135000
DTEND;TZID=Europe/Prague:20190326T155000
DTSTAMP:20190212T140438Z
URL:https://datatracker.ietf.org/meeting/104/materials/agenda-104-anima-02
DESCRIPTION:Afternoon Session I\n
 \n
 Meetecho: http://www.meetecho.com/ietf104/anima/\n
 \n
 Agenda https://datatracker.ietf.org/meeting/104/materials/agenda-104-anima-02\n
 \n
 Session materials: https://datatracker.ietf.org/meeting/104/session/anima\n
 \n
 See in schedule: https://datatracker.ietf.org/meeting/104/agenda#row-104-2019-03-26-tue-1350-ops-anima\n
END:VEVENT
BEGIN:VEVENT
UID:ietf-104-10746-dnsop
SUMMARY:dnsop - Domain Name System Operations
LOCATION:Congress Hall 2
STATUS:CONFIRMED
CLASS:PUBLIC
DTSTART;TZID=Europe/Prague:20190326T135000
DTEND;TZID=Europe/Prague:20190326T155000
DTSTAMP:20190212T140438Z
URL:https://datatracker.ietf.org/meeting/104/materials/agenda-104-dnsop-06
DESCRIPTION:Afternoon Session I\n
 \n
 Meetecho: http://www.meetecho.com/ietf104/dnsop/\n
 \n
 Agenda https://datatracker.ietf.org/meeting/104/materials/agenda-104-dnsop-06\n
 \n
 Session materials: https://datatracker.ietf.org/meeting/104/session/dnsop\n
 \n
 See in schedule: https://datatracker.ietf.org/meeting/104/agenda#row-104-2019-03-26-tue-1350-ops-dnsop\n
END:VEVENT
BEGIN:VEVENT
UID:ietf-104-10734-grow
SUMMARY:grow - Global Routing Operations
LOCATION:Karlin 1/2
STATUS:CONFIRMED
CLASS:PUBLIC
DTSTART;TZID=Europe/Prague:20190326T161000
DTEND;TZID=Europe/Prague:20190326T181000
DTSTAMP:20190212T140438Z
URL:https://datatracker.ietf.org/meeting/104/materials/agenda-104-grow-03
DESCRIPTION:Afternoon Session II\n
 \n
 Meetecho: http://www.meetecho.com/ietf104/grow/\n
 \n
 Agenda https://datatracker.ietf.org/meeting/104/materials/agenda-104-grow-03\n
 \n
 Session materials: https://datatracker.ietf.org/meeting/104/session/grow\n
 \n
 See in schedule: https://datatracker.ietf.org/meeting/104/agenda#row-104-2019-03-26-tue-1610-ops-grow\n
END:VEVENT
BEGIN:VEVENT
UID:ietf-104-10717-bmwg
SUMMARY:bmwg - Benchmarking Methodology
LOCATION:Athens/Barcelona
STATUS:CONFIRMED
CLASS:PUBLIC
DTSTART;TZID=Europe/Prague:20190327T112000
DTEND;TZID=Europe/Prague:20190327T132000
DTSTAMP:20190222T104059Z
URL:https://datatracker.ietf.org/meeting/104/materials/agenda-104-bmwg-04
DESCRIPTION:Morning Session II\n
 \n
 Meetecho: http://www.meetecho.com/ietf104/bmwg/\n
 \n
 Agenda https://datatracker.ietf.org/meeting/104/materials/agenda-104-bmwg-04\n
 \n
 Session materials: https://datatracker.ietf.org/meeting/104/session/bmwg\n
 \n
 See in schedule: https://datatracker.ietf.org/meeting/104/agenda#row-104-2019-03-27-wed-1120-ops-bmwg\n
END:VEVENT
BEGIN:VEVENT
UID:ietf-104-10895-wgtlgo
SUMMARY:wgtlgo - Technology Deep Dive - Modern Router Architecture
LOCATION:Grand Ballroom
STATUS:CONFIRMED
CLASS:PUBLIC
DTSTART;TZID=Europe/Prague:20190327T150000
DTEND;TZID=Europe/Prague:20190327T170000
DTSTAMP:20190222T150810Z
URL:https://datatracker.ietf.org/meeting/104/materials/agenda-104-wgtlgo-02
DESCRIPTION:Afternoon Session I\n
 \n
 Meetecho: http://www.meetecho.com/ietf104/wgtlgo/\n
 \n
 Agenda https://datatracker.ietf.org/meeting/104/materials/agenda-104-wgtlgo-02\n
 \n
 Session materials: https://datatracker.ietf.org/meeting/104/session/wgtlgo\n
 \n
 See in schedule: https://datatracker.ietf.org/meeting/104/agenda#row-104-2019-03-27-wed-1500-ops-wgtlgo\n
END:VEVENT
BEGIN:VEVENT
UID:ietf-104-10872-ksk
SUMMARY:ksk - KSK Futures
LOCATION:Congress Hall 2
STATUS:CONFIRMED
CLASS:PUBLIC
DTSTART;TZID=Europe/Prague:20190328T090000
DTEND;TZID=Europe/Prague:20190328T103000
DTSTAMP:20190222T134749Z
URL:https://datatracker.ietf.org/meeting/104/materials/agenda-104-ksk-00
DESCRIPTION:Morning Session I\n
 \n
 Meetecho: http://www.meetecho.com/ietf104/ksk/\n
 \n
 Agenda https://datatracker.ietf.org/meeting/104/materials/agenda-104-ksk-00\n
 \n
 Session materials: https://datatracker.ietf.org/meeting/104/session/ksk\n
 \n
 See in schedule: https://datatracker.ietf.org/meeting/104/agenda#row-104-2019-03-28-thu-0900-ops-ksk\n
END:VEVENT
BEGIN:VEVENT
UID:ietf-104-10683-mboned
SUMMARY:mboned - MBONE Deployment
LOCATION:Karlin 3
STATUS:CONFIRMED
CLASS:PUBLIC
DTSTART;TZID=Europe/Prague:20190328T105000
DTEND;TZID=Europe/Prague:20190328T122000
DTSTAMP:20190222T134811Z
URL:https://datatracker.ietf.org/meeting/104/materials/agenda-104-mboned-01
DESCRIPTION:Morning Session II\n
 \n
 Meetecho: http://www.meetecho.com/ietf104/mboned/\n
 \n
 Agenda https://datatracker.ietf.org/meeting/104/materials/agenda-104-mboned-01\n
 \n
 Session materials: https://datatracker.ietf.org/meeting/104/session/mboned\n
 \n
 See in schedule: https://datatracker.ietf.org/meeting/104/agenda#row-104-2019-03-28-thu-1050-ops-mboned\n
END:VEVENT
BEGIN:VEVENT
UID:ietf-104-10813-v6ops
SUMMARY:v6ops - IPv6 Operations
LOCATION:Athens/Barcelona
STATUS:CONFIRMED
CLASS:PUBLIC
DTSTART;TZID=Europe/Prague:20190328T135000
DTEND;TZID=Europe/Prague:20190328T155000
DTSTAMP:20190222T134850Z
URL:https://datatracker.ietf.org/meeting/104/materials/agenda-104-v6ops-00
DESCRIPTION:Afternoon Session I\n
 \n
 Meetecho: http://www.meetecho.com/ietf104/v6ops/\n
 \n
 Agenda https://datatracker.ietf.org/meeting/104/materials/agenda-104-v6ops-00\n
 \n
 Session materials: https://datatracker.ietf.org/meeting/104/session/v6ops\n
 \n
 See in schedule: https://datatracker.ietf.org/meeting/104/agenda#row-104-2019-03-28-thu-1350-ops-v6ops\n
END:VEVENT
BEGIN:VEVENT
UID:ietf-104-10826-opsawg
SUMMARY:opsawg - Operations and Management Area Working Group
LOCATION:Congress Hall 2
STATUS:CONFIRMED
CLASS:PUBLIC
DTSTART;TZID=Europe/Prague:20190328T161000
DTEND;TZID=Europe/Prague:20190328T181000
DTSTAMP:20190222T134923Z
URL:https://datatracker.ietf.org/meeting/104/materials/agenda-104-opsawg-05
DESCRIPTION:Afternoon Session II\n
 \n
 Meetecho: http://www.meetecho.com/ietf104/opsawg/\n
 \n
 Agenda https://datatracker.ietf.org/meeting/104/materials/agenda-104-opsawg-05\n
 \n
 Session materials: https://datatracker.ietf.org/meeting/104/session/opsawg\n
 \n
 See in schedule: https://datatracker.ietf.org/meeting/104/agenda#row-104-2019-03-28-thu-1610-ops-opsawg\n
END:VEVENT
BEGIN:VEVENT
UID:ietf-104-10802-dnsop
SUMMARY:dnsop - Domain Name System Operations
LOCATION:Congress Hall 2
STATUS:CONFIRMED
CLASS:PUBLIC
DTSTART;TZID=Europe/Prague:20190329T090000
DTEND;TZID=Europe/Prague:20190329T103000
DTSTAMP:20190212T140613Z
URL:https://datatracker.ietf.org/meeting/104/materials/agenda-104-dnsop-06
DESCRIPTION:Morning Session I\n
 \n
 Meetecho: http://www.meetecho.com/ietf104/dnsop/\n
 \n
 Agenda https://datatracker.ietf.org/meeting/104/materials/agenda-104-dnsop-06\n
 \n
 Session materials: https://datatracker.ietf.org/meeting/104/session/dnsop\n
 \n
 See in schedule: https://datatracker.ietf.org/meeting/104/agenda#row-104-2019-03-29-fri-0900-ops-dnsop\n
END:VEVENT
END:VCALENDAR
