BEGIN:VCALENDAR
VERSION:2.0
METHOD:PUBLISH
PRODID:-//IETF//datatracker.ietf.org ical agenda//EN
BEGIN:VTIMEZONE
TZID:Europe/Prague
X-LIC-LOCATION:Europe/Prague
BEGIN:DAYLIGHT
TZOFFSETFROM:+0100
TZOFFSETTO:+0200
TZNAME:CEST
DTSTART:19810329T020000
RRULE:FREQ=YEARLY;BYMONTH=3;BYDAY=-1SU
END:DAYLIGHT
BEGIN:STANDARD
TZOFFSETFROM:+0200
TZOFFSETTO:+0100
TZNAME:CET
DTSTART:19961027T030000
RRULE:FREQ=YEARLY;BYMONTH=10;BYDAY=-1SU
END:STANDARD
BEGIN:STANDARD
TZOFFSETFROM:+005744
TZOFFSETTO:+005744
TZNAME:PMT
DTSTART:18500101T000000
RDATE:18500101T000000
END:STANDARD
BEGIN:STANDARD
TZOFFSETFROM:+005744
TZOFFSETTO:+0100
TZNAME:CET
DTSTART:18911001T000000
RDATE:18911001T000000
END:STANDARD
BEGIN:DAYLIGHT
TZOFFSETFROM:+0100
TZOFFSETTO:+0200
TZNAME:CEST
DTSTART:19160430T230000
RDATE:19160430T230000
RDATE:19170416T020000
RDATE:19180415T020000
RDATE:19400401T020000
RDATE:19430329T020000
RDATE:19440403T020000
RDATE:19450408T020000
RDATE:19460506T020000
RDATE:19470420T020000
RDATE:19480418T020000
RDATE:19490409T020000
RDATE:19790401T020000
RDATE:19800406T020000
END:DAYLIGHT
BEGIN:STANDARD
TZOFFSETFROM:+0200
TZOFFSETTO:+0100
TZNAME:CET
DTSTART:19161001T010000
RDATE:19161001T010000
RDATE:19170917T030000
RDATE:19180916T030000
RDATE:19421102T030000
RDATE:19431004T030000
RDATE:19440917T030000
RDATE:19451118T030000
RDATE:19461006T030000
RDATE:19471005T030000
RDATE:19481003T030000
RDATE:19491002T030000
RDATE:19790930T030000
RDATE:19800928T030000
RDATE:19810927T030000
RDATE:19820926T030000
RDATE:19830925T030000
RDATE:19840930T030000
RDATE:19850929T030000
RDATE:19860928T030000
RDATE:19870927T030000
RDATE:19880925T030000
RDATE:19890924T030000
RDATE:19900930T030000
RDATE:19910929T030000
RDATE:19920927T030000
RDATE:19930926T030000
RDATE:19940925T030000
RDATE:19950924T030000
END:STANDARD
BEGIN:STANDARD
TZOFFSETFROM:+0100
TZOFFSETTO:+0100
TZNAME:CET
DTSTART:19790101T000000
RDATE:19790101T000000
END:STANDARD
END:VTIMEZONE
BEGIN:VEVENT
UID:ietf-104-10787-bier
SUMMARY:bier - Bit Indexed Explicit Replication
LOCATION:Karlin 3
STATUS:CONFIRMED
CLASS:PUBLIC
DTSTART;TZID=Europe/Prague:20190325T090000
DTEND;TZID=Europe/Prague:20190325T110000
DTSTAMP:20190212T140438Z
URL:https://datatracker.ietf.org/meeting/104/materials/agenda-104-bier-06
DESCRIPTION:Morning Session I\n
 \n
 Meetecho: http://www.meetecho.com/ietf104/bier/\n
 \n
 Agenda https://datatracker.ietf.org/meeting/104/materials/agenda-104-bier-06\n
 \n
 Session materials: https://datatracker.ietf.org/meeting/104/session/bier\n
 \n
 See in schedule: https://datatracker.ietf.org/meeting/104/agenda#row-104-2019-03-25-mon-0900-rtg-bier\n
END:VEVENT
BEGIN:VEVENT
UID:ietf-104-10789-ccamp
SUMMARY:ccamp - Common Control and Measurement Plane
LOCATION:Athens/Barcelona
STATUS:CONFIRMED
CLASS:PUBLIC
DTSTART;TZID=Europe/Prague:20190325T090000
DTEND;TZID=Europe/Prague:20190325T110000
DTSTAMP:20190212T140438Z
URL:https://datatracker.ietf.org/meeting/104/materials/agenda-104-ccamp-00
DESCRIPTION:Morning Session I\n
 \n
 Meetecho: http://www.meetecho.com/ietf104/ccamp/\n
 \n
 Agenda https://datatracker.ietf.org/meeting/104/materials/agenda-104-ccamp-00\n
 \n
 Session materials: https://datatracker.ietf.org/meeting/104/session/ccamp\n
 \n
 See in schedule: https://datatracker.ietf.org/meeting/104/agenda#row-104-2019-03-25-mon-0900-rtg-ccamp\n
END:VEVENT
BEGIN:VEVENT
UID:ietf-104-10779-bier
SUMMARY:bier - Bit Indexed Explicit Replication
LOCATION:Karlin 3
STATUS:CONFIRMED
CLASS:PUBLIC
DTSTART;TZID=Europe/Prague:20190325T112000
DTEND;TZID=Europe/Prague:20190325T122000
DTSTAMP:20190212T140438Z
URL:https://datatracker.ietf.org/meeting/104/materials/agenda-104-bier-06
DESCRIPTION:Morning Session II\n
 \n
 Meetecho: http://www.meetecho.com/ietf104/bier/\n
 \n
 Agenda https://datatracker.ietf.org/meeting/104/materials/agenda-104-bier-06\n
 \n
 Session materials: https://datatracker.ietf.org/meeting/104/session/bier\n
 \n
 See in schedule: https://datatracker.ietf.org/meeting/104/agenda#row-104-2019-03-25-mon-1120-rtg-bier\n
END:VEVENT
BEGIN:VEVENT
UID:ietf-104-10766-idr
SUMMARY:idr - Inter-Domain Routing
LOCATION:Karlin 1/2
STATUS:CONFIRMED
CLASS:PUBLIC
DTSTART;TZID=Europe/Prague:20190325T161000
DTEND;TZID=Europe/Prague:20190325T181000
DTSTAMP:20190212T140438Z
URL:https://datatracker.ietf.org/meeting/104/materials/agenda-104-idr-04
DESCRIPTION:Afternoon Session II\n
 \n
 Meetecho: http://www.meetecho.com/ietf104/idr/\n
 \n
 Agenda https://datatracker.ietf.org/meeting/104/materials/agenda-104-idr-04\n
 \n
 Session materials: https://datatracker.ietf.org/meeting/104/session/idr\n
 \n
 See in schedule: https://datatracker.ietf.org/meeting/104/agenda#row-104-2019-03-25-mon-1610-rtg-idr\n
END:VEVENT
BEGIN:VEVENT
UID:ietf-104-10763-roll
SUMMARY:roll - Routing Over Low power and Lossy networks
LOCATION:Karlin 3
STATUS:CONFIRMED
CLASS:PUBLIC
DTSTART;TZID=Europe/Prague:20190325T161000
DTEND;TZID=Europe/Prague:20190325T181000
DTSTAMP:20190212T140438Z
URL:https://datatracker.ietf.org/meeting/104/materials/agenda-104-roll-04
DESCRIPTION:Afternoon Session II\n
 \n
 Meetecho: http://www.meetecho.com/ietf104/roll/\n
 \n
 Agenda https://datatracker.ietf.org/meeting/104/materials/agenda-104-roll-04\n
 \n
 Session materials: https://datatracker.ietf.org/meeting/104/session/roll\n
 \n
 See in schedule: https://datatracker.ietf.org/meeting/104/agenda#row-104-2019-03-25-mon-1610-rtg-roll\n
END:VEVENT
BEGIN:VEVENT
UID:ietf-104-10759-rtgwg
SUMMARY:rtgwg - Routing Area Working Group
LOCATION:Congress Hall 1
STATUS:CONFIRMED
CLASS:PUBLIC
DTSTART;TZID=Europe/Prague:20190326T090000
DTEND;TZID=Europe/Prague:20190326T110000
DTSTAMP:20190212T140438Z
URL:https://datatracker.ietf.org/meeting/104/materials/agenda-104-rtgwg-13
DESCRIPTION:Morning Session I\n
 \n
 Meetecho: http://www.meetecho.com/ietf104/rtgwg/\n
 \n
 Agenda https://datatracker.ietf.org/meeting/104/materials/agenda-104-rtgwg-13\n
 \n
 Session materials: https://datatracker.ietf.org/meeting/104/session/rtgwg\n
 \n
 See in schedule: https://datatracker.ietf.org/meeting/104/agenda#row-104-2019-03-26-tue-0900-rtg-rtgwg\n
END:VEVENT
BEGIN:VEVENT
UID:ietf-104-10748-bcause
SUMMARY:bcause - BNG Control-plane And User-plane SEparation
LOCATION:Berlin/Brussels
STATUS:CONFIRMED
CLASS:PUBLIC
DTSTART;TZID=Europe/Prague:20190326T112000
DTEND;TZID=Europe/Prague:20190326T122000
DTSTAMP:20190212T140438Z
URL:https://datatracker.ietf.org/meeting/104/materials/agenda-104-bcause-03
DESCRIPTION:Morning Session II\n
 \n
 Meetecho: http://www.meetecho.com/ietf104/bcause/\n
 \n
 Agenda https://datatracker.ietf.org/meeting/104/materials/agenda-104-bcause-03\n
 \n
 Session materials: https://datatracker.ietf.org/meeting/104/session/bcause\n
 \n
 See in schedule: https://datatracker.ietf.org/meeting/104/agenda#row-104-2019-03-26-tue-1120-rtg-bcause\n
END:VEVENT
BEGIN:VEVENT
UID:ietf-104-10754-teas
SUMMARY:teas - Traffic Engineering Architecture and Signaling
LOCATION:Congress Hall 2
STATUS:CONFIRMED
CLASS:PUBLIC
DTSTART;TZID=Europe/Prague:20190326T112000
DTEND;TZID=Europe/Prague:20190326T122000
DTSTAMP:20190212T140438Z
URL:https://datatracker.ietf.org/meeting/104/materials/agenda-104-teas-06
DESCRIPTION:Morning Session II\n
 \n
 Meetecho: http://www.meetecho.com/ietf104/teas/\n
 \n
 Agenda https://datatracker.ietf.org/meeting/104/materials/agenda-104-teas-06\n
 \n
 Session materials: https://datatracker.ietf.org/meeting/104/session/teas\n
 \n
 See in schedule: https://datatracker.ietf.org/meeting/104/agenda#row-104-2019-03-26-tue-1120-rtg-teas\n
END:VEVENT
BEGIN:VEVENT
UID:ietf-104-10745-teas
SUMMARY:teas - Traffic Engineering Architecture and Signaling
LOCATION:Grand Ballroom
STATUS:CONFIRMED
CLASS:PUBLIC
DTSTART;TZID=Europe/Prague:20190326T135000
DTEND;TZID=Europe/Prague:20190326T155000
DTSTAMP:20190212T140438Z
URL:https://datatracker.ietf.org/meeting/104/materials/agenda-104-teas-06
DESCRIPTION:Afternoon Session I\n
 \n
 Meetecho: http://www.meetecho.com/ietf104/teas/\n
 \n
 Agenda https://datatracker.ietf.org/meeting/104/materials/agenda-104-teas-06\n
 \n
 Session materials: https://datatracker.ietf.org/meeting/104/session/teas\n
 \n
 See in schedule: https://datatracker.ietf.org/meeting/104/agenda#row-104-2019-03-26-tue-1350-rtg-teas\n
END:VEVENT
BEGIN:VEVENT
UID:ietf-104-10736-bess
SUMMARY:bess - BGP Enabled ServiceS
LOCATION:Congress Hall 3
STATUS:CONFIRMED
CLASS:PUBLIC
DTSTART;TZID=Europe/Prague:20190326T161000
DTEND;TZID=Europe/Prague:20190326T181000
DTSTAMP:20190212T140438Z
URL:https://datatracker.ietf.org/meeting/104/materials/agenda-104-bess-03
DESCRIPTION:Afternoon Session II\n
 \n
 Meetecho: http://www.meetecho.com/ietf104/bess/\n
 \n
 Agenda https://datatracker.ietf.org/meeting/104/materials/agenda-104-bess-03\n
 \n
 Session materials: https://datatracker.ietf.org/meeting/104/session/bess\n
 \n
 See in schedule: https://datatracker.ietf.org/meeting/104/agenda#row-104-2019-03-26-tue-1610-rtg-bess\n
END:VEVENT
BEGIN:VEVENT
UID:ietf-104-10693-bfd
SUMMARY:bfd - Bidirectional Forwarding Detection
LOCATION:Athens/Barcelona
STATUS:CONFIRMED
CLASS:PUBLIC
DTSTART;TZID=Europe/Prague:20190327T090000
DTEND;TZID=Europe/Prague:20190327T110000
DTSTAMP:20190222T135129Z
URL:https://datatracker.ietf.org/meeting/104/materials/agenda-104-bfd-01
DESCRIPTION:Morning Session I\n
 \n
 Meetecho: http://www.meetecho.com/ietf104/bfd/\n
 \n
 Agenda https://datatracker.ietf.org/meeting/104/materials/agenda-104-bfd-01\n
 \n
 Session materials: https://datatracker.ietf.org/meeting/104/session/bfd\n
 \n
 See in schedule: https://datatracker.ietf.org/meeting/104/agenda#row-104-2019-03-27-wed-0900-rtg-bfd\n
END:VEVENT
BEGIN:VEVENT
UID:ietf-104-10695-detnet
SUMMARY:detnet - Deterministic Networking
LOCATION:Congress Hall 1
STATUS:CONFIRMED
CLASS:PUBLIC
DTSTART;TZID=Europe/Prague:20190327T090000
DTEND;TZID=Europe/Prague:20190327T110000
DTSTAMP:20190222T135129Z
URL:https://datatracker.ietf.org/meeting/104/materials/agenda-104-detnet-01
DESCRIPTION:Morning Session I\n
 \n
 Meetecho: http://www.meetecho.com/ietf104/detnet/\n
 \n
 Agenda https://datatracker.ietf.org/meeting/104/materials/agenda-104-detnet-01\n
 \n
 Session materials: https://datatracker.ietf.org/meeting/104/session/detnet\n
 \n
 See in schedule: https://datatracker.ietf.org/meeting/104/agenda#row-104-2019-03-27-wed-0900-rtg-detnet\n
END:VEVENT
BEGIN:VEVENT
UID:ietf-104-10697-rift
SUMMARY:rift - Routing In Fat Trees
LOCATION:Grand Ballroom
STATUS:CONFIRMED
CLASS:PUBLIC
DTSTART;TZID=Europe/Prague:20190327T090000
DTEND;TZID=Europe/Prague:20190327T110000
DTSTAMP:20190222T135129Z
URL:https://datatracker.ietf.org/meeting/104/materials/agenda-104-rift-01
DESCRIPTION:Morning Session I\n
 \n
 Meetecho: http://www.meetecho.com/ietf104/rift/\n
 \n
 Agenda https://datatracker.ietf.org/meeting/104/materials/agenda-104-rift-01\n
 \n
 Session materials: https://datatracker.ietf.org/meeting/104/session/rift\n
 \n
 See in schedule: https://datatracker.ietf.org/meeting/104/agenda#row-104-2019-03-27-wed-0900-rtg-rift\n
END:VEVENT
BEGIN:VEVENT
UID:ietf-104-10720-lsr
SUMMARY:lsr - Link State Routing
LOCATION:Congress Hall 3
STATUS:CONFIRMED
CLASS:PUBLIC
DTSTART;TZID=Europe/Prague:20190327T112000
DTEND;TZID=Europe/Prague:20190327T132000
DTSTAMP:20190222T104059Z
URL:https://datatracker.ietf.org/meeting/104/materials/agenda-104-lsr-02
DESCRIPTION:Morning Session II\n
 \n
 Meetecho: http://www.meetecho.com/ietf104/lsr/\n
 \n
 Agenda https://datatracker.ietf.org/meeting/104/materials/agenda-104-lsr-02\n
 \n
 Session materials: https://datatracker.ietf.org/meeting/104/session/lsr\n
 \n
 See in schedule: https://datatracker.ietf.org/meeting/104/agenda#row-104-2019-03-27-wed-1120-rtg-lsr\n
END:VEVENT
BEGIN:VEVENT
UID:ietf-104-10719-mpls
SUMMARY:mpls - Multiprotocol Label Switching
LOCATION:Congress Hall 1
STATUS:CONFIRMED
CLASS:PUBLIC
DTSTART;TZID=Europe/Prague:20190327T112000
DTEND;TZID=Europe/Prague:20190327T132000
DTSTAMP:20190222T104059Z
URL:https://datatracker.ietf.org/meeting/104/materials/agenda-104-mpls-04
DESCRIPTION:Morning Session II\n
 \n
 Meetecho: http://www.meetecho.com/ietf104/mpls/\n
 \n
 Agenda https://datatracker.ietf.org/meeting/104/materials/agenda-104-mpls-04\n
 \n
 Session materials: https://datatracker.ietf.org/meeting/104/session/mpls\n
 \n
 See in schedule: https://datatracker.ietf.org/meeting/104/agenda#row-104-2019-03-27-wed-1120-rtg-mpls\n
END:VEVENT
BEGIN:VEVENT
UID:ietf-104-10867-babel
SUMMARY:babel - Babel routing protocol
LOCATION:Athens/Barcelona
STATUS:CONFIRMED
CLASS:PUBLIC
DTSTART;TZID=Europe/Prague:20190328T090000
DTEND;TZID=Europe/Prague:20190328T103000
DTSTAMP:20190222T134749Z
URL:https://datatracker.ietf.org/meeting/104/materials/agenda-104-babel-03
DESCRIPTION:Morning Session I\n
 \n
 Meetecho: http://www.meetecho.com/ietf104/babel/\n
 \n
 Agenda https://datatracker.ietf.org/meeting/104/materials/agenda-104-babel-03\n
 \n
 Session materials: https://datatracker.ietf.org/meeting/104/session/babel\n
 \n
 See in schedule: https://datatracker.ietf.org/meeting/104/agenda#row-104-2019-03-28-thu-0900-rtg-babel\n
END:VEVENT
BEGIN:VEVENT
UID:ietf-104-10871-lsvr
SUMMARY:lsvr - Link State Vector Routing
LOCATION:Grand Ballroom
STATUS:CONFIRMED
CLASS:PUBLIC
DTSTART;TZID=Europe/Prague:20190328T090000
DTEND;TZID=Europe/Prague:20190328T103000
DTSTAMP:20190222T134749Z
URL:https://datatracker.ietf.org/meeting/104/materials/agenda-104-lsvr-04
DESCRIPTION:Morning Session I\n
 \n
 Meetecho: http://www.meetecho.com/ietf104/lsvr/\n
 \n
 Agenda https://datatracker.ietf.org/meeting/104/materials/agenda-104-lsvr-04\n
 \n
 Session materials: https://datatracker.ietf.org/meeting/104/session/lsvr\n
 \n
 See in schedule: https://datatracker.ietf.org/meeting/104/agenda#row-104-2019-03-28-thu-0900-rtg-lsvr\n
END:VEVENT
BEGIN:VEVENT
UID:ietf-104-10868-pce
SUMMARY:pce - Path Computation Element
LOCATION:Karlin 1/2
STATUS:CONFIRMED
CLASS:PUBLIC
DTSTART;TZID=Europe/Prague:20190328T090000
DTEND;TZID=Europe/Prague:20190328T103000
DTSTAMP:20190222T134749Z
URL:https://datatracker.ietf.org/meeting/104/materials/agenda-104-pce-00
DESCRIPTION:Morning Session I\n
 \n
 Meetecho: http://www.meetecho.com/ietf104/pce/\n
 \n
 Agenda https://datatracker.ietf.org/meeting/104/materials/agenda-104-pce-00\n
 \n
 Session materials: https://datatracker.ietf.org/meeting/104/session/pce\n
 \n
 See in schedule: https://datatracker.ietf.org/meeting/104/agenda#row-104-2019-03-28-thu-0900-rtg-pce\n
END:VEVENT
BEGIN:VEVENT
UID:ietf-104-10689-idr
SUMMARY:idr - Inter-Domain Routing
LOCATION:Grand Ballroom
STATUS:CONFIRMED
CLASS:PUBLIC
DTSTART;TZID=Europe/Prague:20190328T105000
DTEND;TZID=Europe/Prague:20190328T122000
DTSTAMP:20190222T134811Z
URL:https://datatracker.ietf.org/meeting/104/materials/agenda-104-idr-04
DESCRIPTION:Morning Session II\n
 \n
 Meetecho: http://www.meetecho.com/ietf104/idr/\n
 \n
 Agenda https://datatracker.ietf.org/meeting/104/materials/agenda-104-idr-04\n
 \n
 Session materials: https://datatracker.ietf.org/meeting/104/session/idr\n
 \n
 See in schedule: https://datatracker.ietf.org/meeting/104/agenda#row-104-2019-03-28-thu-1050-rtg-idr\n
END:VEVENT
BEGIN:VEVENT
UID:ietf-104-10684-nvo3
SUMMARY:nvo3 - Network Virtualization Overlays
LOCATION:Berlin/Brussels
STATUS:CONFIRMED
CLASS:PUBLIC
DTSTART;TZID=Europe/Prague:20190328T105000
DTEND;TZID=Europe/Prague:20190328T122000
DTSTAMP:20190222T134811Z
URL:https://datatracker.ietf.org/meeting/104/materials/agenda-104-nvo3-02
DESCRIPTION:Morning Session II\n
 \n
 Meetecho: http://www.meetecho.com/ietf104/nvo3/\n
 \n
 Agenda https://datatracker.ietf.org/meeting/104/materials/agenda-104-nvo3-02\n
 \n
 Session materials: https://datatracker.ietf.org/meeting/104/session/nvo3\n
 \n
 See in schedule: https://datatracker.ietf.org/meeting/104/agenda#row-104-2019-03-28-thu-1050-rtg-nvo3\n
END:VEVENT
BEGIN:VEVENT
UID:ietf-104-10811-pim
SUMMARY:pim - Protocols for IP Multicast
LOCATION:Karlin 3
STATUS:CONFIRMED
CLASS:PUBLIC
DTSTART;TZID=Europe/Prague:20190328T135000
DTEND;TZID=Europe/Prague:20190328T155000
DTSTAMP:20190222T134850Z
URL:https://datatracker.ietf.org/meeting/104/materials/agenda-104-pim-04
DESCRIPTION:Afternoon Session I\n
 \n
 Meetecho: http://www.meetecho.com/ietf104/pim/\n
 \n
 Agenda https://datatracker.ietf.org/meeting/104/materials/agenda-104-pim-04\n
 \n
 Session materials: https://datatracker.ietf.org/meeting/104/session/pim\n
 \n
 See in schedule: https://datatracker.ietf.org/meeting/104/agenda#row-104-2019-03-28-thu-1350-rtg-pim\n
END:VEVENT
BEGIN:VEVENT
UID:ietf-104-10818-spring
SUMMARY:spring - Source Packet Routing in Networking
LOCATION:Congress Hall 2
STATUS:CONFIRMED
CLASS:PUBLIC
DTSTART;TZID=Europe/Prague:20190328T135000
DTEND;TZID=Europe/Prague:20190328T155000
DTSTAMP:20190222T134850Z
URL:https://datatracker.ietf.org/meeting/104/materials/agenda-104-spring-00
DESCRIPTION:Afternoon Session I\n
 \n
 Meetecho: http://www.meetecho.com/ietf104/spring/\n
 \n
 Agenda https://datatracker.ietf.org/meeting/104/materials/agenda-104-spring-00\n
 \n
 Session materials: https://datatracker.ietf.org/meeting/104/session/spring\n
 \n
 See in schedule: https://datatracker.ietf.org/meeting/104/agenda#row-104-2019-03-28-thu-1350-rtg-spring\n
END:VEVENT
BEGIN:VEVENT
UID:ietf-104-10823-lsr
SUMMARY:lsr - Link State Routing
LOCATION:Congress Hall 1
STATUS:CONFIRMED
CLASS:PUBLIC
DTSTART;TZID=Europe/Prague:20190328T161000
DTEND;TZID=Europe/Prague:20190328T181000
DTSTAMP:20190222T134923Z
URL:https://datatracker.ietf.org/meeting/104/materials/agenda-104-lsr-02
DESCRIPTION:Afternoon Session II\n
 \n
 Meetecho: http://www.meetecho.com/ietf104/lsr/\n
 \n
 Agenda https://datatracker.ietf.org/meeting/104/materials/agenda-104-lsr-02\n
 \n
 Session materials: https://datatracker.ietf.org/meeting/104/session/lsr\n
 \n
 See in schedule: https://datatracker.ietf.org/meeting/104/agenda#row-104-2019-03-28-thu-1610-rtg-lsr\n
END:VEVENT
BEGIN:VEVENT
UID:ietf-104-10824-sfc
SUMMARY:sfc - Service Function Chaining
LOCATION:Congress Hall 3
STATUS:CONFIRMED
CLASS:PUBLIC
DTSTART;TZID=Europe/Prague:20190328T161000
DTEND;TZID=Europe/Prague:20190328T181000
DTSTAMP:20190222T134923Z
URL:https://datatracker.ietf.org/meeting/104/materials/agenda-104-sfc-00
DESCRIPTION:Afternoon Session II\n
 \n
 Meetecho: http://www.meetecho.com/ietf104/sfc/\n
 \n
 Agenda https://datatracker.ietf.org/meeting/104/materials/agenda-104-sfc-00\n
 \n
 Session materials: https://datatracker.ietf.org/meeting/104/session/sfc\n
 \n
 See in schedule: https://datatracker.ietf.org/meeting/104/agenda#row-104-2019-03-28-thu-1610-rtg-sfc\n
END:VEVENT
BEGIN:VEVENT
UID:ietf-104-10797-lisp
SUMMARY:lisp - Locator/ID Separation Protocol
LOCATION:Athens/Barcelona
STATUS:CONFIRMED
CLASS:PUBLIC
DTSTART;TZID=Europe/Prague:20190329T090000
DTEND;TZID=Europe/Prague:20190329T103000
DTSTAMP:20190212T140613Z
URL:https://datatracker.ietf.org/meeting/104/materials/agenda-104-lisp-01
DESCRIPTION:Morning Session I\n
 \n
 Meetecho: http://www.meetecho.com/ietf104/lisp/\n
 \n
 Agenda https://datatracker.ietf.org/meeting/104/materials/agenda-104-lisp-01\n
 \n
 Session materials: https://datatracker.ietf.org/meeting/104/session/lisp\n
 \n
 See in schedule: https://datatracker.ietf.org/meeting/104/agenda#row-104-2019-03-29-fri-0900-rtg-lisp\n
END:VEVENT
BEGIN:VEVENT
UID:ietf-104-10809-rtgwg
SUMMARY:rtgwg - Routing Area Working Group
LOCATION:Grand Ballroom
STATUS:CONFIRMED
CLASS:PUBLIC
DTSTART;TZID=Europe/Prague:20190329T105000
DTEND;TZID=Europe/Prague:20190329T125000
DTSTAMP:20190219T212719Z
URL:https://datatracker.ietf.org/meeting/104/materials/agenda-104-rtgwg-13
DESCRIPTION:Morning Session II\n
 \n
 Meetecho: http://www.meetecho.com/ietf104/rtgwg/\n
 \n
 Agenda https://datatracker.ietf.org/meeting/104/materials/agenda-104-rtgwg-13\n
 \n
 Session materials: https://datatracker.ietf.org/meeting/104/session/rtgwg\n
 \n
 See in schedule: https://datatracker.ietf.org/meeting/104/agenda#row-104-2019-03-29-fri-1050-rtg-rtgwg\n
END:VEVENT
END:VCALENDAR
