BEGIN:VCALENDAR
VERSION:2.0
METHOD:PUBLISH
PRODID:-//IETF//datatracker.ietf.org ical agenda//EN
BEGIN:VTIMEZONE
TZID:Europe/Prague
X-LIC-LOCATION:Europe/Prague
BEGIN:DAYLIGHT
TZOFFSETFROM:+0100
TZOFFSETTO:+0200
TZNAME:CEST
DTSTART:19810329T020000
RRULE:FREQ=YEARLY;BYMONTH=3;BYDAY=-1SU
END:DAYLIGHT
BEGIN:STANDARD
TZOFFSETFROM:+0200
TZOFFSETTO:+0100
TZNAME:CET
DTSTART:19961027T030000
RRULE:FREQ=YEARLY;BYMONTH=10;BYDAY=-1SU
END:STANDARD
BEGIN:STANDARD
TZOFFSETFROM:+005744
TZOFFSETTO:+005744
TZNAME:PMT
DTSTART:18500101T000000
RDATE:18500101T000000
END:STANDARD
BEGIN:STANDARD
TZOFFSETFROM:+005744
TZOFFSETTO:+0100
TZNAME:CET
DTSTART:18911001T000000
RDATE:18911001T000000
END:STANDARD
BEGIN:DAYLIGHT
TZOFFSETFROM:+0100
TZOFFSETTO:+0200
TZNAME:CEST
DTSTART:19160430T230000
RDATE:19160430T230000
RDATE:19170416T020000
RDATE:19180415T020000
RDATE:19400401T020000
RDATE:19430329T020000
RDATE:19440403T020000
RDATE:19450408T020000
RDATE:19460506T020000
RDATE:19470420T020000
RDATE:19480418T020000
RDATE:19490409T020000
RDATE:19790401T020000
RDATE:19800406T020000
END:DAYLIGHT
BEGIN:STANDARD
TZOFFSETFROM:+0200
TZOFFSETTO:+0100
TZNAME:CET
DTSTART:19161001T010000
RDATE:19161001T010000
RDATE:19170917T030000
RDATE:19180916T030000
RDATE:19421102T030000
RDATE:19431004T030000
RDATE:19440917T030000
RDATE:19451118T030000
RDATE:19461006T030000
RDATE:19471005T030000
RDATE:19481003T030000
RDATE:19491002T030000
RDATE:19790930T030000
RDATE:19800928T030000
RDATE:19810927T030000
RDATE:19820926T030000
RDATE:19830925T030000
RDATE:19840930T030000
RDATE:19850929T030000
RDATE:19860928T030000
RDATE:19870927T030000
RDATE:19880925T030000
RDATE:19890924T030000
RDATE:19900930T030000
RDATE:19910929T030000
RDATE:19920927T030000
RDATE:19930926T030000
RDATE:19940925T030000
RDATE:19950924T030000
END:STANDARD
BEGIN:STANDARD
TZOFFSETFROM:+0100
TZOFFSETTO:+0100
TZNAME:CET
DTSTART:19790101T000000
RDATE:19790101T000000
END:STANDARD
END:VTIMEZONE
BEGIN:VEVENT
UID:ietf-104-10788-emu
SUMMARY:emu - EAP Method Update
LOCATION:Berlin/Brussels
STATUS:CONFIRMED
CLASS:PUBLIC
DTSTART;TZID=Europe/Prague:20190325T090000
DTEND;TZID=Europe/Prague:20190325T110000
DTSTAMP:20190212T140438Z
URL:https://datatracker.ietf.org/meeting/104/materials/agenda-104-emu-00
DESCRIPTION:Morning Session I\n
 \n
 Meetecho: http://www.meetecho.com/ietf104/emu/\n
 \n
 Agenda https://datatracker.ietf.org/meeting/104/materials/agenda-104-emu-00\n
 \n
 Session materials: https://datatracker.ietf.org/meeting/104/session/emu\n
 \n
 See in schedule: https://datatracker.ietf.org/meeting/104/agenda#row-104-2019-03-25-mon-0900-sec-emu\n
END:VEVENT
BEGIN:VEVENT
UID:ietf-104-10786-tls
SUMMARY:tls - Transport Layer Security
LOCATION:Congress Hall 2
STATUS:CONFIRMED
CLASS:PUBLIC
DTSTART;TZID=Europe/Prague:20190325T112000
DTEND;TZID=Europe/Prague:20190325T122000
DTSTAMP:20190212T140438Z
URL:https://datatracker.ietf.org/meeting/104/materials/agenda-104-tls-03
DESCRIPTION:Morning Session II\n
 \n
 Meetecho: http://www.meetecho.com/ietf104/tls/\n
 \n
 Agenda https://datatracker.ietf.org/meeting/104/materials/agenda-104-tls-03\n
 \n
 Session materials: https://datatracker.ietf.org/meeting/104/session/tls\n
 \n
 See in schedule: https://datatracker.ietf.org/meeting/104/agenda#row-104-2019-03-25-mon-1120-sec-tls\n
END:VEVENT
BEGIN:VEVENT
UID:ietf-104-10776-secdispatch
SUMMARY:secdispatch - Security Dispatch
LOCATION:Congress Hall 3
STATUS:CONFIRMED
CLASS:PUBLIC
DTSTART;TZID=Europe/Prague:20190325T135000
DTEND;TZID=Europe/Prague:20190325T155000
DTSTAMP:20190212T140438Z
URL:https://datatracker.ietf.org/meeting/104/materials/agenda-104-secdispatch-04
DESCRIPTION:Afternoon Session I\n
 \n
 Meetecho: http://www.meetecho.com/ietf104/secdispatch/\n
 \n
 Agenda https://datatracker.ietf.org/meeting/104/materials/agenda-104-secdispatch-04\n
 \n
 Session materials: https://datatracker.ietf.org/meeting/104/session/secdispatch\n
 \n
 See in schedule: https://datatracker.ietf.org/meeting/104/agenda#row-104-2019-03-25-mon-1350-sec-secdispatch\n
END:VEVENT
BEGIN:VEVENT
UID:ietf-104-10765-oauth
SUMMARY:oauth - Web Authorization Protocol
LOCATION:Athens/Barcelona
STATUS:CONFIRMED
CLASS:PUBLIC
DTSTART;TZID=Europe/Prague:20190325T161000
DTEND;TZID=Europe/Prague:20190325T181000
DTSTAMP:20190212T140438Z
URL:https://datatracker.ietf.org/meeting/104/materials/agenda-104-oauth-sessa-08
DESCRIPTION:Afternoon Session II\n
 \n
 Meetecho: http://www.meetecho.com/ietf104/oauth/\n
 \n
 Agenda https://datatracker.ietf.org/meeting/104/materials/agenda-104-oauth-sessa-08\n
 \n
 Session materials: https://datatracker.ietf.org/meeting/104/session/oauth\n
 \n
 See in schedule: https://datatracker.ietf.org/meeting/104/agenda#row-104-2019-03-25-mon-1610-sec-oauth\n
END:VEVENT
BEGIN:VEVENT
UID:ietf-104-10756-cose
SUMMARY:cose - CBOR Object Signing and Encryption
LOCATION:Berlin/Brussels
STATUS:CONFIRMED
CLASS:PUBLIC
DTSTART;TZID=Europe/Prague:20190326T090000
DTEND;TZID=Europe/Prague:20190326T110000
DTSTAMP:20190212T140438Z
URL:https://datatracker.ietf.org/meeting/104/materials/agenda-104-cose-01
DESCRIPTION:Morning Session I\n
 \n
 Meetecho: http://www.meetecho.com/ietf104/cose/\n
 \n
 Agenda https://datatracker.ietf.org/meeting/104/materials/agenda-104-cose-01\n
 \n
 Session materials: https://datatracker.ietf.org/meeting/104/session/cose\n
 \n
 See in schedule: https://datatracker.ietf.org/meeting/104/agenda#row-104-2019-03-26-tue-0900-sec-cose\n
END:VEVENT
BEGIN:VEVENT
UID:ietf-104-10758-teep
SUMMARY:teep - Trusted Execution Environment Provisioning
LOCATION:Karlin 1/2
STATUS:CONFIRMED
CLASS:PUBLIC
DTSTART;TZID=Europe/Prague:20190326T090000
DTEND;TZID=Europe/Prague:20190326T110000
DTSTAMP:20190212T140438Z
URL:https://datatracker.ietf.org/meeting/104/materials/agenda-104-teep-02
DESCRIPTION:Morning Session I\n
 \n
 Meetecho: http://www.meetecho.com/ietf104/teep/\n
 \n
 Agenda https://datatracker.ietf.org/meeting/104/materials/agenda-104-teep-02\n
 \n
 Session materials: https://datatracker.ietf.org/meeting/104/session/teep\n
 \n
 See in schedule: https://datatracker.ietf.org/meeting/104/agenda#row-104-2019-03-26-tue-0900-sec-teep\n
END:VEVENT
BEGIN:VEVENT
UID:ietf-104-10750-lamps
SUMMARY:lamps - Limited Additional Mechanisms for PKIX and SMIME
LOCATION:Karlin 1/2
STATUS:CONFIRMED
CLASS:PUBLIC
DTSTART;TZID=Europe/Prague:20190326T112000
DTEND;TZID=Europe/Prague:20190326T122000
DTSTAMP:20190212T140438Z
URL:https://datatracker.ietf.org/meeting/104/materials/agenda-104-lamps-02
DESCRIPTION:Morning Session II\n
 \n
 Meetecho: http://www.meetecho.com/ietf104/lamps/\n
 \n
 Agenda https://datatracker.ietf.org/meeting/104/materials/agenda-104-lamps-02\n
 \n
 Session materials: https://datatracker.ietf.org/meeting/104/session/lamps\n
 \n
 See in schedule: https://datatracker.ietf.org/meeting/104/agenda#row-104-2019-03-26-tue-1120-sec-lamps\n
END:VEVENT
BEGIN:VEVENT
UID:ietf-104-10747-mile
SUMMARY:mile - Managed Incident Lightweight Exchange
LOCATION:Karlin 3
STATUS:CONFIRMED
CLASS:PUBLIC
DTSTART;TZID=Europe/Prague:20190326T112000
DTEND;TZID=Europe/Prague:20190326T122000
DTSTAMP:20190212T140438Z
URL:https://datatracker.ietf.org/meeting/104/materials/agenda-104-mile-02
DESCRIPTION:Morning Session II\n
 \n
 Meetecho: http://www.meetecho.com/ietf104/mile/\n
 \n
 Agenda https://datatracker.ietf.org/meeting/104/materials/agenda-104-mile-02\n
 \n
 Session materials: https://datatracker.ietf.org/meeting/104/session/mile\n
 \n
 See in schedule: https://datatracker.ietf.org/meeting/104/agenda#row-104-2019-03-26-tue-1120-sec-mile\n
END:VEVENT
BEGIN:VEVENT
UID:ietf-104-10741-i2nsf
SUMMARY:i2nsf - Interface to Network Security Functions
LOCATION:Athens/Barcelona
STATUS:CONFIRMED
CLASS:PUBLIC
DTSTART;TZID=Europe/Prague:20190326T135000
DTEND;TZID=Europe/Prague:20190326T155000
DTSTAMP:20190212T140438Z
URL:https://datatracker.ietf.org/meeting/104/materials/agenda-104-i2nsf-01
DESCRIPTION:Afternoon Session I\n
 \n
 Meetecho: http://www.meetecho.com/ietf104/i2nsf/\n
 \n
 Agenda https://datatracker.ietf.org/meeting/104/materials/agenda-104-i2nsf-01\n
 \n
 Session materials: https://datatracker.ietf.org/meeting/104/session/i2nsf\n
 \n
 See in schedule: https://datatracker.ietf.org/meeting/104/agenda#row-104-2019-03-26-tue-1350-sec-i2nsf\n
END:VEVENT
BEGIN:VEVENT
UID:ietf-104-10743-mls
SUMMARY:mls - Messaging Layer Security
LOCATION:Congress Hall 1
STATUS:CONFIRMED
CLASS:PUBLIC
DTSTART;TZID=Europe/Prague:20190326T135000
DTEND;TZID=Europe/Prague:20190326T155000
DTSTAMP:20190212T140438Z
URL:https://datatracker.ietf.org/meeting/104/materials/agenda-104-mls-07
DESCRIPTION:Afternoon Session I\n
 \n
 Meetecho: http://www.meetecho.com/ietf104/mls/\n
 \n
 Agenda https://datatracker.ietf.org/meeting/104/materials/agenda-104-mls-07\n
 \n
 Session materials: https://datatracker.ietf.org/meeting/104/session/mls\n
 \n
 See in schedule: https://datatracker.ietf.org/meeting/104/agenda#row-104-2019-03-26-tue-1350-sec-mls\n
END:VEVENT
BEGIN:VEVENT
UID:ietf-104-10738-tls
SUMMARY:tls - Transport Layer Security
LOCATION:Congress Hall 2
STATUS:CONFIRMED
CLASS:PUBLIC
DTSTART;TZID=Europe/Prague:20190326T161000
DTEND;TZID=Europe/Prague:20190326T181000
DTSTAMP:20190212T140438Z
URL:https://datatracker.ietf.org/meeting/104/materials/agenda-104-tls-03
DESCRIPTION:Afternoon Session II\n
 \n
 Meetecho: http://www.meetecho.com/ietf104/tls/\n
 \n
 Agenda https://datatracker.ietf.org/meeting/104/materials/agenda-104-tls-03\n
 \n
 Session materials: https://datatracker.ietf.org/meeting/104/session/tls\n
 \n
 See in schedule: https://datatracker.ietf.org/meeting/104/agenda#row-104-2019-03-26-tue-1610-sec-tls\n
END:VEVENT
BEGIN:VEVENT
UID:ietf-104-10692-secevent
SUMMARY:secevent - Security Events
LOCATION:Berlin/Brussels
STATUS:CONFIRMED
CLASS:PUBLIC
DTSTART;TZID=Europe/Prague:20190327T090000
DTEND;TZID=Europe/Prague:20190327T110000
DTSTAMP:20190222T135129Z
URL:https://datatracker.ietf.org/meeting/104/materials/agenda-104-secevent-01
DESCRIPTION:Morning Session I\n
 \n
 Meetecho: http://www.meetecho.com/ietf104/secevent/\n
 \n
 Agenda https://datatracker.ietf.org/meeting/104/materials/agenda-104-secevent-01\n
 \n
 Session materials: https://datatracker.ietf.org/meeting/104/session/secevent\n
 \n
 See in schedule: https://datatracker.ietf.org/meeting/104/agenda#row-104-2019-03-27-wed-0900-sec-secevent\n
END:VEVENT
BEGIN:VEVENT
UID:ietf-104-10696-suit
SUMMARY:suit - Software Updates for Internet of Things
LOCATION:Congress Hall 3
STATUS:CONFIRMED
CLASS:PUBLIC
DTSTART;TZID=Europe/Prague:20190327T090000
DTEND;TZID=Europe/Prague:20190327T110000
DTSTAMP:20190222T135129Z
URL:https://datatracker.ietf.org/meeting/104/materials/agenda-104-suit-01
DESCRIPTION:Morning Session I\n
 \n
 Meetecho: http://www.meetecho.com/ietf104/suit/\n
 \n
 Agenda https://datatracker.ietf.org/meeting/104/materials/agenda-104-suit-01\n
 \n
 Session materials: https://datatracker.ietf.org/meeting/104/session/suit\n
 \n
 See in schedule: https://datatracker.ietf.org/meeting/104/agenda#row-104-2019-03-27-wed-0900-sec-suit\n
END:VEVENT
BEGIN:VEVENT
UID:ietf-104-10721-acme
SUMMARY:acme - Automated Certificate Management Environment (11:20 - 12:20)
LOCATION:Grand Ballroom
STATUS:CONFIRMED
CLASS:PUBLIC
DTSTART;TZID=Europe/Prague:20190327T112000
DTEND;TZID=Europe/Prague:20190327T132000
DTSTAMP:20190222T104059Z
URL:https://datatracker.ietf.org/meeting/104/materials/agenda-104-acme-01
DESCRIPTION:Morning Session II\n
 Note: 11:20 - 12:20\n
 \n
 Meetecho: http://www.meetecho.com/ietf104/acme/\n
 \n
 Agenda https://datatracker.ietf.org/meeting/104/materials/agenda-104-acme-01\n
 \n
 Session materials: https://datatracker.ietf.org/meeting/104/session/acme\n
 \n
 See in schedule: https://datatracker.ietf.org/meeting/104/agenda#row-104-2019-03-27-wed-1120-sec-acme\n
END:VEVENT
BEGIN:VEVENT
UID:ietf-104-10716-sacm
SUMMARY:sacm - Security Automation and Continuous Monitoring
LOCATION:Berlin/Brussels
STATUS:CONFIRMED
CLASS:PUBLIC
DTSTART;TZID=Europe/Prague:20190327T112000
DTEND;TZID=Europe/Prague:20190327T132000
DTSTAMP:20190222T104059Z
URL:https://datatracker.ietf.org/meeting/104/materials/agenda-104-sacm-00
DESCRIPTION:Morning Session II\n
 \n
 Meetecho: http://www.meetecho.com/ietf104/sacm/\n
 \n
 Agenda https://datatracker.ietf.org/meeting/104/materials/agenda-104-sacm-00\n
 \n
 Session materials: https://datatracker.ietf.org/meeting/104/session/sacm\n
 \n
 See in schedule: https://datatracker.ietf.org/meeting/104/agenda#row-104-2019-03-27-wed-1120-sec-sacm\n
END:VEVENT
BEGIN:VEVENT
UID:ietf-104-10869-mls
SUMMARY:mls - Messaging Layer Security
LOCATION:Congress Hall 1
STATUS:CONFIRMED
CLASS:PUBLIC
DTSTART;TZID=Europe/Prague:20190328T090000
DTEND;TZID=Europe/Prague:20190328T103000
DTSTAMP:20190222T134749Z
URL:https://datatracker.ietf.org/meeting/104/materials/agenda-104-mls-07
DESCRIPTION:Morning Session I\n
 \n
 Meetecho: http://www.meetecho.com/ietf104/mls/\n
 \n
 Agenda https://datatracker.ietf.org/meeting/104/materials/agenda-104-mls-07\n
 \n
 Session materials: https://datatracker.ietf.org/meeting/104/session/mls\n
 \n
 See in schedule: https://datatracker.ietf.org/meeting/104/agenda#row-104-2019-03-28-thu-0900-sec-mls\n
END:VEVENT
BEGIN:VEVENT
UID:ietf-104-10866-oauth
SUMMARY:oauth - Web Authorization Protocol
LOCATION:Berlin/Brussels
STATUS:CONFIRMED
CLASS:PUBLIC
DTSTART;TZID=Europe/Prague:20190328T090000
DTEND;TZID=Europe/Prague:20190328T103000
DTSTAMP:20190222T134749Z
URL:https://datatracker.ietf.org/meeting/104/materials/agenda-104-oauth-sessa-08
DESCRIPTION:Morning Session I\n
 \n
 Meetecho: http://www.meetecho.com/ietf104/oauth/\n
 \n
 Agenda https://datatracker.ietf.org/meeting/104/materials/agenda-104-oauth-sessa-08\n
 \n
 Session materials: https://datatracker.ietf.org/meeting/104/session/oauth\n
 \n
 See in schedule: https://datatracker.ietf.org/meeting/104/agenda#row-104-2019-03-28-thu-0900-sec-oauth\n
END:VEVENT
BEGIN:VEVENT
UID:ietf-104-10685-dots
SUMMARY:dots - DDoS Open Threat Signaling
LOCATION:Athens/Barcelona
STATUS:CONFIRMED
CLASS:PUBLIC
DTSTART;TZID=Europe/Prague:20190328T105000
DTEND;TZID=Europe/Prague:20190328T122000
DTSTAMP:20190222T134811Z
URL:https://datatracker.ietf.org/meeting/104/materials/agenda-104-dots-03
DESCRIPTION:Morning Session II\n
 \n
 Meetecho: http://www.meetecho.com/ietf104/dots/\n
 \n
 Agenda https://datatracker.ietf.org/meeting/104/materials/agenda-104-dots-03\n
 \n
 Session materials: https://datatracker.ietf.org/meeting/104/session/dots\n
 \n
 See in schedule: https://datatracker.ietf.org/meeting/104/agenda#row-104-2019-03-28-thu-1050-sec-dots\n
END:VEVENT
BEGIN:VEVENT
UID:ietf-104-10686-ipsecme
SUMMARY:ipsecme - IP Security Maintenance and Extensions
LOCATION:Karlin 1/2
STATUS:CONFIRMED
CLASS:PUBLIC
DTSTART;TZID=Europe/Prague:20190328T105000
DTEND;TZID=Europe/Prague:20190328T122000
DTSTAMP:20190222T134811Z
URL:https://datatracker.ietf.org/meeting/104/materials/agenda-104-ipsecme-02
DESCRIPTION:Morning Session II\n
 \n
 Meetecho: http://www.meetecho.com/ietf104/ipsecme/\n
 \n
 Agenda https://datatracker.ietf.org/meeting/104/materials/agenda-104-ipsecme-02\n
 \n
 Session materials: https://datatracker.ietf.org/meeting/104/session/ipsecme\n
 \n
 See in schedule: https://datatracker.ietf.org/meeting/104/agenda#row-104-2019-03-28-thu-1050-sec-ipsecme\n
END:VEVENT
BEGIN:VEVENT
UID:ietf-104-10815-saag
SUMMARY:saag - Security Area Open Meeting
LOCATION:Congress Hall 1
STATUS:CONFIRMED
CLASS:PUBLIC
DTSTART;TZID=Europe/Prague:20190328T135000
DTEND;TZID=Europe/Prague:20190328T155000
DTSTAMP:20190222T134850Z
URL:https://datatracker.ietf.org/meeting/104/materials/agenda-104-saag-02
DESCRIPTION:Afternoon Session I\n
 \n
 Meetecho: http://www.meetecho.com/ietf104/saag/\n
 \n
 Agenda https://datatracker.ietf.org/meeting/104/materials/agenda-104-saag-02\n
 \n
 Session materials: https://datatracker.ietf.org/meeting/104/session/saag\n
 \n
 See in schedule: https://datatracker.ietf.org/meeting/104/agenda#row-104-2019-03-28-thu-1350-sec-saag\n
END:VEVENT
BEGIN:VEVENT
UID:ietf-104-10825-rats
SUMMARY:rats - Remote ATtestation ProcedureS
LOCATION:Grand Ballroom
STATUS:CONFIRMED
CLASS:PUBLIC
DTSTART;TZID=Europe/Prague:20190328T161000
DTEND;TZID=Europe/Prague:20190328T181000
DTSTAMP:20190222T134923Z
URL:https://datatracker.ietf.org/meeting/104/materials/agenda-104-rats-06
DESCRIPTION:Afternoon Session II\n
 \n
 Meetecho: http://www.meetecho.com/ietf104/rats/\n
 \n
 Agenda https://datatracker.ietf.org/meeting/104/materials/agenda-104-rats-06\n
 \n
 Session materials: https://datatracker.ietf.org/meeting/104/session/rats\n
 \n
 See in schedule: https://datatracker.ietf.org/meeting/104/agenda#row-104-2019-03-28-thu-1610-sec-rats\n
END:VEVENT
BEGIN:VEVENT
UID:ietf-104-10796-cacao
SUMMARY:cacao - Collaborative Automated Course of Action Operations for Cyber Security
LOCATION:Berlin/Brussels
STATUS:CONFIRMED
CLASS:PUBLIC
DTSTART;TZID=Europe/Prague:20190329T090000
DTEND;TZID=Europe/Prague:20190329T103000
DTSTAMP:20190212T140613Z
URL:https://datatracker.ietf.org/meeting/104/materials/agenda-104-cacao-01
DESCRIPTION:Morning Session I\n
 \n
 Meetecho: http://www.meetecho.com/ietf104/cacao/\n
 \n
 Agenda https://datatracker.ietf.org/meeting/104/materials/agenda-104-cacao-01\n
 \n
 Session materials: https://datatracker.ietf.org/meeting/104/session/cacao\n
 \n
 See in schedule: https://datatracker.ietf.org/meeting/104/agenda#row-104-2019-03-29-fri-0900-sec-cacao\n
END:VEVENT
BEGIN:VEVENT
UID:ietf-104-10807-ace
SUMMARY:ace - Authentication and Authorization for Constrained Environments
LOCATION:Congress Hall 1
STATUS:CONFIRMED
CLASS:PUBLIC
DTSTART;TZID=Europe/Prague:20190329T105000
DTEND;TZID=Europe/Prague:20190329T125000
DTSTAMP:20190219T212719Z
URL:https://datatracker.ietf.org/meeting/104/materials/agenda-104-ace-02
DESCRIPTION:Morning Session II\n
 \n
 Meetecho: http://www.meetecho.com/ietf104/ace/\n
 \n
 Agenda https://datatracker.ietf.org/meeting/104/materials/agenda-104-ace-02\n
 \n
 Session materials: https://datatracker.ietf.org/meeting/104/session/ace\n
 \n
 See in schedule: https://datatracker.ietf.org/meeting/104/agenda#row-104-2019-03-29-fri-1050-sec-ace\n
END:VEVENT
END:VCALENDAR
