BEGIN:VCALENDAR
VERSION:2.0
METHOD:PUBLISH
PRODID:-//IETF//datatracker.ietf.org ical agenda//EN
BEGIN:VTIMEZONE
TZID:Europe/Prague
X-LIC-LOCATION:Europe/Prague
BEGIN:DAYLIGHT
TZOFFSETFROM:+0100
TZOFFSETTO:+0200
TZNAME:CEST
DTSTART:19810329T020000
RRULE:FREQ=YEARLY;BYMONTH=3;BYDAY=-1SU
END:DAYLIGHT
BEGIN:STANDARD
TZOFFSETFROM:+0200
TZOFFSETTO:+0100
TZNAME:CET
DTSTART:19961027T030000
RRULE:FREQ=YEARLY;BYMONTH=10;BYDAY=-1SU
END:STANDARD
BEGIN:STANDARD
TZOFFSETFROM:+005744
TZOFFSETTO:+005744
TZNAME:PMT
DTSTART:18500101T000000
RDATE:18500101T000000
END:STANDARD
BEGIN:STANDARD
TZOFFSETFROM:+005744
TZOFFSETTO:+0100
TZNAME:CET
DTSTART:18911001T000000
RDATE:18911001T000000
END:STANDARD
BEGIN:DAYLIGHT
TZOFFSETFROM:+0100
TZOFFSETTO:+0200
TZNAME:CEST
DTSTART:19160430T230000
RDATE:19160430T230000
RDATE:19170416T020000
RDATE:19180415T020000
RDATE:19400401T020000
RDATE:19430329T020000
RDATE:19440403T020000
RDATE:19450408T020000
RDATE:19460506T020000
RDATE:19470420T020000
RDATE:19480418T020000
RDATE:19490409T020000
RDATE:19790401T020000
RDATE:19800406T020000
END:DAYLIGHT
BEGIN:STANDARD
TZOFFSETFROM:+0200
TZOFFSETTO:+0100
TZNAME:CET
DTSTART:19161001T010000
RDATE:19161001T010000
RDATE:19170917T030000
RDATE:19180916T030000
RDATE:19421102T030000
RDATE:19431004T030000
RDATE:19440917T030000
RDATE:19451118T030000
RDATE:19461006T030000
RDATE:19471005T030000
RDATE:19481003T030000
RDATE:19491002T030000
RDATE:19790930T030000
RDATE:19800928T030000
RDATE:19810927T030000
RDATE:19820926T030000
RDATE:19830925T030000
RDATE:19840930T030000
RDATE:19850929T030000
RDATE:19860928T030000
RDATE:19870927T030000
RDATE:19880925T030000
RDATE:19890924T030000
RDATE:19900930T030000
RDATE:19910929T030000
RDATE:19920927T030000
RDATE:19930926T030000
RDATE:19940925T030000
RDATE:19950924T030000
END:STANDARD
BEGIN:STANDARD
TZOFFSETFROM:+0100
TZOFFSETTO:+0100
TZNAME:CET
DTSTART:19790101T000000
RDATE:19790101T000000
END:STANDARD
END:VTIMEZONE
BEGIN:VEVENT
UID:ietf-104-10790-ippm
SUMMARY:ippm - IP Performance Measurement
LOCATION:Karlin 1/2
STATUS:CONFIRMED
CLASS:PUBLIC
DTSTART;TZID=Europe/Prague:20190325T090000
DTEND;TZID=Europe/Prague:20190325T110000
DTSTAMP:20190212T140438Z
URL:https://datatracker.ietf.org/meeting/104/materials/agenda-104-ippm-04
DESCRIPTION:Morning Session I\n
 \n
 Meetecho: http://www.meetecho.com/ietf104/ippm/\n
 \n
 Agenda https://datatracker.ietf.org/meeting/104/materials/agenda-104-ippm-04\n
 \n
 Session materials: https://datatracker.ietf.org/meeting/104/session/ippm\n
 \n
 See in schedule: https://datatracker.ietf.org/meeting/104/agenda#row-104-2019-03-25-mon-0900-tsv-ippm\n
END:VEVENT
BEGIN:VEVENT
UID:ietf-104-10782-rmcat
SUMMARY:rmcat - RTP Media Congestion Avoidance Techniques
LOCATION:Karlin 1/2
STATUS:CONFIRMED
CLASS:PUBLIC
DTSTART;TZID=Europe/Prague:20190325T112000
DTEND;TZID=Europe/Prague:20190325T122000
DTSTAMP:20190212T140438Z
URL:https://datatracker.ietf.org/meeting/104/materials/agenda-104-rmcat-02
DESCRIPTION:Morning Session II\n
 \n
 Meetecho: http://www.meetecho.com/ietf104/rmcat/\n
 \n
 Agenda https://datatracker.ietf.org/meeting/104/materials/agenda-104-rmcat-02\n
 \n
 Session materials: https://datatracker.ietf.org/meeting/104/session/rmcat\n
 \n
 See in schedule: https://datatracker.ietf.org/meeting/104/agenda#row-104-2019-03-25-mon-1120-tsv-rmcat\n
END:VEVENT
BEGIN:VEVENT
UID:ietf-104-10777-tcpm
SUMMARY:tcpm - TCP Maintenance and Minor Extensions
LOCATION:Grand Ballroom
STATUS:CONFIRMED
CLASS:PUBLIC
DTSTART;TZID=Europe/Prague:20190325T135000
DTEND;TZID=Europe/Prague:20190325T155000
DTSTAMP:20190212T140438Z
URL:https://datatracker.ietf.org/meeting/104/materials/agenda-104-tcpm-04
DESCRIPTION:Afternoon Session I\n
 \n
 Meetecho: http://www.meetecho.com/ietf104/tcpm/\n
 \n
 Agenda https://datatracker.ietf.org/meeting/104/materials/agenda-104-tcpm-04\n
 \n
 Session materials: https://datatracker.ietf.org/meeting/104/session/tcpm\n
 \n
 See in schedule: https://datatracker.ietf.org/meeting/104/agenda#row-104-2019-03-25-mon-1350-tsv-tcpm\n
END:VEVENT
BEGIN:VEVENT
UID:ietf-104-10767-tsvwg
SUMMARY:tsvwg - Transport Area Working Group
LOCATION:Congress Hall 1
STATUS:CONFIRMED
CLASS:PUBLIC
DTSTART;TZID=Europe/Prague:20190325T161000
DTEND;TZID=Europe/Prague:20190325T181000
DTSTAMP:20190212T140438Z
URL:https://datatracker.ietf.org/meeting/104/materials/agenda-104-tsvwg-06
DESCRIPTION:Afternoon Session II\n
 \n
 Meetecho: http://www.meetecho.com/ietf104/tsvwg/\n
 \n
 Agenda https://datatracker.ietf.org/meeting/104/materials/agenda-104-tsvwg-06\n
 \n
 Session materials: https://datatracker.ietf.org/meeting/104/session/tsvwg\n
 \n
 See in schedule: https://datatracker.ietf.org/meeting/104/agenda#row-104-2019-03-25-mon-1610-tsv-tsvwg\n
END:VEVENT
BEGIN:VEVENT
UID:ietf-104-10762-quic
SUMMARY:quic - QUIC
LOCATION:Congress Hall 2
STATUS:CONFIRMED
CLASS:PUBLIC
DTSTART;TZID=Europe/Prague:20190326T090000
DTEND;TZID=Europe/Prague:20190326T110000
DTSTAMP:20190212T140438Z
URL:https://datatracker.ietf.org/meeting/104/materials/agenda-104-quic-02
DESCRIPTION:Morning Session I\n
 \n
 Meetecho: http://www.meetecho.com/ietf104/quic/\n
 \n
 Agenda https://datatracker.ietf.org/meeting/104/materials/agenda-104-quic-02\n
 \n
 Session materials: https://datatracker.ietf.org/meeting/104/session/quic\n
 \n
 See in schedule: https://datatracker.ietf.org/meeting/104/agenda#row-104-2019-03-26-tue-0900-tsv-quic\n
END:VEVENT
BEGIN:VEVENT
UID:ietf-104-10752-tsvwg
SUMMARY:tsvwg - Transport Area Working Group
LOCATION:Congress Hall 3
STATUS:CONFIRMED
CLASS:PUBLIC
DTSTART;TZID=Europe/Prague:20190326T112000
DTEND;TZID=Europe/Prague:20190326T122000
DTSTAMP:20190212T140438Z
URL:https://datatracker.ietf.org/meeting/104/materials/agenda-104-tsvwg-06
DESCRIPTION:Morning Session II\n
 \n
 Meetecho: http://www.meetecho.com/ietf104/tsvwg/\n
 \n
 Agenda https://datatracker.ietf.org/meeting/104/materials/agenda-104-tsvwg-06\n
 \n
 Session materials: https://datatracker.ietf.org/meeting/104/session/tsvwg\n
 \n
 See in schedule: https://datatracker.ietf.org/meeting/104/agenda#row-104-2019-03-26-tue-1120-tsv-tsvwg\n
END:VEVENT
BEGIN:VEVENT
UID:ietf-104-10744-tsvarea
SUMMARY:tsvarea - Transport Area Open Meeting
LOCATION:Congress Hall 3
STATUS:CONFIRMED
CLASS:PUBLIC
DTSTART;TZID=Europe/Prague:20190326T135000
DTEND;TZID=Europe/Prague:20190326T155000
DTSTAMP:20190212T140438Z
URL:https://datatracker.ietf.org/meeting/104/materials/agenda-104-tsvarea-03
DESCRIPTION:Afternoon Session I\n
 \n
 Meetecho: http://www.meetecho.com/ietf104/tsvarea/\n
 \n
 Agenda https://datatracker.ietf.org/meeting/104/materials/agenda-104-tsvarea-03\n
 \n
 Session materials: https://datatracker.ietf.org/meeting/104/session/tsvarea\n
 \n
 See in schedule: https://datatracker.ietf.org/meeting/104/agenda#row-104-2019-03-26-tue-1350-tsv-tsvarea\n
END:VEVENT
BEGIN:VEVENT
UID:ietf-104-10732-alto
SUMMARY:alto - Application-Layer Traffic Optimization
LOCATION:Berlin/Brussels
STATUS:CONFIRMED
CLASS:PUBLIC
DTSTART;TZID=Europe/Prague:20190326T161000
DTEND;TZID=Europe/Prague:20190326T181000
DTSTAMP:20190212T140438Z
URL:https://datatracker.ietf.org/meeting/104/materials/agenda-104-alto-00
DESCRIPTION:Afternoon Session II\n
 \n
 Meetecho: http://www.meetecho.com/ietf104/alto/\n
 \n
 Agenda https://datatracker.ietf.org/meeting/104/materials/agenda-104-alto-00\n
 \n
 Session materials: https://datatracker.ietf.org/meeting/104/session/alto\n
 \n
 See in schedule: https://datatracker.ietf.org/meeting/104/agenda#row-104-2019-03-26-tue-1610-tsv-alto\n
END:VEVENT
BEGIN:VEVENT
UID:ietf-104-10733-dtn
SUMMARY:dtn - Delay/Disruption Tolerant Networking
LOCATION:Athens/Barcelona
STATUS:CONFIRMED
CLASS:PUBLIC
DTSTART;TZID=Europe/Prague:20190326T161000
DTEND;TZID=Europe/Prague:20190326T181000
DTSTAMP:20190212T140438Z
URL:https://datatracker.ietf.org/meeting/104/materials/agenda-104-dtn-01
DESCRIPTION:Afternoon Session II\n
 \n
 Meetecho: http://www.meetecho.com/ietf104/dtn/\n
 \n
 Agenda https://datatracker.ietf.org/meeting/104/materials/agenda-104-dtn-01\n
 \n
 Session materials: https://datatracker.ietf.org/meeting/104/session/dtn\n
 \n
 See in schedule: https://datatracker.ietf.org/meeting/104/agenda#row-104-2019-03-26-tue-1610-tsv-dtn\n
END:VEVENT
BEGIN:VEVENT
UID:ietf-104-10730-quic
SUMMARY:quic - QUIC
LOCATION:Congress Hall 2
STATUS:CONFIRMED
CLASS:PUBLIC
DTSTART;TZID=Europe/Prague:20190327T090000
DTEND;TZID=Europe/Prague:20190327T110000
DTSTAMP:20190222T135129Z
URL:https://datatracker.ietf.org/meeting/104/materials/agenda-104-quic-02
DESCRIPTION:Morning Session I\n
 \n
 Meetecho: http://www.meetecho.com/ietf104/quic/\n
 \n
 Agenda https://datatracker.ietf.org/meeting/104/materials/agenda-104-quic-02\n
 \n
 Session materials: https://datatracker.ietf.org/meeting/104/session/quic\n
 \n
 See in schedule: https://datatracker.ietf.org/meeting/104/agenda#row-104-2019-03-27-wed-0900-tsv-quic\n
END:VEVENT
BEGIN:VEVENT
UID:ietf-104-10718-mptcp
SUMMARY:mptcp - Multipath TCP
LOCATION:Karlin 1/2
STATUS:CONFIRMED
CLASS:PUBLIC
DTSTART;TZID=Europe/Prague:20190327T112000
DTEND;TZID=Europe/Prague:20190327T132000
DTSTAMP:20190222T104059Z
URL:https://datatracker.ietf.org/meeting/104/materials/agenda-104-mptcp-03
DESCRIPTION:Morning Session II\n
 \n
 Meetecho: http://www.meetecho.com/ietf104/mptcp/\n
 \n
 Agenda https://datatracker.ietf.org/meeting/104/materials/agenda-104-mptcp-03\n
 \n
 Session materials: https://datatracker.ietf.org/meeting/104/session/mptcp\n
 \n
 See in schedule: https://datatracker.ietf.org/meeting/104/agenda#row-104-2019-03-27-wed-1120-tsv-mptcp\n
END:VEVENT
BEGIN:VEVENT
UID:ietf-104-10805-taps
SUMMARY:taps - Transport Services
LOCATION:Athens/Barcelona
STATUS:CONFIRMED
CLASS:PUBLIC
DTSTART;TZID=Europe/Prague:20190329T105000
DTEND;TZID=Europe/Prague:20190329T125000
DTSTAMP:20190219T212719Z
URL:https://datatracker.ietf.org/meeting/104/materials/agenda-104-taps-02
DESCRIPTION:Morning Session II\n
 \n
 Meetecho: http://www.meetecho.com/ietf104/taps/\n
 \n
 Agenda https://datatracker.ietf.org/meeting/104/materials/agenda-104-taps-02\n
 \n
 Session materials: https://datatracker.ietf.org/meeting/104/session/taps\n
 \n
 See in schedule: https://datatracker.ietf.org/meeting/104/agenda#row-104-2019-03-29-fri-1050-tsv-taps\n
END:VEVENT
END:VCALENDAR
