BEGIN:VCALENDAR
VERSION:2.0
METHOD:PUBLISH
PRODID:-//IETF//datatracker.ietf.org ical agenda//EN
BEGIN:VTIMEZONE
TZID:America/New_York
X-LIC-LOCATION:America/New_York
BEGIN:DAYLIGHT
TZOFFSETFROM:-0500
TZOFFSETTO:-0400
TZNAME:EDT
DTSTART:20070311T020000
RRULE:FREQ=YEARLY;BYMONTH=3;BYDAY=2SU
END:DAYLIGHT
BEGIN:STANDARD
TZOFFSETFROM:-0400
TZOFFSETTO:-0500
TZNAME:EST
DTSTART:20071104T020000
RRULE:FREQ=YEARLY;BYMONTH=11;BYDAY=1SU
END:STANDARD
BEGIN:STANDARD
TZOFFSETFROM:-045602
TZOFFSETTO:-0500
TZNAME:EST
DTSTART:18831118T120358
RDATE:18831118T120358
END:STANDARD
BEGIN:DAYLIGHT
TZOFFSETFROM:-0500
TZOFFSETTO:-0400
TZNAME:EDT
DTSTART:19180331T020000
RDATE:19180331T020000
RDATE:19190330T020000
RDATE:19200328T020000
RDATE:19210424T020000
RDATE:19220430T020000
RDATE:19230429T020000
RDATE:19240427T020000
RDATE:19250426T020000
RDATE:19260425T020000
RDATE:19270424T020000
RDATE:19280429T020000
RDATE:19290428T020000
RDATE:19300427T020000
RDATE:19310426T020000
RDATE:19320424T020000
RDATE:19330430T020000
RDATE:19340429T020000
RDATE:19350428T020000
RDATE:19360426T020000
RDATE:19370425T020000
RDATE:19380424T020000
RDATE:19390430T020000
RDATE:19400428T020000
RDATE:19410427T020000
RDATE:19460428T020000
RDATE:19470427T020000
RDATE:19480425T020000
RDATE:19490424T020000
RDATE:19500430T020000
RDATE:19510429T020000
RDATE:19520427T020000
RDATE:19530426T020000
RDATE:19540425T020000
RDATE:19550424T020000
RDATE:19560429T020000
RDATE:19570428T020000
RDATE:19580427T020000
RDATE:19590426T020000
RDATE:19600424T020000
RDATE:19610430T020000
RDATE:19620429T020000
RDATE:19630428T020000
RDATE:19640426T020000
RDATE:19650425T020000
RDATE:19660424T020000
RDATE:19670430T020000
RDATE:19680428T020000
RDATE:19690427T020000
RDATE:19700426T020000
RDATE:19710425T020000
RDATE:19720430T020000
RDATE:19730429T020000
RDATE:19740106T020000
RDATE:19750223T020000
RDATE:19760425T020000
RDATE:19770424T020000
RDATE:19780430T020000
RDATE:19790429T020000
RDATE:19800427T020000
RDATE:19810426T020000
RDATE:19820425T020000
RDATE:19830424T020000
RDATE:19840429T020000
RDATE:19850428T020000
RDATE:19860427T020000
RDATE:19870405T020000
RDATE:19880403T020000
RDATE:19890402T020000
RDATE:19900401T020000
RDATE:19910407T020000
RDATE:19920405T020000
RDATE:19930404T020000
RDATE:19940403T020000
RDATE:19950402T020000
RDATE:19960407T020000
RDATE:19970406T020000
RDATE:19980405T020000
RDATE:19990404T020000
RDATE:20000402T020000
RDATE:20010401T020000
RDATE:20020407T020000
RDATE:20030406T020000
RDATE:20040404T020000
RDATE:20050403T020000
RDATE:20060402T020000
END:DAYLIGHT
BEGIN:STANDARD
TZOFFSETFROM:-0400
TZOFFSETTO:-0500
TZNAME:EST
DTSTART:19181027T020000
RDATE:19181027T020000
RDATE:19191026T020000
RDATE:19201031T020000
RDATE:19210925T020000
RDATE:19220924T020000
RDATE:19230930T020000
RDATE:19240928T020000
RDATE:19250927T020000
RDATE:19260926T020000
RDATE:19270925T020000
RDATE:19280930T020000
RDATE:19290929T020000
RDATE:19300928T020000
RDATE:19310927T020000
RDATE:19320925T020000
RDATE:19330924T020000
RDATE:19340930T020000
RDATE:19350929T020000
RDATE:19360927T020000
RDATE:19370926T020000
RDATE:19380925T020000
RDATE:19390924T020000
RDATE:19400929T020000
RDATE:19410928T020000
RDATE:19450930T020000
RDATE:19460929T020000
RDATE:19470928T020000
RDATE:19480926T020000
RDATE:19490925T020000
RDATE:19500924T020000
RDATE:19510930T020000
RDATE:19520928T020000
RDATE:19530927T020000
RDATE:19540926T020000
RDATE:19551030T020000
RDATE:19561028T020000
RDATE:19571027T020000
RDATE:19581026T020000
RDATE:19591025T020000
RDATE:19601030T020000
RDATE:19611029T020000
RDATE:19621028T020000
RDATE:19631027T020000
RDATE:19641025T020000
RDATE:19651031T020000
RDATE:19661030T020000
RDATE:19671029T020000
RDATE:19681027T020000
RDATE:19691026T020000
RDATE:19701025T020000
RDATE:19711031T020000
RDATE:19721029T020000
RDATE:19731028T020000
RDATE:19741027T020000
RDATE:19751026T020000
RDATE:19761031T020000
RDATE:19771030T020000
RDATE:19781029T020000
RDATE:19791028T020000
RDATE:19801026T020000
RDATE:19811025T020000
RDATE:19821031T020000
RDATE:19831030T020000
RDATE:19841028T020000
RDATE:19851027T020000
RDATE:19861026T020000
RDATE:19871025T020000
RDATE:19881030T020000
RDATE:19891029T020000
RDATE:19901028T020000
RDATE:19911027T020000
RDATE:19921025T020000
RDATE:19931031T020000
RDATE:19941030T020000
RDATE:19951029T020000
RDATE:19961027T020000
RDATE:19971026T020000
RDATE:19981025T020000
RDATE:19991031T020000
RDATE:20001029T020000
RDATE:20011028T020000
RDATE:20021027T020000
RDATE:20031026T020000
RDATE:20041031T020000
RDATE:20051030T020000
RDATE:20061029T020000
END:STANDARD
BEGIN:STANDARD
TZOFFSETFROM:-0500
TZOFFSETTO:-0500
TZNAME:EST
DTSTART:19200101T000000
RDATE:19200101T000000
RDATE:19420101T000000
RDATE:19460101T000000
RDATE:19670101T000000
END:STANDARD
BEGIN:DAYLIGHT
TZOFFSETFROM:-0500
TZOFFSETTO:-0400
TZNAME:EWT
DTSTART:19420209T020000
RDATE:19420209T020000
END:DAYLIGHT
BEGIN:DAYLIGHT
TZOFFSETFROM:-0400
TZOFFSETTO:-0400
TZNAME:EPT
DTSTART:19450814T190000
RDATE:19450814T190000
END:DAYLIGHT
END:VTIMEZONE
BEGIN:VEVENT
UID:ietf-105-11009-capport
SUMMARY:capport - Captive Portal Interaction (1000 - 1100)
LOCATION:Duluth
STATUS:CONFIRMED
CLASS:PUBLIC
DTSTART;TZID=America/New_York:20190722T100000
DTEND;TZID=America/New_York:20190722T120000
DTSTAMP:20190616T210308Z
URL:https://datatracker.ietf.org/meeting/105/materials/agenda-105-capport-00
DESCRIPTION:Morning Session I\n
 Note: 1000 - 1100\n
 \n
 Meetecho: http://www.meetecho.com/ietf105/capport/\n
 \n
 Agenda https://datatracker.ietf.org/meeting/105/materials/agenda-105-capport-00\n
 \n
 Session materials: https://datatracker.ietf.org/meeting/105/session/capport\n
 \n
 See in schedule: https://datatracker.ietf.org/meeting/105/agenda#row-105-2019-07-22-mon-1000-art-capport\n
END:VEVENT
BEGIN:VEVENT
UID:ietf-105-11009-stir
SUMMARY:stir - Secure Telephone Identity Revisited (1100 - 1200)
LOCATION:Duluth
STATUS:CONFIRMED
CLASS:PUBLIC
DTSTART;TZID=America/New_York:20190722T100000
DTEND;TZID=America/New_York:20190722T120000
DTSTAMP:20190616T210308Z
URL:https://datatracker.ietf.org/meeting/105/materials/agenda-105-stir-01
DESCRIPTION:Morning Session I\n
 Note: 1100 - 1200\n
 \n
 Meetecho: http://www.meetecho.com/ietf105/stir/\n
 \n
 Agenda https://datatracker.ietf.org/meeting/105/materials/agenda-105-stir-01\n
 \n
 Session materials: https://datatracker.ietf.org/meeting/105/session/stir\n
 \n
 See in schedule: https://datatracker.ietf.org/meeting/105/agenda#row-105-2019-07-22-mon-1000-art-stir\n
END:VEVENT
BEGIN:VEVENT
UID:ietf-105-11052-httpbis
SUMMARY:httpbis - Hypertext Transfer Protocol
LOCATION:Laurier
STATUS:CONFIRMED
CLASS:PUBLIC
DTSTART;TZID=America/New_York:20190722T155000
DTEND;TZID=America/New_York:20190722T175000
DTSTAMP:20190618T141823Z
URL:https://datatracker.ietf.org/meeting/105/materials/agenda-105-httpbis-00
DESCRIPTION:Afternoon Session II\n
 \n
 Meetecho: http://www.meetecho.com/ietf105/httpbis/\n
 \n
 Agenda https://datatracker.ietf.org/meeting/105/materials/agenda-105-httpbis-00\n
 \n
 Session materials: https://datatracker.ietf.org/meeting/105/session/httpbis\n
 \n
 See in schedule: https://datatracker.ietf.org/meeting/105/agenda#row-105-2019-07-22-mon-1550-art-httpbis\n
END:VEVENT
BEGIN:VEVENT
UID:ietf-105-11075-dispatch
SUMMARY:dispatch - Dispatch (Joint with ARTAREA)
LOCATION:Laurier
STATUS:CONFIRMED
CLASS:PUBLIC
DTSTART;TZID=America/New_York:20190722T181000
DTEND;TZID=America/New_York:20190722T191000
DTSTAMP:20190618T141837Z
URL:https://datatracker.ietf.org/meeting/105/materials/agenda-105-dispatch-00
DESCRIPTION:Afternoon Session III\n
 Note: Joint with ARTAREA\n
 \n
 Meetecho: http://www.meetecho.com/ietf105/dispatch/\n
 \n
 Agenda https://datatracker.ietf.org/meeting/105/materials/agenda-105-dispatch-00\n
 \n
 Session materials: https://datatracker.ietf.org/meeting/105/session/dispatch\n
 \n
 See in schedule: https://datatracker.ietf.org/meeting/105/agenda#row-105-2019-07-22-mon-1810-art-dispatch\n
END:VEVENT
BEGIN:VEVENT
UID:ietf-105-11103-cbor
SUMMARY:cbor - Concise Binary Object Representation Maintenance and Extensions (1000-1130)
LOCATION:Sainte-Catherine
STATUS:CONFIRMED
CLASS:PUBLIC
DTSTART;TZID=America/New_York:20190723T100000
DTEND;TZID=America/New_York:20190723T120000
DTSTAMP:20190616T211053Z
URL:https://datatracker.ietf.org/meeting/105/materials/agenda-105-cbor-01
DESCRIPTION:Morning Session I\n
 Note: 1000-1130\n
 \n
 Meetecho: http://www.meetecho.com/ietf105/cbor/\n
 \n
 Agenda https://datatracker.ietf.org/meeting/105/materials/agenda-105-cbor-01\n
 \n
 Session materials: https://datatracker.ietf.org/meeting/105/session/cbor\n
 \n
 See in schedule: https://datatracker.ietf.org/meeting/105/agenda#row-105-2019-07-23-tue-1000-art-cbor\n
END:VEVENT
BEGIN:VEVENT
UID:ietf-105-11120-add
SUMMARY:add - Applications Doing DNS
LOCATION:Place du Canada
STATUS:CONFIRMED
CLASS:PUBLIC
DTSTART;TZID=America/New_York:20190723T133000
DTEND;TZID=America/New_York:20190723T150000
DTSTAMP:20190618T142833Z
URL:https://datatracker.ietf.org/meeting/105/materials/agenda-105-add-04
DESCRIPTION:Afternoon Session I\n
 \n
 Meetecho: http://www.meetecho.com/ietf105/add/\n
 \n
 Agenda https://datatracker.ietf.org/meeting/105/materials/agenda-105-add-04\n
 \n
 Session materials: https://datatracker.ietf.org/meeting/105/session/add\n
 \n
 See in schedule: https://datatracker.ietf.org/meeting/105/agenda#row-105-2019-07-23-tue-1330-art-add\n
END:VEVENT
BEGIN:VEVENT
UID:ietf-105-11403-rum
SUMMARY:rum - Relay User Machine
LOCATION:Notre Dame
STATUS:CONFIRMED
CLASS:PUBLIC
DTSTART;TZID=America/New_York:20190723T152000
DTEND;TZID=America/New_York:20190723T165000
DTSTAMP:20190618T142929Z
URL:https://datatracker.ietf.org/meeting/105/materials/agenda-105-rum-00
DESCRIPTION:Afternoon Session II\n
 \n
 Meetecho: http://www.meetecho.com/ietf105/rum/\n
 \n
 Agenda https://datatracker.ietf.org/meeting/105/materials/agenda-105-rum-00\n
 \n
 Session materials: https://datatracker.ietf.org/meeting/105/session/rum\n
 \n
 See in schedule: https://datatracker.ietf.org/meeting/105/agenda#row-105-2019-07-23-tue-1520-art-rum\n
END:VEVENT
BEGIN:VEVENT
UID:ietf-105-11171-avtcore
SUMMARY:avtcore - Audio/Video Transport Core Maintenance
LOCATION:Van Horne
STATUS:CONFIRMED
CLASS:PUBLIC
DTSTART;TZID=America/New_York:20190723T171000
DTEND;TZID=America/New_York:20190723T181000
DTSTAMP:20190618T142952Z
URL:https://datatracker.ietf.org/meeting/105/materials/agenda-105-avtcore-00
DESCRIPTION:Afternoon Session III\n
 \n
 Meetecho: http://www.meetecho.com/ietf105/avtcore/\n
 \n
 Agenda https://datatracker.ietf.org/meeting/105/materials/agenda-105-avtcore-00\n
 \n
 Session materials: https://datatracker.ietf.org/meeting/105/session/avtcore\n
 \n
 See in schedule: https://datatracker.ietf.org/meeting/105/agenda#row-105-2019-07-23-tue-1710-art-avtcore\n
END:VEVENT
BEGIN:VEVENT
UID:ietf-105-11170-core
SUMMARY:core - Constrained RESTful Environments
LOCATION:Duluth
STATUS:CONFIRMED
CLASS:PUBLIC
DTSTART;TZID=America/New_York:20190723T171000
DTEND;TZID=America/New_York:20190723T181000
DTSTAMP:20190618T142952Z
URL:https://datatracker.ietf.org/meeting/105/materials/agenda-105-core-02
DESCRIPTION:Afternoon Session III\n
 \n
 Meetecho: http://www.meetecho.com/ietf105/core/\n
 \n
 Agenda https://datatracker.ietf.org/meeting/105/materials/agenda-105-core-02\n
 \n
 Session materials: https://datatracker.ietf.org/meeting/105/session/core\n
 \n
 See in schedule: https://datatracker.ietf.org/meeting/105/agenda#row-105-2019-07-23-tue-1710-art-core\n
END:VEVENT
BEGIN:VEVENT
UID:ietf-105-11242-calext
SUMMARY:calext - Calendaring Extensions
LOCATION:Notre Dame
STATUS:CONFIRMED
CLASS:PUBLIC
DTSTART;TZID=America/New_York:20190724T155000
DTEND;TZID=America/New_York:20190724T165000
DTSTAMP:20190616T211224Z
URL:https://datatracker.ietf.org/meeting/105/materials/agenda-105-calext-00
DESCRIPTION:Afternoon Session II\n
 \n
 Meetecho: http://www.meetecho.com/ietf105/calext/\n
 \n
 Agenda https://datatracker.ietf.org/meeting/105/materials/agenda-105-calext-00\n
 \n
 Session materials: https://datatracker.ietf.org/meeting/105/session/calext\n
 \n
 See in schedule: https://datatracker.ietf.org/meeting/105/agenda#row-105-2019-07-24-wed-1550-art-calext\n
END:VEVENT
BEGIN:VEVENT
UID:ietf-105-11262-core
SUMMARY:core - Constrained RESTful Environments
LOCATION:Duluth
STATUS:CONFIRMED
CLASS:PUBLIC
DTSTART;TZID=America/New_York:20190725T100000
DTEND;TZID=America/New_York:20190725T120000
DTSTAMP:20190616T211244Z
URL:https://datatracker.ietf.org/meeting/105/materials/agenda-105-core-02
DESCRIPTION:Morning Session I\n
 \n
 Meetecho: http://www.meetecho.com/ietf105/core/\n
 \n
 Agenda https://datatracker.ietf.org/meeting/105/materials/agenda-105-core-02\n
 \n
 Session materials: https://datatracker.ietf.org/meeting/105/session/core\n
 \n
 See in schedule: https://datatracker.ietf.org/meeting/105/agenda#row-105-2019-07-25-thu-1000-art-core\n
END:VEVENT
BEGIN:VEVENT
UID:ietf-105-11263-regext
SUMMARY:regext - Registration Protocols Extensions
LOCATION:Van Horne
STATUS:CONFIRMED
CLASS:PUBLIC
DTSTART;TZID=America/New_York:20190725T100000
DTEND;TZID=America/New_York:20190725T120000
DTSTAMP:20190616T211244Z
URL:https://datatracker.ietf.org/meeting/105/materials/agenda-105-regext-02
DESCRIPTION:Morning Session I\n
 \n
 Meetecho: http://www.meetecho.com/ietf105/regext/\n
 \n
 Agenda https://datatracker.ietf.org/meeting/105/materials/agenda-105-regext-02\n
 \n
 Session materials: https://datatracker.ietf.org/meeting/105/session/regext\n
 \n
 See in schedule: https://datatracker.ietf.org/meeting/105/agenda#row-105-2019-07-25-thu-1000-art-regext\n
END:VEVENT
BEGIN:VEVENT
UID:ietf-105-11305-httpbis
SUMMARY:httpbis - Hypertext Transfer Protocol
LOCATION:Laurier
STATUS:CONFIRMED
CLASS:PUBLIC
DTSTART;TZID=America/New_York:20190725T155000
DTEND;TZID=America/New_York:20190725T172000
DTSTAMP:20190618T150622Z
URL:https://datatracker.ietf.org/meeting/105/materials/agenda-105-httpbis-00
DESCRIPTION:Afternoon Session II\n
 \n
 Meetecho: http://www.meetecho.com/ietf105/httpbis/\n
 \n
 Agenda https://datatracker.ietf.org/meeting/105/materials/agenda-105-httpbis-00\n
 \n
 Session materials: https://datatracker.ietf.org/meeting/105/session/httpbis\n
 \n
 See in schedule: https://datatracker.ietf.org/meeting/105/agenda#row-105-2019-07-25-thu-1550-art-httpbis\n
END:VEVENT
BEGIN:VEVENT
UID:ietf-105-11357-ice
SUMMARY:ice - Interactive Connectivity Establishment
LOCATION:Notre Dame
STATUS:CANCELLED
CLASS:PUBLIC
DTSTART;TZID=America/New_York:20190726T100000
DTEND;TZID=America/New_York:20190726T120000
DTSTAMP:20190616T211343Z
DESCRIPTION:Morning Session I\n
 \n
 Meetecho: http://www.meetecho.com/ietf105/ice/\n
 \n
 Session materials: https://datatracker.ietf.org/meeting/105/session/ice\n
 \n
 See in schedule: https://datatracker.ietf.org/meeting/105/agenda#row-105-2019-07-26-fri-1000-art-ice\n
END:VEVENT
BEGIN:VEVENT
UID:ietf-105-11380-jmap
SUMMARY:jmap - JSON Mail Access Protocol
LOCATION:Notre Dame
STATUS:CONFIRMED
CLASS:PUBLIC
DTSTART;TZID=America/New_York:20190726T122000
DTEND;TZID=America/New_York:20190726T135000
DTSTAMP:20190616T211403Z
URL:https://datatracker.ietf.org/meeting/105/materials/agenda-105-jmap-00
DESCRIPTION:Afternoon Session I\n
 \n
 Meetecho: http://www.meetecho.com/ietf105/jmap/\n
 \n
 Agenda https://datatracker.ietf.org/meeting/105/materials/agenda-105-jmap-00\n
 \n
 Session materials: https://datatracker.ietf.org/meeting/105/session/jmap\n
 \n
 See in schedule: https://datatracker.ietf.org/meeting/105/agenda#row-105-2019-07-26-fri-1220-art-jmap\n
END:VEVENT
END:VCALENDAR
