BEGIN:VCALENDAR
VERSION:2.0
METHOD:PUBLISH
PRODID:-//IETF//datatracker.ietf.org ical agenda//EN
BEGIN:VTIMEZONE
TZID:America/New_York
X-LIC-LOCATION:America/New_York
BEGIN:DAYLIGHT
TZOFFSETFROM:-0500
TZOFFSETTO:-0400
TZNAME:EDT
DTSTART:20070311T020000
RRULE:FREQ=YEARLY;BYMONTH=3;BYDAY=2SU
END:DAYLIGHT
BEGIN:STANDARD
TZOFFSETFROM:-0400
TZOFFSETTO:-0500
TZNAME:EST
DTSTART:20071104T020000
RRULE:FREQ=YEARLY;BYMONTH=11;BYDAY=1SU
END:STANDARD
BEGIN:STANDARD
TZOFFSETFROM:-045602
TZOFFSETTO:-0500
TZNAME:EST
DTSTART:18831118T120358
RDATE:18831118T120358
END:STANDARD
BEGIN:DAYLIGHT
TZOFFSETFROM:-0500
TZOFFSETTO:-0400
TZNAME:EDT
DTSTART:19180331T020000
RDATE:19180331T020000
RDATE:19190330T020000
RDATE:19200328T020000
RDATE:19210424T020000
RDATE:19220430T020000
RDATE:19230429T020000
RDATE:19240427T020000
RDATE:19250426T020000
RDATE:19260425T020000
RDATE:19270424T020000
RDATE:19280429T020000
RDATE:19290428T020000
RDATE:19300427T020000
RDATE:19310426T020000
RDATE:19320424T020000
RDATE:19330430T020000
RDATE:19340429T020000
RDATE:19350428T020000
RDATE:19360426T020000
RDATE:19370425T020000
RDATE:19380424T020000
RDATE:19390430T020000
RDATE:19400428T020000
RDATE:19410427T020000
RDATE:19460428T020000
RDATE:19470427T020000
RDATE:19480425T020000
RDATE:19490424T020000
RDATE:19500430T020000
RDATE:19510429T020000
RDATE:19520427T020000
RDATE:19530426T020000
RDATE:19540425T020000
RDATE:19550424T020000
RDATE:19560429T020000
RDATE:19570428T020000
RDATE:19580427T020000
RDATE:19590426T020000
RDATE:19600424T020000
RDATE:19610430T020000
RDATE:19620429T020000
RDATE:19630428T020000
RDATE:19640426T020000
RDATE:19650425T020000
RDATE:19660424T020000
RDATE:19670430T020000
RDATE:19680428T020000
RDATE:19690427T020000
RDATE:19700426T020000
RDATE:19710425T020000
RDATE:19720430T020000
RDATE:19730429T020000
RDATE:19740106T020000
RDATE:19750223T020000
RDATE:19760425T020000
RDATE:19770424T020000
RDATE:19780430T020000
RDATE:19790429T020000
RDATE:19800427T020000
RDATE:19810426T020000
RDATE:19820425T020000
RDATE:19830424T020000
RDATE:19840429T020000
RDATE:19850428T020000
RDATE:19860427T020000
RDATE:19870405T020000
RDATE:19880403T020000
RDATE:19890402T020000
RDATE:19900401T020000
RDATE:19910407T020000
RDATE:19920405T020000
RDATE:19930404T020000
RDATE:19940403T020000
RDATE:19950402T020000
RDATE:19960407T020000
RDATE:19970406T020000
RDATE:19980405T020000
RDATE:19990404T020000
RDATE:20000402T020000
RDATE:20010401T020000
RDATE:20020407T020000
RDATE:20030406T020000
RDATE:20040404T020000
RDATE:20050403T020000
RDATE:20060402T020000
END:DAYLIGHT
BEGIN:STANDARD
TZOFFSETFROM:-0400
TZOFFSETTO:-0500
TZNAME:EST
DTSTART:19181027T020000
RDATE:19181027T020000
RDATE:19191026T020000
RDATE:19201031T020000
RDATE:19210925T020000
RDATE:19220924T020000
RDATE:19230930T020000
RDATE:19240928T020000
RDATE:19250927T020000
RDATE:19260926T020000
RDATE:19270925T020000
RDATE:19280930T020000
RDATE:19290929T020000
RDATE:19300928T020000
RDATE:19310927T020000
RDATE:19320925T020000
RDATE:19330924T020000
RDATE:19340930T020000
RDATE:19350929T020000
RDATE:19360927T020000
RDATE:19370926T020000
RDATE:19380925T020000
RDATE:19390924T020000
RDATE:19400929T020000
RDATE:19410928T020000
RDATE:19450930T020000
RDATE:19460929T020000
RDATE:19470928T020000
RDATE:19480926T020000
RDATE:19490925T020000
RDATE:19500924T020000
RDATE:19510930T020000
RDATE:19520928T020000
RDATE:19530927T020000
RDATE:19540926T020000
RDATE:19551030T020000
RDATE:19561028T020000
RDATE:19571027T020000
RDATE:19581026T020000
RDATE:19591025T020000
RDATE:19601030T020000
RDATE:19611029T020000
RDATE:19621028T020000
RDATE:19631027T020000
RDATE:19641025T020000
RDATE:19651031T020000
RDATE:19661030T020000
RDATE:19671029T020000
RDATE:19681027T020000
RDATE:19691026T020000
RDATE:19701025T020000
RDATE:19711031T020000
RDATE:19721029T020000
RDATE:19731028T020000
RDATE:19741027T020000
RDATE:19751026T020000
RDATE:19761031T020000
RDATE:19771030T020000
RDATE:19781029T020000
RDATE:19791028T020000
RDATE:19801026T020000
RDATE:19811025T020000
RDATE:19821031T020000
RDATE:19831030T020000
RDATE:19841028T020000
RDATE:19851027T020000
RDATE:19861026T020000
RDATE:19871025T020000
RDATE:19881030T020000
RDATE:19891029T020000
RDATE:19901028T020000
RDATE:19911027T020000
RDATE:19921025T020000
RDATE:19931031T020000
RDATE:19941030T020000
RDATE:19951029T020000
RDATE:19961027T020000
RDATE:19971026T020000
RDATE:19981025T020000
RDATE:19991031T020000
RDATE:20001029T020000
RDATE:20011028T020000
RDATE:20021027T020000
RDATE:20031026T020000
RDATE:20041031T020000
RDATE:20051030T020000
RDATE:20061029T020000
END:STANDARD
BEGIN:STANDARD
TZOFFSETFROM:-0500
TZOFFSETTO:-0500
TZNAME:EST
DTSTART:19200101T000000
RDATE:19200101T000000
RDATE:19420101T000000
RDATE:19460101T000000
RDATE:19670101T000000
END:STANDARD
BEGIN:DAYLIGHT
TZOFFSETFROM:-0500
TZOFFSETTO:-0400
TZNAME:EWT
DTSTART:19420209T020000
RDATE:19420209T020000
END:DAYLIGHT
BEGIN:DAYLIGHT
TZOFFSETFROM:-0400
TZOFFSETTO:-0400
TZNAME:EPT
DTSTART:19450814T190000
RDATE:19450814T190000
END:DAYLIGHT
END:VTIMEZONE
BEGIN:VEVENT
UID:ietf-105-11423-hackathon
SUMMARY:IETF Hackathon
LOCATION:Centre Ville
STATUS:CONFIRMED
CLASS:PUBLIC
DTSTART;TZID=America/New_York:20190720T083000
DTEND;TZID=America/New_York:20190720T220000
DTSTAMP:20190621T134226Z
URL:https://datatracker.ietf.org/meeting/105/materials/agenda-105-hackathon-sessb-02
DESCRIPTION:IETF Hackathon\n
 \n
 Meetecho: http://www.meetecho.com/ietf105/hackathon/hackathon\n
 \n
 Agenda https://datatracker.ietf.org/meeting/105/materials/agenda-105-hackathon-sessb-02\n
 \n
 Session materials: https://datatracker.ietf.org/meeting/105/session/hackathon\n
 \n
 See in schedule: https://datatracker.ietf.org/meeting/105/agenda#row-105-2019-07-20-sat-0830-hackathon-ietf-hackathon\n
END:VEVENT
BEGIN:VEVENT
UID:ietf-105-11424-tools
SUMMARY:Code Sprint
LOCATION:Mansfield
STATUS:CONFIRMED
CLASS:PUBLIC
DTSTART;TZID=America/New_York:20190720T093000
DTEND;TZID=America/New_York:20190720T180000
DTSTAMP:20190621T141109Z
DESCRIPTION:Code Sprint\n
 \n
 Session materials: https://datatracker.ietf.org/meeting/105/session/tools\n
 \n
 See in schedule: https://datatracker.ietf.org/meeting/105/agenda#row-105-2019-07-20-sat-0930-tools-code-sprint\n
END:VEVENT
BEGIN:VEVENT
UID:ietf-105-11406-hackathon
SUMMARY:IETF Hackathon
LOCATION:Centre Ville
STATUS:CONFIRMED
CLASS:PUBLIC
DTSTART;TZID=America/New_York:20190721T083000
DTEND;TZID=America/New_York:20190721T160000
DTSTAMP:20190620T141337Z
URL:https://datatracker.ietf.org/meeting/105/materials/agenda-105-hackathon-sessa-01
DESCRIPTION:IETF Hackathon\n
 \n
 Meetecho: http://www.meetecho.com/ietf105/hackathon/hackathon\n
 \n
 Agenda https://datatracker.ietf.org/meeting/105/materials/agenda-105-hackathon-sessa-01\n
 \n
 Session materials: https://datatracker.ietf.org/meeting/105/session/hackathon\n
 \n
 See in schedule: https://datatracker.ietf.org/meeting/105/agenda#row-105-2019-07-21-sun-0830-hackathon-ietf-hackathon\n
END:VEVENT
BEGIN:VEVENT
UID:ietf-105-11419-iepg
SUMMARY:IEPG Meeting
LOCATION:Viger
STATUS:CONFIRMED
CLASS:PUBLIC
DTSTART;TZID=America/New_York:20190721T100000
DTEND;TZID=America/New_York:20190721T120000
DTSTAMP:20190620T151829Z
DESCRIPTION:IEPG Meeting\n
 \n
 Meetecho: http://www.meetecho.com/ietf105/iepg/iepg\n
 \n
 Session materials: https://datatracker.ietf.org/meeting/105/session/iepg\n
 \n
 See in schedule: https://datatracker.ietf.org/meeting/105/agenda#row-105-2019-07-21-sun-1000-iepg-iepg-meeting\n
END:VEVENT
BEGIN:VEVENT
UID:ietf-105-11417-edu
SUMMARY:Tutorial: Newcomers' Overview
LOCATION:Viger
STATUS:CONFIRMED
CLASS:PUBLIC
DTSTART;TZID=America/New_York:20190721T123000
DTEND;TZID=America/New_York:20190721T133000
DTSTAMP:20190620T151542Z
URL:https://datatracker.ietf.org/meeting/105/materials/agenda-105-edu-sessa-00
DESCRIPTION:Tutorial: Newcomers' Overview\n
 \n
 Meetecho: http://www.meetecho.com/ietf105/edu/tutorialnew\n
 \n
 Agenda https://datatracker.ietf.org/meeting/105/materials/agenda-105-edu-sessa-00\n
 \n
 Session materials: https://datatracker.ietf.org/meeting/105/session/edu\n
 \n
 See in schedule: https://datatracker.ietf.org/meeting/105/agenda#row-105-2019-07-21-sun-1230-edu-tutorial-newcomers-overview\n
END:VEVENT
BEGIN:VEVENT
UID:ietf-105-11418-edu
SUMMARY:Tutorial: Writing Security Considerations
LOCATION:Duluth
STATUS:CONFIRMED
CLASS:PUBLIC
DTSTART;TZID=America/New_York:20190721T134500
DTEND;TZID=America/New_York:20190721T144500
DTSTAMP:20190620T151641Z
URL:https://datatracker.ietf.org/meeting/105/materials/agenda-105-edu-sessb-00
DESCRIPTION:Tutorial: Writing Security Considerations\n
 \n
 Meetecho: http://www.meetecho.com/ietf105/edu/tutorialsec\n
 \n
 Agenda https://datatracker.ietf.org/meeting/105/materials/agenda-105-edu-sessb-00\n
 \n
 Session materials: https://datatracker.ietf.org/meeting/105/session/edu\n
 \n
 See in schedule: https://datatracker.ietf.org/meeting/105/agenda#row-105-2019-07-21-sun-1345-edu-tutorial-writing-security-considerations\n
END:VEVENT
BEGIN:VEVENT
UID:ietf-105-11432-edu
SUMMARY:Newcomers' Quick Connections (Open to Newcomers. Note that pre-registration is required)
LOCATION:Place du Canada
STATUS:CONFIRMED
CLASS:PUBLIC
DTSTART;TZID=America/New_York:20190721T160000
DTEND;TZID=America/New_York:20190721T170000
DTSTAMP:20190621T135226Z
URL:https://datatracker.ietf.org/meeting/105/materials/agenda-105-edu-sessc-00
DESCRIPTION:Newcomers' Quick Connections (Open to Newcomers. Note that pre-registration is required)\n
 \n
 Meetecho: http://www.meetecho.com/ietf105/edu/quick\n
 \n
 Agenda https://datatracker.ietf.org/meeting/105/materials/agenda-105-edu-sessc-00\n
 \n
 Session materials: https://datatracker.ietf.org/meeting/105/session/edu\n
 \n
 See in schedule: https://datatracker.ietf.org/meeting/105/agenda#row-105-2019-07-21-sun-1600-edu-newcomers-quick-connections-open-to-newcomers-note-that-pre-registration-is-required\n
END:VEVENT
BEGIN:VEVENT
UID:ietf-105-11470-hotrfc
SUMMARY:hotrfc - Hot RFC Lightning Talks
LOCATION:Viger
STATUS:CONFIRMED
CLASS:PUBLIC
DTSTART;TZID=America/New_York:20190721T180000
DTEND;TZID=America/New_York:20190721T200000
DTSTAMP:20190628T123319Z
URL:https://datatracker.ietf.org/meeting/105/materials/agenda-105-hotrfc-22
DESCRIPTION:Hot RFC Lightning Talks\n
 \n
 Meetecho: http://www.meetecho.com/ietf105/hotrfc/\n
 \n
 Agenda https://datatracker.ietf.org/meeting/105/materials/agenda-105-hotrfc-22\n
 \n
 Session materials: https://datatracker.ietf.org/meeting/105/session/hotrfc\n
 \n
 See in schedule: https://datatracker.ietf.org/meeting/105/agenda#row-105-2019-07-21-sun-1800-ietf-hotrfc\n
END:VEVENT
BEGIN:VEVENT
UID:ietf-105-11006-loops
SUMMARY:loops - Local Optimizations on Path Segments
LOCATION:Laurier
STATUS:CONFIRMED
CLASS:PUBLIC
DTSTART;TZID=America/New_York:20190722T100000
DTEND;TZID=America/New_York:20190722T120000
DTSTAMP:20190616T210308Z
URL:https://datatracker.ietf.org/meeting/105/materials/agenda-105-loops-02
DESCRIPTION:Morning Session I\n
 \n
 Meetecho: http://www.meetecho.com/ietf105/loops/\n
 \n
 Agenda https://datatracker.ietf.org/meeting/105/materials/agenda-105-loops-02\n
 \n
 Session materials: https://datatracker.ietf.org/meeting/105/session/loops\n
 \n
 See in schedule: https://datatracker.ietf.org/meeting/105/agenda#row-105-2019-07-22-mon-1000-tsv-loops\n
END:VEVENT
BEGIN:VEVENT
UID:ietf-105-11029-mops
SUMMARY:mops - Media OPerationS
LOCATION:Laurier
STATUS:CONFIRMED
CLASS:PUBLIC
DTSTART;TZID=America/New_York:20190722T133000
DTEND;TZID=America/New_York:20190722T153000
DTSTAMP:20190616T210328Z
URL:https://datatracker.ietf.org/meeting/105/materials/agenda-105-mops-04
DESCRIPTION:Afternoon Session I\n
 \n
 Meetecho: http://www.meetecho.com/ietf105/mops/\n
 \n
 Agenda https://datatracker.ietf.org/meeting/105/materials/agenda-105-mops-04\n
 \n
 Session materials: https://datatracker.ietf.org/meeting/105/session/mops\n
 \n
 See in schedule: https://datatracker.ietf.org/meeting/105/agenda#row-105-2019-07-22-mon-1330-ops-mops\n
END:VEVENT
BEGIN:VEVENT
UID:ietf-105-11056-lake
SUMMARY:lake - Lightweight Authenticated Key Exchange
LOCATION:Van Horne
STATUS:CONFIRMED
CLASS:PUBLIC
DTSTART;TZID=America/New_York:20190722T155000
DTEND;TZID=America/New_York:20190722T175000
DTSTAMP:20190618T141823Z
URL:https://datatracker.ietf.org/meeting/105/materials/agenda-105-lake-01
DESCRIPTION:Afternoon Session II\n
 \n
 Meetecho: http://www.meetecho.com/ietf105/lake/\n
 \n
 Agenda https://datatracker.ietf.org/meeting/105/materials/agenda-105-lake-01\n
 \n
 Session materials: https://datatracker.ietf.org/meeting/105/session/lake\n
 \n
 See in schedule: https://datatracker.ietf.org/meeting/105/agenda#row-105-2019-07-22-mon-1550-sec-lake\n
END:VEVENT
BEGIN:VEVENT
UID:ietf-105-11444-hackathon
SUMMARY:Hackdemo Happy Hour
LOCATION:Parc Mont-Royal
STATUS:CONFIRMED
CLASS:PUBLIC
DTSTART;TZID=America/New_York:20190722T181000
DTEND;TZID=America/New_York:20190722T194000
DTSTAMP:20190621T140230Z
DESCRIPTION:Hackdemo Happy Hour\n
 \n
 Session materials: https://datatracker.ietf.org/meeting/105/session/hackathon\n
 \n
 See in schedule: https://datatracker.ietf.org/meeting/105/agenda#row-105-2019-07-22-mon-1810-hackathon-hackdemo-happy-hour\n
END:VEVENT
BEGIN:VEVENT
UID:ietf-105-11492-tdd
SUMMARY:tdd - Technology Deep Dive (How NICs Work Today)
LOCATION:Place du Canada
STATUS:CONFIRMED
CLASS:PUBLIC
DTSTART;TZID=America/New_York:20190723T083000
DTEND;TZID=America/New_York:20190723T094500
DTSTAMP:20190628T123409Z
URL:https://datatracker.ietf.org/meeting/105/materials/agenda-105-tdd-02
DESCRIPTION:Side Meetings / Open Time\n
 Note: How NICs Work Today\n
 \n
 Meetecho: http://www.meetecho.com/ietf105/tdd/\n
 \n
 Agenda https://datatracker.ietf.org/meeting/105/materials/agenda-105-tdd-02\n
 \n
 Session materials: https://datatracker.ietf.org/meeting/105/session/tdd\n
 \n
 See in schedule: https://datatracker.ietf.org/meeting/105/agenda#row-105-2019-07-23-tue-0830-ietf-tdd\n
END:VEVENT
BEGIN:VEVENT
UID:ietf-105-11102-cacao
SUMMARY:cacao - Collaborative Automated Course of Action Operations for Cyber Security
LOCATION:Van Horne
STATUS:CANCELLED
CLASS:PUBLIC
DTSTART;TZID=America/New_York:20190723T100000
DTEND;TZID=America/New_York:20190723T120000
DTSTAMP:20190616T211053Z
DESCRIPTION:Morning Session I\n
 \n
 Meetecho: http://www.meetecho.com/ietf105/cacao/\n
 \n
 Session materials: https://datatracker.ietf.org/meeting/105/session/cacao\n
 \n
 See in schedule: https://datatracker.ietf.org/meeting/105/agenda#row-105-2019-07-23-tue-1000-sec-cacao\n
END:VEVENT
BEGIN:VEVENT
UID:ietf-105-11120-add
SUMMARY:add - Applications Doing DNS
LOCATION:Place du Canada
STATUS:CONFIRMED
CLASS:PUBLIC
DTSTART;TZID=America/New_York:20190723T133000
DTEND;TZID=America/New_York:20190723T150000
DTSTAMP:20190618T142833Z
URL:https://datatracker.ietf.org/meeting/105/materials/agenda-105-add-04
DESCRIPTION:Afternoon Session I\n
 \n
 Meetecho: http://www.meetecho.com/ietf105/add/\n
 \n
 Agenda https://datatracker.ietf.org/meeting/105/materials/agenda-105-add-04\n
 \n
 Session materials: https://datatracker.ietf.org/meeting/105/session/add\n
 \n
 See in schedule: https://datatracker.ietf.org/meeting/105/agenda#row-105-2019-07-23-tue-1330-art-add\n
END:VEVENT
BEGIN:VEVENT
UID:ietf-105-11434-edu
SUMMARY:WG Chairs Forum (For WG Chairs Only)
LOCATION:Centre Ville
STATUS:CONFIRMED
CLASS:PUBLIC
DTSTART;TZID=America/New_York:20190724T121500
DTEND;TZID=America/New_York:20190724T131500
DTSTAMP:20190621T135432Z
URL:https://datatracker.ietf.org/meeting/105/materials/agenda-105-edu-sessd-01
DESCRIPTION:WG Chairs Forum (For WG Chairs Only)\n
 \n
 Meetecho: http://www.meetecho.com/ietf105/edu/wglunch\n
 \n
 Agenda https://datatracker.ietf.org/meeting/105/materials/agenda-105-edu-sessd-01\n
 \n
 Session materials: https://datatracker.ietf.org/meeting/105/session/edu\n
 \n
 See in schedule: https://datatracker.ietf.org/meeting/105/agenda#row-105-2019-07-24-wed-1215-edu-wg-chairs-forum-for-wg-chairs-only\n
END:VEVENT
BEGIN:VEVENT
UID:ietf-105-11212-netrqmts
SUMMARY:netrqmts - IETF Meeting Network Requirements
LOCATION:Place du Canada
STATUS:CONFIRMED
CLASS:PUBLIC
DTSTART;TZID=America/New_York:20190724T133000
DTEND;TZID=America/New_York:20190724T153000
DTSTAMP:20190616T211212Z
URL:https://datatracker.ietf.org/meeting/105/materials/agenda-105-netrqmts-00
DESCRIPTION:Afternoon Session I\n
 \n
 Meetecho: http://www.meetecho.com/ietf105/netrqmts/\n
 \n
 Agenda https://datatracker.ietf.org/meeting/105/materials/agenda-105-netrqmts-00\n
 \n
 Session materials: https://datatracker.ietf.org/meeting/105/session/netrqmts\n
 \n
 See in schedule: https://datatracker.ietf.org/meeting/105/agenda#row-105-2019-07-24-wed-1330-gen-netrqmts\n
END:VEVENT
BEGIN:VEVENT
UID:ietf-105-11431-ietf
SUMMARY:IETF Technical Plenary
LOCATION:Place du Canada
STATUS:CONFIRMED
CLASS:PUBLIC
DTSTART;TZID=America/New_York:20190724T171000
DTEND;TZID=America/New_York:20190724T181000
DTSTAMP:20190621T135006Z
URL:https://datatracker.ietf.org/meeting/105/materials/agenda-105-ietf-sesse-02
DESCRIPTION:IETF Technical Plenary\n
 \n
 Meetecho: http://www.meetecho.com/ietf105/ietf/techplenary\n
 \n
 Agenda https://datatracker.ietf.org/meeting/105/materials/agenda-105-ietf-sesse-02\n
 \n
 Session materials: https://datatracker.ietf.org/meeting/105/session/ietf\n
 \n
 See in schedule: https://datatracker.ietf.org/meeting/105/agenda#row-105-2019-07-24-wed-1710-1plenary-ietf\n
END:VEVENT
BEGIN:VEVENT
UID:ietf-105-11405-ietf
SUMMARY:IETF Administrative/Operations Plenary
LOCATION:Place du Canada
STATUS:CONFIRMED
CLASS:PUBLIC
DTSTART;TZID=America/New_York:20190724T182000
DTEND;TZID=America/New_York:20190724T195000
DTSTAMP:20190620T143843Z
URL:https://datatracker.ietf.org/meeting/105/materials/agenda-105-ietf-sessa-03
DESCRIPTION:IETF Administrative/Operations Plenary\n
 \n
 Meetecho: http://www.meetecho.com/ietf105/ietf/adminplenary\n
 \n
 Agenda https://datatracker.ietf.org/meeting/105/materials/agenda-105-ietf-sessa-03\n
 \n
 Session materials: https://datatracker.ietf.org/meeting/105/session/ietf\n
 \n
 See in schedule: https://datatracker.ietf.org/meeting/105/agenda#row-105-2019-07-24-wed-1820-1plenary-ietf\n
END:VEVENT
BEGIN:VEVENT
UID:ietf-105-11435-edu
SUMMARY:Newcomers' Feedback Session
LOCATION:C2 (21st Floor)
STATUS:CONFIRMED
CLASS:PUBLIC
DTSTART;TZID=America/New_York:20190725T080000
DTEND;TZID=America/New_York:20190725T090000
DTSTAMP:20190621T135510Z
URL:https://datatracker.ietf.org/meeting/105/materials/agenda-105-edu-sesse-00
DESCRIPTION:Newcomers' Feedback Session\n
 \n
 Agenda https://datatracker.ietf.org/meeting/105/materials/agenda-105-edu-sesse-00\n
 \n
 Session materials: https://datatracker.ietf.org/meeting/105/session/edu\n
 \n
 See in schedule: https://datatracker.ietf.org/meeting/105/agenda#row-105-2019-07-25-thu-0800-edu-newcomers-feedback-session\n
END:VEVENT
END:VCALENDAR
