BEGIN:VCALENDAR
VERSION:2.0
METHOD:PUBLISH
PRODID:-//IETF//datatracker.ietf.org ical agenda//EN
BEGIN:VTIMEZONE
TZID:America/New_York
X-LIC-LOCATION:America/New_York
BEGIN:DAYLIGHT
TZOFFSETFROM:-0500
TZOFFSETTO:-0400
TZNAME:EDT
DTSTART:20070311T020000
RRULE:FREQ=YEARLY;BYMONTH=3;BYDAY=2SU
END:DAYLIGHT
BEGIN:STANDARD
TZOFFSETFROM:-0400
TZOFFSETTO:-0500
TZNAME:EST
DTSTART:20071104T020000
RRULE:FREQ=YEARLY;BYMONTH=11;BYDAY=1SU
END:STANDARD
BEGIN:STANDARD
TZOFFSETFROM:-045602
TZOFFSETTO:-0500
TZNAME:EST
DTSTART:18831118T120358
RDATE:18831118T120358
END:STANDARD
BEGIN:DAYLIGHT
TZOFFSETFROM:-0500
TZOFFSETTO:-0400
TZNAME:EDT
DTSTART:19180331T020000
RDATE:19180331T020000
RDATE:19190330T020000
RDATE:19200328T020000
RDATE:19210424T020000
RDATE:19220430T020000
RDATE:19230429T020000
RDATE:19240427T020000
RDATE:19250426T020000
RDATE:19260425T020000
RDATE:19270424T020000
RDATE:19280429T020000
RDATE:19290428T020000
RDATE:19300427T020000
RDATE:19310426T020000
RDATE:19320424T020000
RDATE:19330430T020000
RDATE:19340429T020000
RDATE:19350428T020000
RDATE:19360426T020000
RDATE:19370425T020000
RDATE:19380424T020000
RDATE:19390430T020000
RDATE:19400428T020000
RDATE:19410427T020000
RDATE:19460428T020000
RDATE:19470427T020000
RDATE:19480425T020000
RDATE:19490424T020000
RDATE:19500430T020000
RDATE:19510429T020000
RDATE:19520427T020000
RDATE:19530426T020000
RDATE:19540425T020000
RDATE:19550424T020000
RDATE:19560429T020000
RDATE:19570428T020000
RDATE:19580427T020000
RDATE:19590426T020000
RDATE:19600424T020000
RDATE:19610430T020000
RDATE:19620429T020000
RDATE:19630428T020000
RDATE:19640426T020000
RDATE:19650425T020000
RDATE:19660424T020000
RDATE:19670430T020000
RDATE:19680428T020000
RDATE:19690427T020000
RDATE:19700426T020000
RDATE:19710425T020000
RDATE:19720430T020000
RDATE:19730429T020000
RDATE:19740106T020000
RDATE:19750223T020000
RDATE:19760425T020000
RDATE:19770424T020000
RDATE:19780430T020000
RDATE:19790429T020000
RDATE:19800427T020000
RDATE:19810426T020000
RDATE:19820425T020000
RDATE:19830424T020000
RDATE:19840429T020000
RDATE:19850428T020000
RDATE:19860427T020000
RDATE:19870405T020000
RDATE:19880403T020000
RDATE:19890402T020000
RDATE:19900401T020000
RDATE:19910407T020000
RDATE:19920405T020000
RDATE:19930404T020000
RDATE:19940403T020000
RDATE:19950402T020000
RDATE:19960407T020000
RDATE:19970406T020000
RDATE:19980405T020000
RDATE:19990404T020000
RDATE:20000402T020000
RDATE:20010401T020000
RDATE:20020407T020000
RDATE:20030406T020000
RDATE:20040404T020000
RDATE:20050403T020000
RDATE:20060402T020000
END:DAYLIGHT
BEGIN:STANDARD
TZOFFSETFROM:-0400
TZOFFSETTO:-0500
TZNAME:EST
DTSTART:19181027T020000
RDATE:19181027T020000
RDATE:19191026T020000
RDATE:19201031T020000
RDATE:19210925T020000
RDATE:19220924T020000
RDATE:19230930T020000
RDATE:19240928T020000
RDATE:19250927T020000
RDATE:19260926T020000
RDATE:19270925T020000
RDATE:19280930T020000
RDATE:19290929T020000
RDATE:19300928T020000
RDATE:19310927T020000
RDATE:19320925T020000
RDATE:19330924T020000
RDATE:19340930T020000
RDATE:19350929T020000
RDATE:19360927T020000
RDATE:19370926T020000
RDATE:19380925T020000
RDATE:19390924T020000
RDATE:19400929T020000
RDATE:19410928T020000
RDATE:19450930T020000
RDATE:19460929T020000
RDATE:19470928T020000
RDATE:19480926T020000
RDATE:19490925T020000
RDATE:19500924T020000
RDATE:19510930T020000
RDATE:19520928T020000
RDATE:19530927T020000
RDATE:19540926T020000
RDATE:19551030T020000
RDATE:19561028T020000
RDATE:19571027T020000
RDATE:19581026T020000
RDATE:19591025T020000
RDATE:19601030T020000
RDATE:19611029T020000
RDATE:19621028T020000
RDATE:19631027T020000
RDATE:19641025T020000
RDATE:19651031T020000
RDATE:19661030T020000
RDATE:19671029T020000
RDATE:19681027T020000
RDATE:19691026T020000
RDATE:19701025T020000
RDATE:19711031T020000
RDATE:19721029T020000
RDATE:19731028T020000
RDATE:19741027T020000
RDATE:19751026T020000
RDATE:19761031T020000
RDATE:19771030T020000
RDATE:19781029T020000
RDATE:19791028T020000
RDATE:19801026T020000
RDATE:19811025T020000
RDATE:19821031T020000
RDATE:19831030T020000
RDATE:19841028T020000
RDATE:19851027T020000
RDATE:19861026T020000
RDATE:19871025T020000
RDATE:19881030T020000
RDATE:19891029T020000
RDATE:19901028T020000
RDATE:19911027T020000
RDATE:19921025T020000
RDATE:19931031T020000
RDATE:19941030T020000
RDATE:19951029T020000
RDATE:19961027T020000
RDATE:19971026T020000
RDATE:19981025T020000
RDATE:19991031T020000
RDATE:20001029T020000
RDATE:20011028T020000
RDATE:20021027T020000
RDATE:20031026T020000
RDATE:20041031T020000
RDATE:20051030T020000
RDATE:20061029T020000
END:STANDARD
BEGIN:STANDARD
TZOFFSETFROM:-0500
TZOFFSETTO:-0500
TZNAME:EST
DTSTART:19200101T000000
RDATE:19200101T000000
RDATE:19420101T000000
RDATE:19460101T000000
RDATE:19670101T000000
END:STANDARD
BEGIN:DAYLIGHT
TZOFFSETFROM:-0500
TZOFFSETTO:-0400
TZNAME:EWT
DTSTART:19420209T020000
RDATE:19420209T020000
END:DAYLIGHT
BEGIN:DAYLIGHT
TZOFFSETFROM:-0400
TZOFFSETTO:-0400
TZNAME:EPT
DTSTART:19450814T190000
RDATE:19450814T190000
END:DAYLIGHT
END:VTIMEZONE
BEGIN:VEVENT
UID:ietf-105-11005-rtgwg
SUMMARY:rtgwg - Routing Area Working Group
LOCATION:Place du Canada
STATUS:CONFIRMED
CLASS:PUBLIC
DTSTART;TZID=America/New_York:20190722T100000
DTEND;TZID=America/New_York:20190722T120000
DTSTAMP:20190616T210308Z
URL:https://datatracker.ietf.org/meeting/105/materials/agenda-105-rtgwg-04
DESCRIPTION:Morning Session I\n
 \n
 Meetecho: http://www.meetecho.com/ietf105/rtgwg/\n
 \n
 Agenda https://datatracker.ietf.org/meeting/105/materials/agenda-105-rtgwg-04\n
 \n
 Session materials: https://datatracker.ietf.org/meeting/105/session/rtgwg\n
 \n
 See in schedule: https://datatracker.ietf.org/meeting/105/agenda#row-105-2019-07-22-mon-1000-rtg-rtgwg\n
END:VEVENT
BEGIN:VEVENT
UID:ietf-105-11035-lisp
SUMMARY:lisp - Locator/ID Separation Protocol
LOCATION:Notre Dame
STATUS:CONFIRMED
CLASS:PUBLIC
DTSTART;TZID=America/New_York:20190722T133000
DTEND;TZID=America/New_York:20190722T153000
DTSTAMP:20190616T210328Z
URL:https://datatracker.ietf.org/meeting/105/materials/agenda-105-lisp-02
DESCRIPTION:Afternoon Session I\n
 \n
 Meetecho: http://www.meetecho.com/ietf105/lisp/\n
 \n
 Agenda https://datatracker.ietf.org/meeting/105/materials/agenda-105-lisp-02\n
 \n
 Session materials: https://datatracker.ietf.org/meeting/105/session/lisp\n
 \n
 See in schedule: https://datatracker.ietf.org/meeting/105/agenda#row-105-2019-07-22-mon-1330-rtg-lisp\n
END:VEVENT
BEGIN:VEVENT
UID:ietf-105-11032-lsr
SUMMARY:lsr - Link State Routing
LOCATION:Duluth
STATUS:CONFIRMED
CLASS:PUBLIC
DTSTART;TZID=America/New_York:20190722T133000
DTEND;TZID=America/New_York:20190722T153000
DTSTAMP:20190616T210328Z
URL:https://datatracker.ietf.org/meeting/105/materials/agenda-105-lsr-03
DESCRIPTION:Afternoon Session I\n
 \n
 Meetecho: http://www.meetecho.com/ietf105/lsr/\n
 \n
 Agenda https://datatracker.ietf.org/meeting/105/materials/agenda-105-lsr-03\n
 \n
 Session materials: https://datatracker.ietf.org/meeting/105/session/lsr\n
 \n
 See in schedule: https://datatracker.ietf.org/meeting/105/agenda#row-105-2019-07-22-mon-1330-rtg-lsr\n
END:VEVENT
BEGIN:VEVENT
UID:ietf-105-11053-mpls
SUMMARY:mpls - Multiprotocol Label Switching
LOCATION:Viger
STATUS:CONFIRMED
CLASS:PUBLIC
DTSTART;TZID=America/New_York:20190722T155000
DTEND;TZID=America/New_York:20190722T175000
DTSTAMP:20190618T141823Z
URL:https://datatracker.ietf.org/meeting/105/materials/agenda-105-mpls-05
DESCRIPTION:Afternoon Session II\n
 \n
 Meetecho: http://www.meetecho.com/ietf105/mpls/\n
 \n
 Agenda https://datatracker.ietf.org/meeting/105/materials/agenda-105-mpls-05\n
 \n
 Session materials: https://datatracker.ietf.org/meeting/105/session/mpls\n
 \n
 See in schedule: https://datatracker.ietf.org/meeting/105/agenda#row-105-2019-07-22-mon-1550-rtg-mpls\n
END:VEVENT
BEGIN:VEVENT
UID:ietf-105-11078-lsr
SUMMARY:lsr - Link State Routing
LOCATION:Duluth
STATUS:CONFIRMED
CLASS:PUBLIC
DTSTART;TZID=America/New_York:20190722T181000
DTEND;TZID=America/New_York:20190722T191000
DTSTAMP:20190618T141837Z
URL:https://datatracker.ietf.org/meeting/105/materials/agenda-105-lsr-03
DESCRIPTION:Afternoon Session III\n
 \n
 Meetecho: http://www.meetecho.com/ietf105/lsr/\n
 \n
 Agenda https://datatracker.ietf.org/meeting/105/materials/agenda-105-lsr-03\n
 \n
 Session materials: https://datatracker.ietf.org/meeting/105/session/lsr\n
 \n
 See in schedule: https://datatracker.ietf.org/meeting/105/agenda#row-105-2019-07-22-mon-1810-rtg-lsr\n
END:VEVENT
BEGIN:VEVENT
UID:ietf-105-11076-mpls
SUMMARY:mpls - Multiprotocol Label Switching
LOCATION:Viger
STATUS:CANCELLED
CLASS:PUBLIC
DTSTART;TZID=America/New_York:20190722T181000
DTEND;TZID=America/New_York:20190722T191000
DTSTAMP:20190618T141837Z
URL:https://datatracker.ietf.org/meeting/105/materials/agenda-105-mpls-05
DESCRIPTION:Afternoon Session III\n
 \n
 Meetecho: http://www.meetecho.com/ietf105/mpls/\n
 \n
 Agenda https://datatracker.ietf.org/meeting/105/materials/agenda-105-mpls-05\n
 \n
 Session materials: https://datatracker.ietf.org/meeting/105/session/mpls\n
 \n
 See in schedule: https://datatracker.ietf.org/meeting/105/agenda#row-105-2019-07-22-mon-1810-rtg-mpls\n
END:VEVENT
BEGIN:VEVENT
UID:ietf-105-11098-rtgwg
SUMMARY:rtgwg - Routing Area Working Group
LOCATION:Laurier
STATUS:CONFIRMED
CLASS:PUBLIC
DTSTART;TZID=America/New_York:20190723T100000
DTEND;TZID=America/New_York:20190723T120000
DTSTAMP:20190616T211053Z
URL:https://datatracker.ietf.org/meeting/105/materials/agenda-105-rtgwg-04
DESCRIPTION:Morning Session I\n
 \n
 Meetecho: http://www.meetecho.com/ietf105/rtgwg/\n
 \n
 Agenda https://datatracker.ietf.org/meeting/105/materials/agenda-105-rtgwg-04\n
 \n
 Session materials: https://datatracker.ietf.org/meeting/105/session/rtgwg\n
 \n
 See in schedule: https://datatracker.ietf.org/meeting/105/agenda#row-105-2019-07-23-tue-1000-rtg-rtgwg\n
END:VEVENT
BEGIN:VEVENT
UID:ietf-105-11121-teas
SUMMARY:teas - Traffic Engineering Architecture and Signaling
LOCATION:Laurier
STATUS:CONFIRMED
CLASS:PUBLIC
DTSTART;TZID=America/New_York:20190723T133000
DTEND;TZID=America/New_York:20190723T150000
DTSTAMP:20190618T142833Z
URL:https://datatracker.ietf.org/meeting/105/materials/agenda-105-teas-01
DESCRIPTION:Afternoon Session I\n
 \n
 Meetecho: http://www.meetecho.com/ietf105/teas/\n
 \n
 Agenda https://datatracker.ietf.org/meeting/105/materials/agenda-105-teas-01\n
 \n
 Session materials: https://datatracker.ietf.org/meeting/105/session/teas\n
 \n
 See in schedule: https://datatracker.ietf.org/meeting/105/agenda#row-105-2019-07-23-tue-1330-rtg-teas\n
END:VEVENT
BEGIN:VEVENT
UID:ietf-105-11398-bess
SUMMARY:bess - BGP Enabled ServiceS
LOCATION:Viger
STATUS:CONFIRMED
CLASS:PUBLIC
DTSTART;TZID=America/New_York:20190723T152000
DTEND;TZID=America/New_York:20190723T165000
DTSTAMP:20190618T142929Z
URL:https://datatracker.ietf.org/meeting/105/materials/agenda-105-bess-sessb-01
DESCRIPTION:Afternoon Session II\n
 \n
 Meetecho: http://www.meetecho.com/ietf105/bess/\n
 \n
 Agenda https://datatracker.ietf.org/meeting/105/materials/agenda-105-bess-sessb-01\n
 \n
 Session materials: https://datatracker.ietf.org/meeting/105/session/bess\n
 \n
 See in schedule: https://datatracker.ietf.org/meeting/105/agenda#row-105-2019-07-23-tue-1520-rtg-bess\n
END:VEVENT
BEGIN:VEVENT
UID:ietf-105-11397-teas
SUMMARY:teas - Traffic Engineering Architecture and Signaling
LOCATION:Laurier
STATUS:CONFIRMED
CLASS:PUBLIC
DTSTART;TZID=America/New_York:20190723T152000
DTEND;TZID=America/New_York:20190723T165000
DTSTAMP:20190618T142929Z
URL:https://datatracker.ietf.org/meeting/105/materials/agenda-105-teas-01
DESCRIPTION:Afternoon Session II\n
 \n
 Meetecho: http://www.meetecho.com/ietf105/teas/\n
 \n
 Agenda https://datatracker.ietf.org/meeting/105/materials/agenda-105-teas-01\n
 \n
 Session materials: https://datatracker.ietf.org/meeting/105/session/teas\n
 \n
 See in schedule: https://datatracker.ietf.org/meeting/105/agenda#row-105-2019-07-23-tue-1520-rtg-teas\n
END:VEVENT
BEGIN:VEVENT
UID:ietf-105-11172-bfd
SUMMARY:bfd - Bidirectional Forwarding Detection
LOCATION:Sainte-Catherine
STATUS:CONFIRMED
CLASS:PUBLIC
DTSTART;TZID=America/New_York:20190723T171000
DTEND;TZID=America/New_York:20190723T181000
DTSTAMP:20190618T142952Z
URL:https://datatracker.ietf.org/meeting/105/materials/agenda-105-bfd-00
DESCRIPTION:Afternoon Session III\n
 \n
 Meetecho: http://www.meetecho.com/ietf105/bfd/\n
 \n
 Agenda https://datatracker.ietf.org/meeting/105/materials/agenda-105-bfd-00\n
 \n
 Session materials: https://datatracker.ietf.org/meeting/105/session/bfd\n
 \n
 See in schedule: https://datatracker.ietf.org/meeting/105/agenda#row-105-2019-07-23-tue-1710-rtg-bfd\n
END:VEVENT
BEGIN:VEVENT
UID:ietf-105-11173-manet
SUMMARY:manet - Mobile Ad-hoc Networks
LOCATION:Notre Dame
STATUS:CONFIRMED
CLASS:PUBLIC
DTSTART;TZID=America/New_York:20190723T171000
DTEND;TZID=America/New_York:20190723T181000
DTSTAMP:20190618T142952Z
DESCRIPTION:Afternoon Session III\n
 \n
 Meetecho: http://www.meetecho.com/ietf105/manet/\n
 \n
 Session materials: https://datatracker.ietf.org/meeting/105/session/manet\n
 \n
 See in schedule: https://datatracker.ietf.org/meeting/105/agenda#row-105-2019-07-23-tue-1710-rtg-manet\n
END:VEVENT
BEGIN:VEVENT
UID:ietf-105-11195-roll
SUMMARY:roll - Routing Over Low power and Lossy networks
LOCATION:Sainte-Catherine
STATUS:CONFIRMED
CLASS:PUBLIC
DTSTART;TZID=America/New_York:20190724T100000
DTEND;TZID=America/New_York:20190724T120000
DTSTAMP:20190616T211157Z
URL:https://datatracker.ietf.org/meeting/105/materials/agenda-105-roll-01
DESCRIPTION:Morning Session I\n
 \n
 Meetecho: http://www.meetecho.com/ietf105/roll/\n
 \n
 Agenda https://datatracker.ietf.org/meeting/105/materials/agenda-105-roll-01\n
 \n
 Session materials: https://datatracker.ietf.org/meeting/105/session/roll\n
 \n
 See in schedule: https://datatracker.ietf.org/meeting/105/agenda#row-105-2019-07-24-wed-1000-rtg-roll\n
END:VEVENT
BEGIN:VEVENT
UID:ietf-105-11190-spring
SUMMARY:spring - Source Packet Routing in Networking
LOCATION:Laurier
STATUS:CONFIRMED
CLASS:PUBLIC
DTSTART;TZID=America/New_York:20190724T100000
DTEND;TZID=America/New_York:20190724T120000
DTSTAMP:20190616T211157Z
URL:https://datatracker.ietf.org/meeting/105/materials/agenda-105-spring-01
DESCRIPTION:Morning Session I\n
 \n
 Meetecho: http://www.meetecho.com/ietf105/spring/\n
 \n
 Agenda https://datatracker.ietf.org/meeting/105/materials/agenda-105-spring-01\n
 \n
 Session materials: https://datatracker.ietf.org/meeting/105/session/spring\n
 \n
 See in schedule: https://datatracker.ietf.org/meeting/105/agenda#row-105-2019-07-24-wed-1000-rtg-spring\n
END:VEVENT
BEGIN:VEVENT
UID:ietf-105-11218-bier
SUMMARY:bier - Bit Indexed Explicit Replication
LOCATION:Sainte-Catherine
STATUS:CONFIRMED
CLASS:PUBLIC
DTSTART;TZID=America/New_York:20190724T133000
DTEND;TZID=America/New_York:20190724T153000
DTSTAMP:20190616T211212Z
URL:https://datatracker.ietf.org/meeting/105/materials/agenda-105-bier-02
DESCRIPTION:Afternoon Session I\n
 \n
 Meetecho: http://www.meetecho.com/ietf105/bier/\n
 \n
 Agenda https://datatracker.ietf.org/meeting/105/materials/agenda-105-bier-02\n
 \n
 Session materials: https://datatracker.ietf.org/meeting/105/session/bier\n
 \n
 See in schedule: https://datatracker.ietf.org/meeting/105/agenda#row-105-2019-07-24-wed-1330-rtg-bier\n
END:VEVENT
BEGIN:VEVENT
UID:ietf-105-11215-detnet
SUMMARY:detnet - Deterministic Networking
LOCATION:Centre Ville
STATUS:CONFIRMED
CLASS:PUBLIC
DTSTART;TZID=America/New_York:20190724T133000
DTEND;TZID=America/New_York:20190724T153000
DTSTAMP:20190616T211212Z
URL:https://datatracker.ietf.org/meeting/105/materials/agenda-105-detnet-03
DESCRIPTION:Afternoon Session I\n
 \n
 Meetecho: http://www.meetecho.com/ietf105/detnet/\n
 \n
 Agenda https://datatracker.ietf.org/meeting/105/materials/agenda-105-detnet-03\n
 \n
 Session materials: https://datatracker.ietf.org/meeting/105/session/detnet\n
 \n
 See in schedule: https://datatracker.ietf.org/meeting/105/agenda#row-105-2019-07-24-wed-1330-rtg-detnet\n
END:VEVENT
BEGIN:VEVENT
UID:ietf-105-11216-idr
SUMMARY:idr - Inter-Domain Routing
LOCATION:Duluth
STATUS:CONFIRMED
CLASS:PUBLIC
DTSTART;TZID=America/New_York:20190724T133000
DTEND;TZID=America/New_York:20190724T153000
DTSTAMP:20190616T211212Z
URL:https://datatracker.ietf.org/meeting/105/materials/agenda-105-idr-05
DESCRIPTION:Afternoon Session I\n
 \n
 Meetecho: http://www.meetecho.com/ietf105/idr/\n
 \n
 Agenda https://datatracker.ietf.org/meeting/105/materials/agenda-105-idr-05\n
 \n
 Session materials: https://datatracker.ietf.org/meeting/105/session/idr\n
 \n
 See in schedule: https://datatracker.ietf.org/meeting/105/agenda#row-105-2019-07-24-wed-1330-rtg-idr\n
END:VEVENT
BEGIN:VEVENT
UID:ietf-105-11241-babel
SUMMARY:babel - Babel routing protocol
LOCATION:Sainte-Catherine
STATUS:CONFIRMED
CLASS:PUBLIC
DTSTART;TZID=America/New_York:20190724T155000
DTEND;TZID=America/New_York:20190724T165000
DTSTAMP:20190616T211224Z
URL:https://datatracker.ietf.org/meeting/105/materials/agenda-105-babel-04
DESCRIPTION:Afternoon Session II\n
 \n
 Meetecho: http://www.meetecho.com/ietf105/babel/\n
 \n
 Agenda https://datatracker.ietf.org/meeting/105/materials/agenda-105-babel-04\n
 \n
 Session materials: https://datatracker.ietf.org/meeting/105/session/babel\n
 \n
 See in schedule: https://datatracker.ietf.org/meeting/105/agenda#row-105-2019-07-24-wed-1550-rtg-babel\n
END:VEVENT
BEGIN:VEVENT
UID:ietf-105-11238-detnet
SUMMARY:detnet - Deterministic Networking
LOCATION:Centre Ville
STATUS:CONFIRMED
CLASS:PUBLIC
DTSTART;TZID=America/New_York:20190724T155000
DTEND;TZID=America/New_York:20190724T165000
DTSTAMP:20190616T211224Z
URL:https://datatracker.ietf.org/meeting/105/materials/agenda-105-detnet-03
DESCRIPTION:Afternoon Session II\n
 \n
 Meetecho: http://www.meetecho.com/ietf105/detnet/\n
 \n
 Agenda https://datatracker.ietf.org/meeting/105/materials/agenda-105-detnet-03\n
 \n
 Session materials: https://datatracker.ietf.org/meeting/105/session/detnet\n
 \n
 See in schedule: https://datatracker.ietf.org/meeting/105/agenda#row-105-2019-07-24-wed-1550-rtg-detnet\n
END:VEVENT
BEGIN:VEVENT
UID:ietf-105-11260-lsvr
SUMMARY:lsvr - Link State Vector Routing
LOCATION:Viger
STATUS:CONFIRMED
CLASS:PUBLIC
DTSTART;TZID=America/New_York:20190725T100000
DTEND;TZID=America/New_York:20190725T120000
DTSTAMP:20190616T211244Z
URL:https://datatracker.ietf.org/meeting/105/materials/agenda-105-lsvr-01
DESCRIPTION:Morning Session I\n
 \n
 Meetecho: http://www.meetecho.com/ietf105/lsvr/\n
 \n
 Agenda https://datatracker.ietf.org/meeting/105/materials/agenda-105-lsvr-01\n
 \n
 Session materials: https://datatracker.ietf.org/meeting/105/session/lsvr\n
 \n
 See in schedule: https://datatracker.ietf.org/meeting/105/agenda#row-105-2019-07-25-thu-1000-rtg-lsvr\n
END:VEVENT
BEGIN:VEVENT
UID:ietf-105-11261-pce
SUMMARY:pce - Path Computation Element
LOCATION:Centre Ville
STATUS:CONFIRMED
CLASS:PUBLIC
DTSTART;TZID=America/New_York:20190725T100000
DTEND;TZID=America/New_York:20190725T120000
DTSTAMP:20190616T211244Z
URL:https://datatracker.ietf.org/meeting/105/materials/agenda-105-pce-02
DESCRIPTION:Morning Session I\n
 \n
 Meetecho: http://www.meetecho.com/ietf105/pce/\n
 \n
 Agenda https://datatracker.ietf.org/meeting/105/materials/agenda-105-pce-02\n
 \n
 Session materials: https://datatracker.ietf.org/meeting/105/session/pce\n
 \n
 See in schedule: https://datatracker.ietf.org/meeting/105/agenda#row-105-2019-07-25-thu-1000-rtg-pce\n
END:VEVENT
BEGIN:VEVENT
UID:ietf-105-11286-ccamp
SUMMARY:ccamp - Common Control and Measurement Plane
LOCATION:Van Horne
STATUS:CONFIRMED
CLASS:PUBLIC
DTSTART;TZID=America/New_York:20190725T133000
DTEND;TZID=America/New_York:20190725T153000
DTSTAMP:20190618T150605Z
URL:https://datatracker.ietf.org/meeting/105/materials/agenda-105-ccamp-08
DESCRIPTION:Afternoon Session I\n
 \n
 Meetecho: http://www.meetecho.com/ietf105/ccamp/\n
 \n
 Agenda https://datatracker.ietf.org/meeting/105/materials/agenda-105-ccamp-08\n
 \n
 Session materials: https://datatracker.ietf.org/meeting/105/session/ccamp\n
 \n
 See in schedule: https://datatracker.ietf.org/meeting/105/agenda#row-105-2019-07-25-thu-1330-rtg-ccamp\n
END:VEVENT
BEGIN:VEVENT
UID:ietf-105-11288-pim
SUMMARY:pim - Protocols for IP Multicast
LOCATION:Notre Dame
STATUS:CONFIRMED
CLASS:PUBLIC
DTSTART;TZID=America/New_York:20190725T133000
DTEND;TZID=America/New_York:20190725T153000
DTSTAMP:20190618T150605Z
URL:https://datatracker.ietf.org/meeting/105/materials/agenda-105-pim-04
DESCRIPTION:Afternoon Session I\n
 \n
 Meetecho: http://www.meetecho.com/ietf105/pim/\n
 \n
 Agenda https://datatracker.ietf.org/meeting/105/materials/agenda-105-pim-04\n
 \n
 Session materials: https://datatracker.ietf.org/meeting/105/session/pim\n
 \n
 See in schedule: https://datatracker.ietf.org/meeting/105/agenda#row-105-2019-07-25-thu-1330-rtg-pim\n
END:VEVENT
BEGIN:VEVENT
UID:ietf-105-11309-rift
SUMMARY:rift - Routing In Fat Trees
LOCATION:Van Horne
STATUS:CONFIRMED
CLASS:PUBLIC
DTSTART;TZID=America/New_York:20190725T155000
DTEND;TZID=America/New_York:20190725T172000
DTSTAMP:20190618T150622Z
URL:https://datatracker.ietf.org/meeting/105/materials/agenda-105-rift-01
DESCRIPTION:Afternoon Session II\n
 \n
 Meetecho: http://www.meetecho.com/ietf105/rift/\n
 \n
 Agenda https://datatracker.ietf.org/meeting/105/materials/agenda-105-rift-01\n
 \n
 Session materials: https://datatracker.ietf.org/meeting/105/session/rift\n
 \n
 See in schedule: https://datatracker.ietf.org/meeting/105/agenda#row-105-2019-07-25-thu-1550-rtg-rift\n
END:VEVENT
BEGIN:VEVENT
UID:ietf-105-11328-bess
SUMMARY:bess - BGP Enabled ServiceS
LOCATION:Laurier
STATUS:CONFIRMED
CLASS:PUBLIC
DTSTART;TZID=America/New_York:20190725T174000
DTEND;TZID=America/New_York:20190725T191000
DTSTAMP:20190618T150643Z
URL:https://datatracker.ietf.org/meeting/105/materials/agenda-105-bess-sessa-01
DESCRIPTION:Afternoon Session III\n
 \n
 Meetecho: http://www.meetecho.com/ietf105/bess/\n
 \n
 Agenda https://datatracker.ietf.org/meeting/105/materials/agenda-105-bess-sessa-01\n
 \n
 Session materials: https://datatracker.ietf.org/meeting/105/session/bess\n
 \n
 See in schedule: https://datatracker.ietf.org/meeting/105/agenda#row-105-2019-07-25-thu-1740-rtg-bess\n
END:VEVENT
BEGIN:VEVENT
UID:ietf-105-11352-idr
SUMMARY:idr - Inter-Domain Routing
LOCATION:Viger
STATUS:CONFIRMED
CLASS:PUBLIC
DTSTART;TZID=America/New_York:20190726T100000
DTEND;TZID=America/New_York:20190726T120000
DTSTAMP:20190616T211343Z
URL:https://datatracker.ietf.org/meeting/105/materials/agenda-105-idr-05
DESCRIPTION:Morning Session I\n
 \n
 Meetecho: http://www.meetecho.com/ietf105/idr/\n
 \n
 Agenda https://datatracker.ietf.org/meeting/105/materials/agenda-105-idr-05\n
 \n
 Session materials: https://datatracker.ietf.org/meeting/105/session/idr\n
 \n
 See in schedule: https://datatracker.ietf.org/meeting/105/agenda#row-105-2019-07-26-fri-1000-rtg-idr\n
END:VEVENT
BEGIN:VEVENT
UID:ietf-105-11375-idr
SUMMARY:idr - Inter-Domain Routing
LOCATION:Viger
STATUS:CONFIRMED
CLASS:PUBLIC
DTSTART;TZID=America/New_York:20190726T122000
DTEND;TZID=America/New_York:20190726T135000
DTSTAMP:20190616T211403Z
URL:https://datatracker.ietf.org/meeting/105/materials/agenda-105-idr-05
DESCRIPTION:Afternoon Session I\n
 \n
 Meetecho: http://www.meetecho.com/ietf105/idr/\n
 \n
 Agenda https://datatracker.ietf.org/meeting/105/materials/agenda-105-idr-05\n
 \n
 Session materials: https://datatracker.ietf.org/meeting/105/session/idr\n
 \n
 See in schedule: https://datatracker.ietf.org/meeting/105/agenda#row-105-2019-07-26-fri-1220-rtg-idr\n
END:VEVENT
BEGIN:VEVENT
UID:ietf-105-11377-nvo3
SUMMARY:nvo3 - Network Virtualization Overlays
LOCATION:Duluth
STATUS:CONFIRMED
CLASS:PUBLIC
DTSTART;TZID=America/New_York:20190726T122000
DTEND;TZID=America/New_York:20190726T135000
DTSTAMP:20190616T211403Z
URL:https://datatracker.ietf.org/meeting/105/materials/agenda-105-nvo3-00
DESCRIPTION:Afternoon Session I\n
 \n
 Meetecho: http://www.meetecho.com/ietf105/nvo3/\n
 \n
 Agenda https://datatracker.ietf.org/meeting/105/materials/agenda-105-nvo3-00\n
 \n
 Session materials: https://datatracker.ietf.org/meeting/105/session/nvo3\n
 \n
 See in schedule: https://datatracker.ietf.org/meeting/105/agenda#row-105-2019-07-26-fri-1220-rtg-nvo3\n
END:VEVENT
END:VCALENDAR
