BEGIN:VCALENDAR
VERSION:2.0
METHOD:PUBLISH
PRODID:-//IETF//datatracker.ietf.org ical agenda//EN
BEGIN:VTIMEZONE
TZID:America/New_York
X-LIC-LOCATION:America/New_York
BEGIN:DAYLIGHT
TZOFFSETFROM:-0500
TZOFFSETTO:-0400
TZNAME:EDT
DTSTART:20070311T020000
RRULE:FREQ=YEARLY;BYMONTH=3;BYDAY=2SU
END:DAYLIGHT
BEGIN:STANDARD
TZOFFSETFROM:-0400
TZOFFSETTO:-0500
TZNAME:EST
DTSTART:20071104T020000
RRULE:FREQ=YEARLY;BYMONTH=11;BYDAY=1SU
END:STANDARD
BEGIN:STANDARD
TZOFFSETFROM:-045602
TZOFFSETTO:-0500
TZNAME:EST
DTSTART:18831118T120358
RDATE:18831118T120358
END:STANDARD
BEGIN:DAYLIGHT
TZOFFSETFROM:-0500
TZOFFSETTO:-0400
TZNAME:EDT
DTSTART:19180331T020000
RDATE:19180331T020000
RDATE:19190330T020000
RDATE:19200328T020000
RDATE:19210424T020000
RDATE:19220430T020000
RDATE:19230429T020000
RDATE:19240427T020000
RDATE:19250426T020000
RDATE:19260425T020000
RDATE:19270424T020000
RDATE:19280429T020000
RDATE:19290428T020000
RDATE:19300427T020000
RDATE:19310426T020000
RDATE:19320424T020000
RDATE:19330430T020000
RDATE:19340429T020000
RDATE:19350428T020000
RDATE:19360426T020000
RDATE:19370425T020000
RDATE:19380424T020000
RDATE:19390430T020000
RDATE:19400428T020000
RDATE:19410427T020000
RDATE:19460428T020000
RDATE:19470427T020000
RDATE:19480425T020000
RDATE:19490424T020000
RDATE:19500430T020000
RDATE:19510429T020000
RDATE:19520427T020000
RDATE:19530426T020000
RDATE:19540425T020000
RDATE:19550424T020000
RDATE:19560429T020000
RDATE:19570428T020000
RDATE:19580427T020000
RDATE:19590426T020000
RDATE:19600424T020000
RDATE:19610430T020000
RDATE:19620429T020000
RDATE:19630428T020000
RDATE:19640426T020000
RDATE:19650425T020000
RDATE:19660424T020000
RDATE:19670430T020000
RDATE:19680428T020000
RDATE:19690427T020000
RDATE:19700426T020000
RDATE:19710425T020000
RDATE:19720430T020000
RDATE:19730429T020000
RDATE:19740106T020000
RDATE:19750223T020000
RDATE:19760425T020000
RDATE:19770424T020000
RDATE:19780430T020000
RDATE:19790429T020000
RDATE:19800427T020000
RDATE:19810426T020000
RDATE:19820425T020000
RDATE:19830424T020000
RDATE:19840429T020000
RDATE:19850428T020000
RDATE:19860427T020000
RDATE:19870405T020000
RDATE:19880403T020000
RDATE:19890402T020000
RDATE:19900401T020000
RDATE:19910407T020000
RDATE:19920405T020000
RDATE:19930404T020000
RDATE:19940403T020000
RDATE:19950402T020000
RDATE:19960407T020000
RDATE:19970406T020000
RDATE:19980405T020000
RDATE:19990404T020000
RDATE:20000402T020000
RDATE:20010401T020000
RDATE:20020407T020000
RDATE:20030406T020000
RDATE:20040404T020000
RDATE:20050403T020000
RDATE:20060402T020000
END:DAYLIGHT
BEGIN:STANDARD
TZOFFSETFROM:-0400
TZOFFSETTO:-0500
TZNAME:EST
DTSTART:19181027T020000
RDATE:19181027T020000
RDATE:19191026T020000
RDATE:19201031T020000
RDATE:19210925T020000
RDATE:19220924T020000
RDATE:19230930T020000
RDATE:19240928T020000
RDATE:19250927T020000
RDATE:19260926T020000
RDATE:19270925T020000
RDATE:19280930T020000
RDATE:19290929T020000
RDATE:19300928T020000
RDATE:19310927T020000
RDATE:19320925T020000
RDATE:19330924T020000
RDATE:19340930T020000
RDATE:19350929T020000
RDATE:19360927T020000
RDATE:19370926T020000
RDATE:19380925T020000
RDATE:19390924T020000
RDATE:19400929T020000
RDATE:19410928T020000
RDATE:19450930T020000
RDATE:19460929T020000
RDATE:19470928T020000
RDATE:19480926T020000
RDATE:19490925T020000
RDATE:19500924T020000
RDATE:19510930T020000
RDATE:19520928T020000
RDATE:19530927T020000
RDATE:19540926T020000
RDATE:19551030T020000
RDATE:19561028T020000
RDATE:19571027T020000
RDATE:19581026T020000
RDATE:19591025T020000
RDATE:19601030T020000
RDATE:19611029T020000
RDATE:19621028T020000
RDATE:19631027T020000
RDATE:19641025T020000
RDATE:19651031T020000
RDATE:19661030T020000
RDATE:19671029T020000
RDATE:19681027T020000
RDATE:19691026T020000
RDATE:19701025T020000
RDATE:19711031T020000
RDATE:19721029T020000
RDATE:19731028T020000
RDATE:19741027T020000
RDATE:19751026T020000
RDATE:19761031T020000
RDATE:19771030T020000
RDATE:19781029T020000
RDATE:19791028T020000
RDATE:19801026T020000
RDATE:19811025T020000
RDATE:19821031T020000
RDATE:19831030T020000
RDATE:19841028T020000
RDATE:19851027T020000
RDATE:19861026T020000
RDATE:19871025T020000
RDATE:19881030T020000
RDATE:19891029T020000
RDATE:19901028T020000
RDATE:19911027T020000
RDATE:19921025T020000
RDATE:19931031T020000
RDATE:19941030T020000
RDATE:19951029T020000
RDATE:19961027T020000
RDATE:19971026T020000
RDATE:19981025T020000
RDATE:19991031T020000
RDATE:20001029T020000
RDATE:20011028T020000
RDATE:20021027T020000
RDATE:20031026T020000
RDATE:20041031T020000
RDATE:20051030T020000
RDATE:20061029T020000
END:STANDARD
BEGIN:STANDARD
TZOFFSETFROM:-0500
TZOFFSETTO:-0500
TZNAME:EST
DTSTART:19200101T000000
RDATE:19200101T000000
RDATE:19420101T000000
RDATE:19460101T000000
RDATE:19670101T000000
END:STANDARD
BEGIN:DAYLIGHT
TZOFFSETFROM:-0500
TZOFFSETTO:-0400
TZNAME:EWT
DTSTART:19420209T020000
RDATE:19420209T020000
END:DAYLIGHT
BEGIN:DAYLIGHT
TZOFFSETFROM:-0400
TZOFFSETTO:-0400
TZNAME:EPT
DTSTART:19450814T190000
RDATE:19450814T190000
END:DAYLIGHT
END:VTIMEZONE
BEGIN:VEVENT
UID:ietf-105-11010-acme
SUMMARY:acme - Automated Certificate Management Environment
LOCATION:Van Horne
STATUS:CONFIRMED
CLASS:PUBLIC
DTSTART;TZID=America/New_York:20190722T100000
DTEND;TZID=America/New_York:20190722T120000
DTSTAMP:20190616T210308Z
URL:https://datatracker.ietf.org/meeting/105/materials/agenda-105-acme-04
DESCRIPTION:Morning Session I\n
 \n
 Meetecho: http://www.meetecho.com/ietf105/acme/\n
 \n
 Agenda https://datatracker.ietf.org/meeting/105/materials/agenda-105-acme-04\n
 \n
 Session materials: https://datatracker.ietf.org/meeting/105/session/acme\n
 \n
 See in schedule: https://datatracker.ietf.org/meeting/105/agenda#row-105-2019-07-22-mon-1000-sec-acme\n
END:VEVENT
BEGIN:VEVENT
UID:ietf-105-11011-teep
SUMMARY:teep - Trusted Execution Environment Provisioning
LOCATION:Sainte-Catherine
STATUS:CONFIRMED
CLASS:PUBLIC
DTSTART;TZID=America/New_York:20190722T100000
DTEND;TZID=America/New_York:20190722T120000
DTSTAMP:20190616T210308Z
URL:https://datatracker.ietf.org/meeting/105/materials/agenda-105-teep-04
DESCRIPTION:Morning Session I\n
 \n
 Meetecho: http://www.meetecho.com/ietf105/teep/\n
 \n
 Agenda https://datatracker.ietf.org/meeting/105/materials/agenda-105-teep-04\n
 \n
 Session materials: https://datatracker.ietf.org/meeting/105/session/teep\n
 \n
 See in schedule: https://datatracker.ietf.org/meeting/105/agenda#row-105-2019-07-22-mon-1000-sec-teep\n
END:VEVENT
BEGIN:VEVENT
UID:ietf-105-11028-secdispatch
SUMMARY:secdispatch - Security Dispatch
LOCATION:Place du Canada
STATUS:CONFIRMED
CLASS:PUBLIC
DTSTART;TZID=America/New_York:20190722T133000
DTEND;TZID=America/New_York:20190722T153000
DTSTAMP:20190616T210328Z
URL:https://datatracker.ietf.org/meeting/105/materials/agenda-105-secdispatch-04
DESCRIPTION:Afternoon Session I\n
 \n
 Meetecho: http://www.meetecho.com/ietf105/secdispatch/\n
 \n
 Agenda https://datatracker.ietf.org/meeting/105/materials/agenda-105-secdispatch-04\n
 \n
 Session materials: https://datatracker.ietf.org/meeting/105/session/secdispatch\n
 \n
 See in schedule: https://datatracker.ietf.org/meeting/105/agenda#row-105-2019-07-22-mon-1330-sec-secdispatch\n
END:VEVENT
BEGIN:VEVENT
UID:ietf-105-11056-lake
SUMMARY:lake - Lightweight Authenticated Key Exchange
LOCATION:Van Horne
STATUS:CONFIRMED
CLASS:PUBLIC
DTSTART;TZID=America/New_York:20190722T155000
DTEND;TZID=America/New_York:20190722T175000
DTSTAMP:20190618T141823Z
URL:https://datatracker.ietf.org/meeting/105/materials/agenda-105-lake-01
DESCRIPTION:Afternoon Session II\n
 \n
 Meetecho: http://www.meetecho.com/ietf105/lake/\n
 \n
 Agenda https://datatracker.ietf.org/meeting/105/materials/agenda-105-lake-01\n
 \n
 Session materials: https://datatracker.ietf.org/meeting/105/session/lake\n
 \n
 See in schedule: https://datatracker.ietf.org/meeting/105/agenda#row-105-2019-07-22-mon-1550-sec-lake\n
END:VEVENT
BEGIN:VEVENT
UID:ietf-105-11081-mile
SUMMARY:mile - Managed Incident Lightweight Exchange
LOCATION:Notre Dame
STATUS:CONFIRMED
CLASS:PUBLIC
DTSTART;TZID=America/New_York:20190722T181000
DTEND;TZID=America/New_York:20190722T191000
DTSTAMP:20190618T141837Z
URL:https://datatracker.ietf.org/meeting/105/materials/agenda-105-mile-01
DESCRIPTION:Afternoon Session III\n
 \n
 Meetecho: http://www.meetecho.com/ietf105/mile/\n
 \n
 Agenda https://datatracker.ietf.org/meeting/105/materials/agenda-105-mile-01\n
 \n
 Session materials: https://datatracker.ietf.org/meeting/105/session/mile\n
 \n
 See in schedule: https://datatracker.ietf.org/meeting/105/agenda#row-105-2019-07-22-mon-1810-sec-mile\n
END:VEVENT
BEGIN:VEVENT
UID:ietf-105-11102-cacao
SUMMARY:cacao - Collaborative Automated Course of Action Operations for Cyber Security
LOCATION:Van Horne
STATUS:CANCELLED
CLASS:PUBLIC
DTSTART;TZID=America/New_York:20190723T100000
DTEND;TZID=America/New_York:20190723T120000
DTSTAMP:20190616T211053Z
DESCRIPTION:Morning Session I\n
 \n
 Meetecho: http://www.meetecho.com/ietf105/cacao/\n
 \n
 Session materials: https://datatracker.ietf.org/meeting/105/session/cacao\n
 \n
 See in schedule: https://datatracker.ietf.org/meeting/105/agenda#row-105-2019-07-23-tue-1000-sec-cacao\n
END:VEVENT
BEGIN:VEVENT
UID:ietf-105-11102-teep
SUMMARY:teep - Trusted Execution Environment Provisioning
LOCATION:Van Horne
STATUS:CONFIRMED
CLASS:PUBLIC
DTSTART;TZID=America/New_York:20190723T100000
DTEND;TZID=America/New_York:20190723T120000
DTSTAMP:20190616T211053Z
URL:https://datatracker.ietf.org/meeting/105/materials/agenda-105-teep-04
DESCRIPTION:Morning Session I\n
 \n
 Meetecho: http://www.meetecho.com/ietf105/teep/\n
 \n
 Agenda https://datatracker.ietf.org/meeting/105/materials/agenda-105-teep-04\n
 \n
 Session materials: https://datatracker.ietf.org/meeting/105/session/teep\n
 \n
 See in schedule: https://datatracker.ietf.org/meeting/105/agenda#row-105-2019-07-23-tue-1000-sec-teep\n
END:VEVENT
BEGIN:VEVENT
UID:ietf-105-11125-lamps
SUMMARY:lamps - Limited Additional Mechanisms for PKIX and SMIME
LOCATION:Van Horne
STATUS:CONFIRMED
CLASS:PUBLIC
DTSTART;TZID=America/New_York:20190723T133000
DTEND;TZID=America/New_York:20190723T150000
DTSTAMP:20190618T142833Z
URL:https://datatracker.ietf.org/meeting/105/materials/agenda-105-lamps-00
DESCRIPTION:Afternoon Session I\n
 \n
 Meetecho: http://www.meetecho.com/ietf105/lamps/\n
 \n
 Agenda https://datatracker.ietf.org/meeting/105/materials/agenda-105-lamps-00\n
 \n
 Session materials: https://datatracker.ietf.org/meeting/105/session/lamps\n
 \n
 See in schedule: https://datatracker.ietf.org/meeting/105/agenda#row-105-2019-07-23-tue-1330-sec-lamps\n
END:VEVENT
BEGIN:VEVENT
UID:ietf-105-11126-secevent
SUMMARY:secevent - Security Events
LOCATION:Sainte-Catherine
STATUS:CONFIRMED
CLASS:PUBLIC
DTSTART;TZID=America/New_York:20190723T133000
DTEND;TZID=America/New_York:20190723T150000
DTSTAMP:20190618T142833Z
URL:https://datatracker.ietf.org/meeting/105/materials/agenda-105-secevent-00
DESCRIPTION:Afternoon Session I\n
 \n
 Meetecho: http://www.meetecho.com/ietf105/secevent/\n
 \n
 Agenda https://datatracker.ietf.org/meeting/105/materials/agenda-105-secevent-00\n
 \n
 Session materials: https://datatracker.ietf.org/meeting/105/session/secevent\n
 \n
 See in schedule: https://datatracker.ietf.org/meeting/105/agenda#row-105-2019-07-23-tue-1330-sec-secevent\n
END:VEVENT
BEGIN:VEVENT
UID:ietf-105-11402-ipsecme
SUMMARY:ipsecme - IP Security Maintenance and Extensions
LOCATION:Sainte-Catherine
STATUS:CONFIRMED
CLASS:PUBLIC
DTSTART;TZID=America/New_York:20190723T152000
DTEND;TZID=America/New_York:20190723T165000
DTSTAMP:20190618T142929Z
URL:https://datatracker.ietf.org/meeting/105/materials/agenda-105-ipsecme-00
DESCRIPTION:Afternoon Session II\n
 \n
 Meetecho: http://www.meetecho.com/ietf105/ipsecme/\n
 \n
 Agenda https://datatracker.ietf.org/meeting/105/materials/agenda-105-ipsecme-00\n
 \n
 Session materials: https://datatracker.ietf.org/meeting/105/session/ipsecme\n
 \n
 See in schedule: https://datatracker.ietf.org/meeting/105/agenda#row-105-2019-07-23-tue-1520-sec-ipsecme\n
END:VEVENT
BEGIN:VEVENT
UID:ietf-105-11401-oauth
SUMMARY:oauth - Web Authorization Protocol
LOCATION:Van Horne
STATUS:CONFIRMED
CLASS:PUBLIC
DTSTART;TZID=America/New_York:20190723T152000
DTEND;TZID=America/New_York:20190723T165000
DTSTAMP:20190618T142929Z
URL:https://datatracker.ietf.org/meeting/105/materials/agenda-105-oauth-01
DESCRIPTION:Afternoon Session II\n
 \n
 Meetecho: http://www.meetecho.com/ietf105/oauth/\n
 \n
 Agenda https://datatracker.ietf.org/meeting/105/materials/agenda-105-oauth-01\n
 \n
 Session materials: https://datatracker.ietf.org/meeting/105/session/oauth\n
 \n
 See in schedule: https://datatracker.ietf.org/meeting/105/agenda#row-105-2019-07-23-tue-1520-sec-oauth\n
END:VEVENT
BEGIN:VEVENT
UID:ietf-105-11166-tls
SUMMARY:tls - Transport Layer Security
LOCATION:Place du Canada
STATUS:CONFIRMED
CLASS:PUBLIC
DTSTART;TZID=America/New_York:20190723T171000
DTEND;TZID=America/New_York:20190723T181000
DTSTAMP:20190618T142952Z
URL:https://datatracker.ietf.org/meeting/105/materials/agenda-105-tls-01
DESCRIPTION:Afternoon Session III\n
 \n
 Meetecho: http://www.meetecho.com/ietf105/tls/\n
 \n
 Agenda https://datatracker.ietf.org/meeting/105/materials/agenda-105-tls-01\n
 \n
 Session materials: https://datatracker.ietf.org/meeting/105/session/tls\n
 \n
 See in schedule: https://datatracker.ietf.org/meeting/105/agenda#row-105-2019-07-23-tue-1710-sec-tls\n
END:VEVENT
BEGIN:VEVENT
UID:ietf-105-11192-dots
SUMMARY:dots - DDoS Open Threat Signaling
LOCATION:Centre Ville
STATUS:CONFIRMED
CLASS:PUBLIC
DTSTART;TZID=America/New_York:20190724T100000
DTEND;TZID=America/New_York:20190724T120000
DTSTAMP:20190616T211157Z
URL:https://datatracker.ietf.org/meeting/105/materials/agenda-105-dots-07
DESCRIPTION:Morning Session I\n
 \n
 Meetecho: http://www.meetecho.com/ietf105/dots/\n
 \n
 Agenda https://datatracker.ietf.org/meeting/105/materials/agenda-105-dots-07\n
 \n
 Session materials: https://datatracker.ietf.org/meeting/105/session/dots\n
 \n
 See in schedule: https://datatracker.ietf.org/meeting/105/agenda#row-105-2019-07-24-wed-1000-sec-dots\n
END:VEVENT
BEGIN:VEVENT
UID:ietf-105-11191-suit
SUMMARY:suit - Software Updates for Internet of Things
LOCATION:Viger
STATUS:CONFIRMED
CLASS:PUBLIC
DTSTART;TZID=America/New_York:20190724T100000
DTEND;TZID=America/New_York:20190724T120000
DTSTAMP:20190616T211157Z
URL:https://datatracker.ietf.org/meeting/105/materials/agenda-105-suit-01
DESCRIPTION:Morning Session I\n
 \n
 Meetecho: http://www.meetecho.com/ietf105/suit/\n
 \n
 Agenda https://datatracker.ietf.org/meeting/105/materials/agenda-105-suit-01\n
 \n
 Session materials: https://datatracker.ietf.org/meeting/105/session/suit\n
 \n
 See in schedule: https://datatracker.ietf.org/meeting/105/agenda#row-105-2019-07-24-wed-1000-sec-suit\n
END:VEVENT
BEGIN:VEVENT
UID:ietf-105-11219-emu
SUMMARY:emu - EAP Method Update
LOCATION:Notre Dame
STATUS:CONFIRMED
CLASS:PUBLIC
DTSTART;TZID=America/New_York:20190724T133000
DTEND;TZID=America/New_York:20190724T153000
DTSTAMP:20190616T211212Z
URL:https://datatracker.ietf.org/meeting/105/materials/agenda-105-emu-01
DESCRIPTION:Afternoon Session I\n
 \n
 Meetecho: http://www.meetecho.com/ietf105/emu/\n
 \n
 Agenda https://datatracker.ietf.org/meeting/105/materials/agenda-105-emu-01\n
 \n
 Session materials: https://datatracker.ietf.org/meeting/105/session/emu\n
 \n
 See in schedule: https://datatracker.ietf.org/meeting/105/agenda#row-105-2019-07-24-wed-1330-sec-emu\n
END:VEVENT
BEGIN:VEVENT
UID:ietf-105-11240-rats
SUMMARY:rats - Remote ATtestation ProcedureS
LOCATION:Van Horne
STATUS:CONFIRMED
CLASS:PUBLIC
DTSTART;TZID=America/New_York:20190724T155000
DTEND;TZID=America/New_York:20190724T165000
DTSTAMP:20190616T211224Z
URL:https://datatracker.ietf.org/meeting/105/materials/agenda-105-rats-06
DESCRIPTION:Afternoon Session II\n
 \n
 Meetecho: http://www.meetecho.com/ietf105/rats/\n
 \n
 Agenda https://datatracker.ietf.org/meeting/105/materials/agenda-105-rats-06\n
 \n
 Session materials: https://datatracker.ietf.org/meeting/105/session/rats\n
 \n
 See in schedule: https://datatracker.ietf.org/meeting/105/agenda#row-105-2019-07-24-wed-1550-sec-rats\n
END:VEVENT
BEGIN:VEVENT
UID:ietf-105-11264-i2nsf
SUMMARY:i2nsf - Interface to Network Security Functions
LOCATION:Sainte-Catherine
STATUS:CONFIRMED
CLASS:PUBLIC
DTSTART;TZID=America/New_York:20190725T100000
DTEND;TZID=America/New_York:20190725T120000
DTSTAMP:20190616T211244Z
URL:https://datatracker.ietf.org/meeting/105/materials/agenda-105-i2nsf-01
DESCRIPTION:Morning Session I\n
 \n
 Meetecho: http://www.meetecho.com/ietf105/i2nsf/\n
 \n
 Agenda https://datatracker.ietf.org/meeting/105/materials/agenda-105-i2nsf-01\n
 \n
 Session materials: https://datatracker.ietf.org/meeting/105/session/i2nsf\n
 \n
 See in schedule: https://datatracker.ietf.org/meeting/105/agenda#row-105-2019-07-25-thu-1000-sec-i2nsf\n
END:VEVENT
BEGIN:VEVENT
UID:ietf-105-11258-tls
SUMMARY:tls - Transport Layer Security
LOCATION:Place du Canada
STATUS:CONFIRMED
CLASS:PUBLIC
DTSTART;TZID=America/New_York:20190725T100000
DTEND;TZID=America/New_York:20190725T120000
DTSTAMP:20190616T211244Z
URL:https://datatracker.ietf.org/meeting/105/materials/agenda-105-tls-01
DESCRIPTION:Morning Session I\n
 \n
 Meetecho: http://www.meetecho.com/ietf105/tls/\n
 \n
 Agenda https://datatracker.ietf.org/meeting/105/materials/agenda-105-tls-01\n
 \n
 Session materials: https://datatracker.ietf.org/meeting/105/session/tls\n
 \n
 See in schedule: https://datatracker.ietf.org/meeting/105/agenda#row-105-2019-07-25-thu-1000-sec-tls\n
END:VEVENT
BEGIN:VEVENT
UID:ietf-105-11281-saag
SUMMARY:saag - Security Area Open Meeting
LOCATION:Place du Canada
STATUS:CONFIRMED
CLASS:PUBLIC
DTSTART;TZID=America/New_York:20190725T133000
DTEND;TZID=America/New_York:20190725T153000
DTSTAMP:20190618T150605Z
URL:https://datatracker.ietf.org/meeting/105/materials/agenda-105-saag-02
DESCRIPTION:Afternoon Session I\n
 \n
 Meetecho: http://www.meetecho.com/ietf105/saag/\n
 \n
 Agenda https://datatracker.ietf.org/meeting/105/materials/agenda-105-saag-02\n
 \n
 Session materials: https://datatracker.ietf.org/meeting/105/session/saag\n
 \n
 See in schedule: https://datatracker.ietf.org/meeting/105/agenda#row-105-2019-07-25-thu-1330-sec-saag\n
END:VEVENT
BEGIN:VEVENT
UID:ietf-105-11310-rats
SUMMARY:rats - Remote ATtestation ProcedureS
LOCATION:Sainte-Catherine
STATUS:CONFIRMED
CLASS:PUBLIC
DTSTART;TZID=America/New_York:20190725T155000
DTEND;TZID=America/New_York:20190725T172000
DTSTAMP:20190618T150622Z
URL:https://datatracker.ietf.org/meeting/105/materials/agenda-105-rats-06
DESCRIPTION:Afternoon Session II\n
 \n
 Meetecho: http://www.meetecho.com/ietf105/rats/\n
 \n
 Agenda https://datatracker.ietf.org/meeting/105/materials/agenda-105-rats-06\n
 \n
 Session materials: https://datatracker.ietf.org/meeting/105/session/rats\n
 \n
 See in schedule: https://datatracker.ietf.org/meeting/105/agenda#row-105-2019-07-25-thu-1550-sec-rats\n
END:VEVENT
BEGIN:VEVENT
UID:ietf-105-11330-ace
SUMMARY:ace - Authentication and Authorization for Constrained Environments
LOCATION:Centre Ville
STATUS:CONFIRMED
CLASS:PUBLIC
DTSTART;TZID=America/New_York:20190725T174000
DTEND;TZID=America/New_York:20190725T191000
DTSTAMP:20190618T150643Z
URL:https://datatracker.ietf.org/meeting/105/materials/agenda-105-ace-01
DESCRIPTION:Afternoon Session III\n
 \n
 Meetecho: http://www.meetecho.com/ietf105/ace/\n
 \n
 Agenda https://datatracker.ietf.org/meeting/105/materials/agenda-105-ace-01\n
 \n
 Session materials: https://datatracker.ietf.org/meeting/105/session/ace\n
 \n
 See in schedule: https://datatracker.ietf.org/meeting/105/agenda#row-105-2019-07-25-thu-1740-sec-ace\n
END:VEVENT
BEGIN:VEVENT
UID:ietf-105-11327-mls
SUMMARY:mls - Messaging Layer Security
LOCATION:Place du Canada
STATUS:CANCELLED
CLASS:PUBLIC
DTSTART;TZID=America/New_York:20190725T174000
DTEND;TZID=America/New_York:20190725T191000
DTSTAMP:20190618T150643Z
URL:https://datatracker.ietf.org/meeting/105/materials/agenda-105-mls-04
DESCRIPTION:Afternoon Session III\n
 \n
 Meetecho: http://www.meetecho.com/ietf105/mls/\n
 \n
 Agenda https://datatracker.ietf.org/meeting/105/materials/agenda-105-mls-04\n
 \n
 Session materials: https://datatracker.ietf.org/meeting/105/session/mls\n
 \n
 See in schedule: https://datatracker.ietf.org/meeting/105/agenda#row-105-2019-07-25-thu-1740-sec-mls\n
END:VEVENT
BEGIN:VEVENT
UID:ietf-105-11332-sacm
SUMMARY:sacm - Security Automation and Continuous Monitoring
LOCATION:Van Horne
STATUS:CONFIRMED
CLASS:PUBLIC
DTSTART;TZID=America/New_York:20190725T174000
DTEND;TZID=America/New_York:20190725T191000
DTSTAMP:20190618T150643Z
URL:https://datatracker.ietf.org/meeting/105/materials/agenda-105-sacm-00
DESCRIPTION:Afternoon Session III\n
 \n
 Meetecho: http://www.meetecho.com/ietf105/sacm/\n
 \n
 Agenda https://datatracker.ietf.org/meeting/105/materials/agenda-105-sacm-00\n
 \n
 Session materials: https://datatracker.ietf.org/meeting/105/session/sacm\n
 \n
 See in schedule: https://datatracker.ietf.org/meeting/105/agenda#row-105-2019-07-25-thu-1740-sec-sacm\n
END:VEVENT
BEGIN:VEVENT
UID:ietf-105-11351-mls
SUMMARY:mls - Messaging Layer Security
LOCATION:Laurier
STATUS:CONFIRMED
CLASS:PUBLIC
DTSTART;TZID=America/New_York:20190726T100000
DTEND;TZID=America/New_York:20190726T120000
DTSTAMP:20190616T211343Z
URL:https://datatracker.ietf.org/meeting/105/materials/agenda-105-mls-04
DESCRIPTION:Morning Session I\n
 \n
 Meetecho: http://www.meetecho.com/ietf105/mls/\n
 \n
 Agenda https://datatracker.ietf.org/meeting/105/materials/agenda-105-mls-04\n
 \n
 Session materials: https://datatracker.ietf.org/meeting/105/session/mls\n
 \n
 See in schedule: https://datatracker.ietf.org/meeting/105/agenda#row-105-2019-07-26-fri-1000-sec-mls\n
END:VEVENT
BEGIN:VEVENT
UID:ietf-105-11354-oauth
SUMMARY:oauth - Web Authorization Protocol
LOCATION:Duluth
STATUS:CONFIRMED
CLASS:PUBLIC
DTSTART;TZID=America/New_York:20190726T100000
DTEND;TZID=America/New_York:20190726T120000
DTSTAMP:20190616T211343Z
URL:https://datatracker.ietf.org/meeting/105/materials/agenda-105-oauth-01
DESCRIPTION:Morning Session I\n
 \n
 Meetecho: http://www.meetecho.com/ietf105/oauth/\n
 \n
 Agenda https://datatracker.ietf.org/meeting/105/materials/agenda-105-oauth-01\n
 \n
 Session materials: https://datatracker.ietf.org/meeting/105/session/oauth\n
 \n
 See in schedule: https://datatracker.ietf.org/meeting/105/agenda#row-105-2019-07-26-fri-1000-sec-oauth\n
END:VEVENT
BEGIN:VEVENT
UID:ietf-105-11378-cose
SUMMARY:cose - CBOR Object Signing and Encryption
LOCATION:Van Horne
STATUS:CONFIRMED
CLASS:PUBLIC
DTSTART;TZID=America/New_York:20190726T122000
DTEND;TZID=America/New_York:20190726T135000
DTSTAMP:20190616T211403Z
URL:https://datatracker.ietf.org/meeting/105/materials/agenda-105-cose-01
DESCRIPTION:Afternoon Session I\n
 \n
 Meetecho: http://www.meetecho.com/ietf105/cose/\n
 \n
 Agenda https://datatracker.ietf.org/meeting/105/materials/agenda-105-cose-01\n
 \n
 Session materials: https://datatracker.ietf.org/meeting/105/session/cose\n
 \n
 See in schedule: https://datatracker.ietf.org/meeting/105/agenda#row-105-2019-07-26-fri-1220-sec-cose\n
END:VEVENT
END:VCALENDAR
