BEGIN:VCALENDAR
VERSION:2.0
METHOD:PUBLISH
PRODID:-//IETF//datatracker.ietf.org ical agenda//EN
BEGIN:VTIMEZONE
TZID:Asia/Singapore
X-LIC-LOCATION:Asia/Singapore
BEGIN:STANDARD
TZOFFSETFROM:+065525
TZOFFSETTO:+065525
TZNAME:SMT
DTSTART:19010101T000000
RDATE:19010101T000000
END:STANDARD
BEGIN:STANDARD
TZOFFSETFROM:+065525
TZOFFSETTO:+0700
TZNAME:MALT
DTSTART:19050601T000000
RDATE:19050601T000000
END:STANDARD
BEGIN:DAYLIGHT
TZOFFSETFROM:+0700
TZOFFSETTO:+0720
TZNAME:MALST
DTSTART:19330101T000000
RDATE:19330101T000000
END:DAYLIGHT
BEGIN:STANDARD
TZOFFSETFROM:+0720
TZOFFSETTO:+0720
TZNAME:MALT
DTSTART:19360101T000000
RDATE:19360101T000000
END:STANDARD
BEGIN:STANDARD
TZOFFSETFROM:+0720
TZOFFSETTO:+0730
TZNAME:MALT
DTSTART:19410901T000000
RDATE:19410901T000000
END:STANDARD
BEGIN:STANDARD
TZOFFSETFROM:+0730
TZOFFSETTO:+0900
TZNAME:JST
DTSTART:19420216T000000
RDATE:19420216T000000
END:STANDARD
BEGIN:STANDARD
TZOFFSETFROM:+0900
TZOFFSETTO:+0730
TZNAME:MALT
DTSTART:19450912T000000
RDATE:19450912T000000
END:STANDARD
BEGIN:STANDARD
TZOFFSETFROM:+0730
TZOFFSETTO:+0730
TZNAME:SGT
DTSTART:19650809T000000
RDATE:19650809T000000
END:STANDARD
BEGIN:STANDARD
TZOFFSETFROM:+0730
TZOFFSETTO:+0800
TZNAME:SGT
DTSTART:19820101T000000
RDATE:19820101T000000
END:STANDARD
END:VTIMEZONE
BEGIN:VEVENT
UID:ietf-106-11588-dispatch
SUMMARY:dispatch - Dispatch (Joint with ARTAREA)
LOCATION:Sophia
STATUS:CONFIRMED
CLASS:PUBLIC
DTSTART;TZID=Asia/Singapore:20191118T100000
DTEND;TZID=Asia/Singapore:20191118T120000
DTSTAMP:20191015T101201Z
URL:https://datatracker.ietf.org/meeting/106/materials/agenda-106-dispatch-03
DESCRIPTION:Morning Session I\n
 Note: Joint with ARTAREA\n
 \n
 Meetecho: http://www.meetecho.com/ietf106/dispatch/\n
 \n
 Agenda https://datatracker.ietf.org/meeting/106/materials/agenda-106-dispatch-03\n
 \n
 Session materials: https://datatracker.ietf.org/meeting/106/session/dispatch\n
 \n
 See in schedule: https://datatracker.ietf.org/meeting/106/agenda#row-106-2019-11-18-mon-1000-art-dispatch\n
END:VEVENT
BEGIN:VEVENT
UID:ietf-106-11617-calext
SUMMARY:calext - Calendaring Extensions (1330 - 1430)
LOCATION:Orchard
STATUS:CONFIRMED
CLASS:PUBLIC
DTSTART;TZID=Asia/Singapore:20191118T133000
DTEND;TZID=Asia/Singapore:20191118T153000
DTSTAMP:20191015T101218Z
URL:https://datatracker.ietf.org/meeting/106/materials/agenda-106-calext-00
DESCRIPTION:Afternoon Session I\n
 Note: 1330 - 1430\n
 \n
 Meetecho: http://www.meetecho.com/ietf106/calext/\n
 \n
 Agenda https://datatracker.ietf.org/meeting/106/materials/agenda-106-calext-00\n
 \n
 Session materials: https://datatracker.ietf.org/meeting/106/session/calext\n
 \n
 See in schedule: https://datatracker.ietf.org/meeting/106/agenda#row-106-2019-11-18-mon-1330-art-calext\n
END:VEVENT
BEGIN:VEVENT
UID:ietf-106-11617-extra
SUMMARY:extra - Email mailstore and eXtensions To Revise or Amend (1430 - 1530)
LOCATION:Orchard
STATUS:CONFIRMED
CLASS:PUBLIC
DTSTART;TZID=Asia/Singapore:20191118T133000
DTEND;TZID=Asia/Singapore:20191118T153000
DTSTAMP:20191015T101218Z
URL:https://datatracker.ietf.org/meeting/106/materials/agenda-106-extra-00
DESCRIPTION:Afternoon Session I\n
 Note: 1430 - 1530\n
 \n
 Meetecho: http://www.meetecho.com/ietf106/extra/\n
 \n
 Agenda https://datatracker.ietf.org/meeting/106/materials/agenda-106-extra-00\n
 \n
 Session materials: https://datatracker.ietf.org/meeting/106/session/extra\n
 \n
 See in schedule: https://datatracker.ietf.org/meeting/106/agenda#row-106-2019-11-18-mon-1330-art-extra\n
END:VEVENT
BEGIN:VEVENT
UID:ietf-106-11615-stir
SUMMARY:stir - Secure Telephone Identity Revisited
LOCATION:Hullet
STATUS:CONFIRMED
CLASS:PUBLIC
DTSTART;TZID=Asia/Singapore:20191118T133000
DTEND;TZID=Asia/Singapore:20191118T153000
DTSTAMP:20191015T101218Z
URL:https://datatracker.ietf.org/meeting/106/materials/agenda-106-stir-01
DESCRIPTION:Afternoon Session I\n
 \n
 Meetecho: http://www.meetecho.com/ietf106/stir/\n
 \n
 Agenda https://datatracker.ietf.org/meeting/106/materials/agenda-106-stir-01\n
 \n
 Session materials: https://datatracker.ietf.org/meeting/106/session/stir\n
 \n
 See in schedule: https://datatracker.ietf.org/meeting/106/agenda#row-106-2019-11-18-mon-1330-art-stir\n
END:VEVENT
BEGIN:VEVENT
UID:ietf-106-11635-httpbis
SUMMARY:httpbis - HTTP
LOCATION:Canning
STATUS:CONFIRMED
CLASS:PUBLIC
DTSTART;TZID=Asia/Singapore:20191118T155000
DTEND;TZID=Asia/Singapore:20191118T175000
DTSTAMP:20191015T101234Z
URL:https://datatracker.ietf.org/meeting/106/materials/agenda-106-httpbis-01
DESCRIPTION:Afternoon Session II\n
 \n
 Meetecho: http://www.meetecho.com/ietf106/httpbis/\n
 \n
 Agenda https://datatracker.ietf.org/meeting/106/materials/agenda-106-httpbis-01\n
 \n
 Session materials: https://datatracker.ietf.org/meeting/106/session/httpbis\n
 \n
 See in schedule: https://datatracker.ietf.org/meeting/106/agenda#row-106-2019-11-18-mon-1550-art-httpbis\n
END:VEVENT
BEGIN:VEVENT
UID:ietf-106-11711-abcd
SUMMARY:abcd - Application Behavior Considering DNS
LOCATION:Padang
STATUS:CONFIRMED
CLASS:PUBLIC
DTSTART;TZID=Asia/Singapore:20191119T133000
DTEND;TZID=Asia/Singapore:20191119T150000
DTSTAMP:20191015T101315Z
URL:https://datatracker.ietf.org/meeting/106/materials/agenda-106-abcd-05
DESCRIPTION:Afternoon Session I\n
 \n
 Meetecho: http://www.meetecho.com/ietf106/abcd/\n
 \n
 Agenda https://datatracker.ietf.org/meeting/106/materials/agenda-106-abcd-05\n
 \n
 Session materials: https://datatracker.ietf.org/meeting/106/session/abcd\n
 \n
 See in schedule: https://datatracker.ietf.org/meeting/106/agenda#row-106-2019-11-19-tue-1330-art-abcd\n
END:VEVENT
BEGIN:VEVENT
UID:ietf-106-11767-jmap
SUMMARY:jmap - JSON Mail Access Protocol
LOCATION:Orchard
STATUS:CONFIRMED
CLASS:PUBLIC
DTSTART;TZID=Asia/Singapore:20191119T171000
DTEND;TZID=Asia/Singapore:20191119T184000
DTSTAMP:20191018T084420Z
URL:https://datatracker.ietf.org/meeting/106/materials/agenda-106-jmap-00
DESCRIPTION:Afternoon Session III\n
 \n
 Meetecho: http://www.meetecho.com/ietf106/jmap/\n
 \n
 Agenda https://datatracker.ietf.org/meeting/106/materials/agenda-106-jmap-00\n
 \n
 Session materials: https://datatracker.ietf.org/meeting/106/session/jmap\n
 \n
 See in schedule: https://datatracker.ietf.org/meeting/106/agenda#row-106-2019-11-19-tue-1710-art-jmap\n
END:VEVENT
BEGIN:VEVENT
UID:ietf-106-11788-core
SUMMARY:core - Constrained RESTful Environments
LOCATION:Sophia
STATUS:CONFIRMED
CLASS:PUBLIC
DTSTART;TZID=Asia/Singapore:20191120T100000
DTEND;TZID=Asia/Singapore:20191120T120000
DTSTAMP:20191015T101357Z
URL:https://datatracker.ietf.org/meeting/106/materials/agenda-106-core-01
DESCRIPTION:Morning Session I\n
 \n
 Meetecho: http://www.meetecho.com/ietf106/core/\n
 \n
 Agenda https://datatracker.ietf.org/meeting/106/materials/agenda-106-core-01\n
 \n
 Session materials: https://datatracker.ietf.org/meeting/106/session/core\n
 \n
 See in schedule: https://datatracker.ietf.org/meeting/106/agenda#row-106-2019-11-20-wed-1000-art-core\n
END:VEVENT
BEGIN:VEVENT
UID:ietf-106-11790-regext
SUMMARY:regext - Registration Protocols Extensions
LOCATION:Hullet
STATUS:CONFIRMED
CLASS:PUBLIC
DTSTART;TZID=Asia/Singapore:20191120T100000
DTEND;TZID=Asia/Singapore:20191120T120000
DTSTAMP:20191015T101357Z
URL:https://datatracker.ietf.org/meeting/106/materials/agenda-106-regext-02
DESCRIPTION:Morning Session I\n
 \n
 Meetecho: http://www.meetecho.com/ietf106/regext/\n
 \n
 Agenda https://datatracker.ietf.org/meeting/106/materials/agenda-106-regext-02\n
 \n
 Session materials: https://datatracker.ietf.org/meeting/106/session/regext\n
 \n
 See in schedule: https://datatracker.ietf.org/meeting/106/agenda#row-106-2019-11-20-wed-1000-art-regext\n
END:VEVENT
BEGIN:VEVENT
UID:ietf-106-11812-webtrans
SUMMARY:webtrans - WebTransport
LOCATION:Collyer
STATUS:CONFIRMED
CLASS:PUBLIC
DTSTART;TZID=Asia/Singapore:20191120T133000
DTEND;TZID=Asia/Singapore:20191120T150000
DTSTAMP:20191015T101410Z
URL:https://datatracker.ietf.org/meeting/106/materials/agenda-106-webtrans-05
DESCRIPTION:Afternoon Session I\n
 \n
 Meetecho: http://www.meetecho.com/ietf106/webtrans/\n
 \n
 Agenda https://datatracker.ietf.org/meeting/106/materials/agenda-106-webtrans-05\n
 \n
 Session materials: https://datatracker.ietf.org/meeting/106/session/webtrans\n
 \n
 See in schedule: https://datatracker.ietf.org/meeting/106/agenda#row-106-2019-11-20-wed-1330-art-webtrans\n
END:VEVENT
BEGIN:VEVENT
UID:ietf-106-11837-wpack
SUMMARY:wpack - Web Packaging
LOCATION:Collyer
STATUS:CONFIRMED
CLASS:PUBLIC
DTSTART;TZID=Asia/Singapore:20191120T152000
DTEND;TZID=Asia/Singapore:20191120T165000
DTSTAMP:20191016T001419Z
URL:https://datatracker.ietf.org/meeting/106/materials/agenda-106-wpack-06
DESCRIPTION:Afternoon Session II\n
 \n
 Meetecho: http://www.meetecho.com/ietf106/wpack/\n
 \n
 Agenda https://datatracker.ietf.org/meeting/106/materials/agenda-106-wpack-06\n
 \n
 Session materials: https://datatracker.ietf.org/meeting/106/session/wpack\n
 \n
 See in schedule: https://datatracker.ietf.org/meeting/106/agenda#row-106-2019-11-20-wed-1520-art-wpack\n
END:VEVENT
BEGIN:VEVENT
UID:ietf-106-11866-rum
SUMMARY:rum - Relay User Machine
LOCATION:VIP A
STATUS:CONFIRMED
CLASS:PUBLIC
DTSTART;TZID=Asia/Singapore:20191121T100000
DTEND;TZID=Asia/Singapore:20191121T120000
DTSTAMP:20191015T101444Z
URL:https://datatracker.ietf.org/meeting/106/materials/agenda-106-rum-00
DESCRIPTION:Morning Session I\n
 \n
 Meetecho: http://www.meetecho.com/ietf106/rum/\n
 \n
 Agenda https://datatracker.ietf.org/meeting/106/materials/agenda-106-rum-00\n
 \n
 Session materials: https://datatracker.ietf.org/meeting/106/session/rum\n
 \n
 See in schedule: https://datatracker.ietf.org/meeting/106/agenda#row-106-2019-11-21-thu-1000-art-rum\n
END:VEVENT
BEGIN:VEVENT
UID:ietf-106-11887-httpbis
SUMMARY:httpbis - HTTP
LOCATION:Collyer
STATUS:CONFIRMED
CLASS:PUBLIC
DTSTART;TZID=Asia/Singapore:20191121T133000
DTEND;TZID=Asia/Singapore:20191121T153000
DTSTAMP:20191015T101457Z
URL:https://datatracker.ietf.org/meeting/106/materials/agenda-106-httpbis-01
DESCRIPTION:Afternoon Session I\n
 \n
 Meetecho: http://www.meetecho.com/ietf106/httpbis/\n
 \n
 Agenda https://datatracker.ietf.org/meeting/106/materials/agenda-106-httpbis-01\n
 \n
 Session materials: https://datatracker.ietf.org/meeting/106/session/httpbis\n
 \n
 See in schedule: https://datatracker.ietf.org/meeting/106/agenda#row-106-2019-11-21-thu-1330-art-httpbis\n
END:VEVENT
BEGIN:VEVENT
UID:ietf-106-11940-cbor
SUMMARY:cbor - Concise Binary Object Representation Maintenance and Extensions
LOCATION:Hullet
STATUS:CONFIRMED
CLASS:PUBLIC
DTSTART;TZID=Asia/Singapore:20191121T174000
DTEND;TZID=Asia/Singapore:20191121T184000
DTSTAMP:20191015T101523Z
URL:https://datatracker.ietf.org/meeting/106/materials/agenda-106-cbor-00
DESCRIPTION:Afternoon Session III\n
 \n
 Meetecho: http://www.meetecho.com/ietf106/cbor/\n
 \n
 Agenda https://datatracker.ietf.org/meeting/106/materials/agenda-106-cbor-00\n
 \n
 Session materials: https://datatracker.ietf.org/meeting/106/session/cbor\n
 \n
 See in schedule: https://datatracker.ietf.org/meeting/106/agenda#row-106-2019-11-21-thu-1740-art-cbor\n
END:VEVENT
BEGIN:VEVENT
UID:ietf-106-11992-avtcore
SUMMARY:avtcore - Audio/Video Transport Core Maintenance
LOCATION:Orchard
STATUS:CONFIRMED
CLASS:PUBLIC
DTSTART;TZID=Asia/Singapore:20191122T122000
DTEND;TZID=Asia/Singapore:20191122T135000
DTSTAMP:20191015T101557Z
URL:https://datatracker.ietf.org/meeting/106/materials/agenda-106-avtcore-01
DESCRIPTION:Morning Session II\n
 \n
 Meetecho: http://www.meetecho.com/ietf106/avtcore/\n
 \n
 Agenda https://datatracker.ietf.org/meeting/106/materials/agenda-106-avtcore-01\n
 \n
 Session materials: https://datatracker.ietf.org/meeting/106/session/avtcore\n
 \n
 See in schedule: https://datatracker.ietf.org/meeting/106/agenda#row-106-2019-11-22-fri-1220-art-avtcore\n
END:VEVENT
BEGIN:VEVENT
UID:ietf-106-11990-core
SUMMARY:core - Constrained RESTful Environments
LOCATION:Hullet
STATUS:CONFIRMED
CLASS:PUBLIC
DTSTART;TZID=Asia/Singapore:20191122T122000
DTEND;TZID=Asia/Singapore:20191122T135000
DTSTAMP:20191015T101556Z
URL:https://datatracker.ietf.org/meeting/106/materials/agenda-106-core-01
DESCRIPTION:Morning Session II\n
 \n
 Meetecho: http://www.meetecho.com/ietf106/core/\n
 \n
 Agenda https://datatracker.ietf.org/meeting/106/materials/agenda-106-core-01\n
 \n
 Session materials: https://datatracker.ietf.org/meeting/106/session/core\n
 \n
 See in schedule: https://datatracker.ietf.org/meeting/106/agenda#row-106-2019-11-22-fri-1220-art-core\n
END:VEVENT
END:VCALENDAR
