BEGIN:VCALENDAR
VERSION:2.0
METHOD:PUBLISH
PRODID:-//IETF//datatracker.ietf.org ical agenda//EN
BEGIN:VTIMEZONE
TZID:Asia/Singapore
X-LIC-LOCATION:Asia/Singapore
BEGIN:STANDARD
TZOFFSETFROM:+065525
TZOFFSETTO:+065525
TZNAME:SMT
DTSTART:19010101T000000
RDATE:19010101T000000
END:STANDARD
BEGIN:STANDARD
TZOFFSETFROM:+065525
TZOFFSETTO:+0700
TZNAME:MALT
DTSTART:19050601T000000
RDATE:19050601T000000
END:STANDARD
BEGIN:DAYLIGHT
TZOFFSETFROM:+0700
TZOFFSETTO:+0720
TZNAME:MALST
DTSTART:19330101T000000
RDATE:19330101T000000
END:DAYLIGHT
BEGIN:STANDARD
TZOFFSETFROM:+0720
TZOFFSETTO:+0720
TZNAME:MALT
DTSTART:19360101T000000
RDATE:19360101T000000
END:STANDARD
BEGIN:STANDARD
TZOFFSETFROM:+0720
TZOFFSETTO:+0730
TZNAME:MALT
DTSTART:19410901T000000
RDATE:19410901T000000
END:STANDARD
BEGIN:STANDARD
TZOFFSETFROM:+0730
TZOFFSETTO:+0900
TZNAME:JST
DTSTART:19420216T000000
RDATE:19420216T000000
END:STANDARD
BEGIN:STANDARD
TZOFFSETFROM:+0900
TZOFFSETTO:+0730
TZNAME:MALT
DTSTART:19450912T000000
RDATE:19450912T000000
END:STANDARD
BEGIN:STANDARD
TZOFFSETFROM:+0730
TZOFFSETTO:+0730
TZNAME:SGT
DTSTART:19650809T000000
RDATE:19650809T000000
END:STANDARD
BEGIN:STANDARD
TZOFFSETFROM:+0730
TZOFFSETTO:+0800
TZNAME:SGT
DTSTART:19820101T000000
RDATE:19820101T000000
END:STANDARD
END:VTIMEZONE
BEGIN:VEVENT
UID:ietf-106-10630-hackathon
SUMMARY:IETF Hackathon
LOCATION:Moor/Morrison
STATUS:CONFIRMED
CLASS:PUBLIC
DTSTART;TZID=Asia/Singapore:20191116T083000
DTEND;TZID=Asia/Singapore:20191116T220000
DTSTAMP:20191018T132724Z
DESCRIPTION:IETF Hackathon\n
 \n
 Session materials: https://datatracker.ietf.org/meeting/106/session/hackathon\n
 \n
 See in schedule: https://datatracker.ietf.org/meeting/106/agenda#row-106-2019-11-16-sat-0830-hackathon-ietf-hackathon\n
END:VEVENT
BEGIN:VEVENT
UID:ietf-106-10629-tools
SUMMARY:Code Sprint
LOCATION:Ord
STATUS:CONFIRMED
CLASS:PUBLIC
DTSTART;TZID=Asia/Singapore:20191116T093000
DTEND;TZID=Asia/Singapore:20191116T180000
DTSTAMP:20191018T141602Z
DESCRIPTION:Code Sprint\n
 \n
 Session materials: https://datatracker.ietf.org/meeting/106/session/tools\n
 \n
 See in schedule: https://datatracker.ietf.org/meeting/106/agenda#row-106-2019-11-16-sat-0930-tools-code-sprint\n
END:VEVENT
BEGIN:VEVENT
UID:ietf-106-12046-hackathon
SUMMARY:IETF Hackathon
LOCATION:Moor/Morrison
STATUS:CONFIRMED
CLASS:PUBLIC
DTSTART;TZID=Asia/Singapore:20191117T083000
DTEND;TZID=Asia/Singapore:20191117T160000
DTSTAMP:20191018T132821Z
DESCRIPTION:IETF Hackathon\n
 \n
 Session materials: https://datatracker.ietf.org/meeting/106/session/hackathon\n
 \n
 See in schedule: https://datatracker.ietf.org/meeting/106/agenda#row-106-2019-11-17-sun-0830-hackathon-ietf-hackathon\n
END:VEVENT
BEGIN:VEVENT
UID:ietf-106-12048-edu
SUMMARY:Tutorial: Newcomers' Overview
LOCATION:Olivia
STATUS:CONFIRMED
CLASS:PUBLIC
DTSTART;TZID=Asia/Singapore:20191117T123000
DTEND;TZID=Asia/Singapore:20191117T133000
DTSTAMP:20191018T133322Z
URL:https://datatracker.ietf.org/meeting/106/materials/agenda-106-edu-sesse-01
DESCRIPTION:Tutorial: Newcomers' Overview\n
 \n
 Meetecho: http://www.meetecho.com/ietf106/edu/tutorialnew\n
 \n
 Agenda https://datatracker.ietf.org/meeting/106/materials/agenda-106-edu-sesse-01\n
 \n
 Session materials: https://datatracker.ietf.org/meeting/106/session/edu\n
 \n
 See in schedule: https://datatracker.ietf.org/meeting/106/agenda#row-106-2019-11-17-sun-1230-edu-tutorial-newcomers-overview\n
END:VEVENT
BEGIN:VEVENT
UID:ietf-106-12049-edu
SUMMARY:Tutorial: Service Discovery for IP Applications
LOCATION:Sophia
STATUS:CONFIRMED
CLASS:PUBLIC
DTSTART;TZID=Asia/Singapore:20191117T134500
DTEND;TZID=Asia/Singapore:20191117T144500
DTSTAMP:20191018T141657Z
URL:https://datatracker.ietf.org/meeting/106/materials/agenda-106-edu-sessf-00
DESCRIPTION:Tutorial: Service Discovery for IP Applications\n
 \n
 Meetecho: http://www.meetecho.com/ietf106/edu/tutorialip\n
 \n
 Agenda https://datatracker.ietf.org/meeting/106/materials/agenda-106-edu-sessf-00\n
 \n
 Session materials: https://datatracker.ietf.org/meeting/106/session/edu\n
 \n
 See in schedule: https://datatracker.ietf.org/meeting/106/agenda#row-106-2019-11-17-sun-1345-edu-tutorial-service-discovery-for-ip-applications\n
END:VEVENT
BEGIN:VEVENT
UID:ietf-106-10627-edu
SUMMARY:Newcomers' Quick Connections (Open to Newcomers. Note that pre-registration is required)
LOCATION:Fairmont Ballroom Foyer
STATUS:CONFIRMED
CLASS:PUBLIC
DTSTART;TZID=Asia/Singapore:20191117T160000
DTEND;TZID=Asia/Singapore:20191117T170000
DTSTAMP:20191018T135605Z
URL:https://datatracker.ietf.org/meeting/106/materials/agenda-106-edu-sessd-00
DESCRIPTION:Newcomers' Quick Connections (Open to Newcomers. Note that pre-registration is required)\n
 \n
 Agenda https://datatracker.ietf.org/meeting/106/materials/agenda-106-edu-sessd-00\n
 \n
 Session materials: https://datatracker.ietf.org/meeting/106/session/edu\n
 \n
 See in schedule: https://datatracker.ietf.org/meeting/106/agenda#row-106-2019-11-17-sun-1600-edu-newcomers-quick-connections-open-to-newcomers-note-that-pre-registration-is-required\n
END:VEVENT
BEGIN:VEVENT
UID:ietf-106-12039-hotrfc
SUMMARY:hotrfc - Hot RFC Lightning Talks
LOCATION:Padang
STATUS:CONFIRMED
CLASS:PUBLIC
DTSTART;TZID=Asia/Singapore:20191117T180000
DTEND;TZID=Asia/Singapore:20191117T200000
DTSTAMP:20191018T131242Z
URL:https://datatracker.ietf.org/meeting/106/materials/agenda-106-hotrfc-17
DESCRIPTION:Hot RFC Lightning Talks\n
 \n
 Meetecho: http://www.meetecho.com/ietf106/hotrfc/\n
 \n
 Agenda https://datatracker.ietf.org/meeting/106/materials/agenda-106-hotrfc-17\n
 \n
 Session materials: https://datatracker.ietf.org/meeting/106/session/hotrfc\n
 \n
 See in schedule: https://datatracker.ietf.org/meeting/106/agenda#row-106-2019-11-17-sun-1800-ietf-hotrfc\n
END:VEVENT
BEGIN:VEVENT
UID:ietf-106-11587-mathmesh
SUMMARY:mathmesh - MatheMatical Mesh
LOCATION:Collyer
STATUS:CONFIRMED
CLASS:PUBLIC
DTSTART;TZID=Asia/Singapore:20191118T100000
DTEND;TZID=Asia/Singapore:20191118T120000
DTSTAMP:20191015T101201Z
URL:https://datatracker.ietf.org/meeting/106/materials/agenda-106-mathmesh-01
DESCRIPTION:Morning Session I\n
 \n
 Meetecho: http://www.meetecho.com/ietf106/mathmesh/\n
 \n
 Agenda https://datatracker.ietf.org/meeting/106/materials/agenda-106-mathmesh-01\n
 \n
 Session materials: https://datatracker.ietf.org/meeting/106/session/mathmesh\n
 \n
 See in schedule: https://datatracker.ietf.org/meeting/106/agenda#row-106-2019-11-18-mon-1000-sec-mathmesh\n
END:VEVENT
BEGIN:VEVENT
UID:ietf-106-11611-txauth
SUMMARY:txauth - Transactional Authorization and Delegation
LOCATION:Padang
STATUS:CONFIRMED
CLASS:PUBLIC
DTSTART;TZID=Asia/Singapore:20191118T133000
DTEND;TZID=Asia/Singapore:20191118T153000
DTSTAMP:20191015T101218Z
URL:https://datatracker.ietf.org/meeting/106/materials/agenda-106-txauth-00
DESCRIPTION:Afternoon Session I\n
 \n
 Meetecho: http://www.meetecho.com/ietf106/txauth/\n
 \n
 Agenda https://datatracker.ietf.org/meeting/106/materials/agenda-106-txauth-00\n
 \n
 Session materials: https://datatracker.ietf.org/meeting/106/session/txauth\n
 \n
 See in schedule: https://datatracker.ietf.org/meeting/106/agenda#row-106-2019-11-18-mon-1330-sec-txauth\n
END:VEVENT
BEGIN:VEVENT
UID:ietf-106-12050-hackathon
SUMMARY:Hackdemo Happy Hour
LOCATION:Moor/Morrison
STATUS:CONFIRMED
CLASS:PUBLIC
DTSTART;TZID=Asia/Singapore:20191118T181000
DTEND;TZID=Asia/Singapore:20191118T194000
DTSTAMP:20191018T133714Z
DESCRIPTION:Hackdemo Happy Hour\n
 \n
 Session materials: https://datatracker.ietf.org/meeting/106/session/hackathon\n
 \n
 See in schedule: https://datatracker.ietf.org/meeting/106/agenda#row-106-2019-11-18-mon-1810-hackathon-hackdemo-happy-hour\n
END:VEVENT
BEGIN:VEVENT
UID:ietf-106-11691-tmrid
SUMMARY:tmrid - Trustworthy Multipurpose Remote ID
LOCATION:VIP A
STATUS:CONFIRMED
CLASS:PUBLIC
DTSTART;TZID=Asia/Singapore:20191119T100000
DTEND;TZID=Asia/Singapore:20191119T120000
DTSTAMP:20191015T101259Z
URL:https://datatracker.ietf.org/meeting/106/materials/agenda-106-tmrid-00
DESCRIPTION:Morning Session I\n
 \n
 Meetecho: http://www.meetecho.com/ietf106/tmrid/\n
 \n
 Agenda https://datatracker.ietf.org/meeting/106/materials/agenda-106-tmrid-00\n
 \n
 Session materials: https://datatracker.ietf.org/meeting/106/session/tmrid\n
 \n
 See in schedule: https://datatracker.ietf.org/meeting/106/agenda#row-106-2019-11-19-tue-1000-int-tmrid\n
END:VEVENT
BEGIN:VEVENT
UID:ietf-106-11711-abcd
SUMMARY:abcd - Application Behavior Considering DNS
LOCATION:Padang
STATUS:CONFIRMED
CLASS:PUBLIC
DTSTART;TZID=Asia/Singapore:20191119T133000
DTEND;TZID=Asia/Singapore:20191119T150000
DTSTAMP:20191015T101315Z
URL:https://datatracker.ietf.org/meeting/106/materials/agenda-106-abcd-05
DESCRIPTION:Afternoon Session I\n
 \n
 Meetecho: http://www.meetecho.com/ietf106/abcd/\n
 \n
 Agenda https://datatracker.ietf.org/meeting/106/materials/agenda-106-abcd-05\n
 \n
 Session materials: https://datatracker.ietf.org/meeting/106/session/abcd\n
 \n
 See in schedule: https://datatracker.ietf.org/meeting/106/agenda#row-106-2019-11-19-tue-1330-art-abcd\n
END:VEVENT
BEGIN:VEVENT
UID:ietf-106-11785-raw
SUMMARY:raw - Reliable and Available Wireless
LOCATION:Canning
STATUS:CONFIRMED
CLASS:PUBLIC
DTSTART;TZID=Asia/Singapore:20191120T100000
DTEND;TZID=Asia/Singapore:20191120T120000
DTSTAMP:20191015T101357Z
URL:https://datatracker.ietf.org/meeting/106/materials/agenda-106-raw-01
DESCRIPTION:Morning Session I\n
 \n
 Meetecho: http://www.meetecho.com/ietf106/raw/\n
 \n
 Agenda https://datatracker.ietf.org/meeting/106/materials/agenda-106-raw-01\n
 \n
 Session materials: https://datatracker.ietf.org/meeting/106/session/raw\n
 \n
 See in schedule: https://datatracker.ietf.org/meeting/106/agenda#row-106-2019-11-20-wed-1000-rtg-raw\n
END:VEVENT
BEGIN:VEVENT
UID:ietf-106-10616-edu
SUMMARY:WG Chairs Forum (For WG Chairs Only)
LOCATION:Sophia
STATUS:CONFIRMED
CLASS:PUBLIC
DTSTART;TZID=Asia/Singapore:20191120T121500
DTEND;TZID=Asia/Singapore:20191120T131500
DTSTAMP:20191018T134336Z
URL:https://datatracker.ietf.org/meeting/106/materials/agenda-106-edu-sessc-00
DESCRIPTION:WG Chairs Forum (For WG Chairs Only)\n
 \n
 Meetecho: http://www.meetecho.com/ietf106/edu/wglunch\n
 \n
 Agenda https://datatracker.ietf.org/meeting/106/materials/agenda-106-edu-sessc-00\n
 \n
 Session materials: https://datatracker.ietf.org/meeting/106/session/edu\n
 \n
 See in schedule: https://datatracker.ietf.org/meeting/106/agenda#row-106-2019-11-20-wed-1215-edu-wg-chairs-forum-for-wg-chairs-only\n
END:VEVENT
BEGIN:VEVENT
UID:ietf-106-11812-webtrans
SUMMARY:webtrans - WebTransport
LOCATION:Collyer
STATUS:CONFIRMED
CLASS:PUBLIC
DTSTART;TZID=Asia/Singapore:20191120T133000
DTEND;TZID=Asia/Singapore:20191120T150000
DTSTAMP:20191015T101410Z
URL:https://datatracker.ietf.org/meeting/106/materials/agenda-106-webtrans-05
DESCRIPTION:Afternoon Session I\n
 \n
 Meetecho: http://www.meetecho.com/ietf106/webtrans/\n
 \n
 Agenda https://datatracker.ietf.org/meeting/106/materials/agenda-106-webtrans-05\n
 \n
 Session materials: https://datatracker.ietf.org/meeting/106/session/webtrans\n
 \n
 See in schedule: https://datatracker.ietf.org/meeting/106/agenda#row-106-2019-11-20-wed-1330-art-webtrans\n
END:VEVENT
BEGIN:VEVENT
UID:ietf-106-11837-wpack
SUMMARY:wpack - Web Packaging
LOCATION:Collyer
STATUS:CONFIRMED
CLASS:PUBLIC
DTSTART;TZID=Asia/Singapore:20191120T152000
DTEND;TZID=Asia/Singapore:20191120T165000
DTSTAMP:20191016T001419Z
URL:https://datatracker.ietf.org/meeting/106/materials/agenda-106-wpack-06
DESCRIPTION:Afternoon Session II\n
 \n
 Meetecho: http://www.meetecho.com/ietf106/wpack/\n
 \n
 Agenda https://datatracker.ietf.org/meeting/106/materials/agenda-106-wpack-06\n
 \n
 Session materials: https://datatracker.ietf.org/meeting/106/session/wpack\n
 \n
 See in schedule: https://datatracker.ietf.org/meeting/106/agenda#row-106-2019-11-20-wed-1520-art-wpack\n
END:VEVENT
BEGIN:VEVENT
UID:ietf-106-10607-ietf
SUMMARY:IETF Plenary
LOCATION:Canning/Padang
STATUS:CONFIRMED
CLASS:PUBLIC
DTSTART;TZID=Asia/Singapore:20191120T171000
DTEND;TZID=Asia/Singapore:20191120T194000
DTSTAMP:20191015T114750Z
URL:https://datatracker.ietf.org/meeting/106/materials/agenda-106-ietf-sessb-00
DESCRIPTION:IETF Plenary\n
 \n
 Meetecho: http://www.meetecho.com/ietf106/ietf/plenary\n
 \n
 Agenda https://datatracker.ietf.org/meeting/106/materials/agenda-106-ietf-sessb-00\n
 \n
 Session materials: https://datatracker.ietf.org/meeting/106/session/ietf\n
 \n
 See in schedule: https://datatracker.ietf.org/meeting/106/agenda#row-106-2019-11-20-wed-1710-1plenary-ietf\n
END:VEVENT
BEGIN:VEVENT
UID:ietf-106-10605-edu
SUMMARY:Newcomers' Feedback Session
LOCATION:Bras Basah
STATUS:CONFIRMED
CLASS:PUBLIC
DTSTART;TZID=Asia/Singapore:20191121T080000
DTEND;TZID=Asia/Singapore:20191121T090000
DTSTAMP:20191018T134428Z
URL:https://datatracker.ietf.org/meeting/106/materials/agenda-106-edu-sessb-00
DESCRIPTION:Newcomers' Feedback Session\n
 \n
 Agenda https://datatracker.ietf.org/meeting/106/materials/agenda-106-edu-sessb-00\n
 \n
 Session materials: https://datatracker.ietf.org/meeting/106/session/edu\n
 \n
 See in schedule: https://datatracker.ietf.org/meeting/106/agenda#row-106-2019-11-21-thu-0800-edu-newcomers-feedback-session\n
END:VEVENT
BEGIN:VEVENT
UID:ietf-106-10600-edu
SUMMARY:Host Speaker Series
LOCATION:Collyer
STATUS:CONFIRMED
CLASS:PUBLIC
DTSTART;TZID=Asia/Singapore:20191121T123000
DTEND;TZID=Asia/Singapore:20191121T131500
DTSTAMP:20191018T134541Z
DESCRIPTION:Host Speaker Series\n
 \n
 Meetecho: http://www.meetecho.com/ietf106/edu/speaker\n
 \n
 Session materials: https://datatracker.ietf.org/meeting/106/session/edu\n
 \n
 See in schedule: https://datatracker.ietf.org/meeting/106/agenda#row-106-2019-11-21-thu-1230-edu-host-speaker-series\n
END:VEVENT
END:VCALENDAR
