BEGIN:VCALENDAR
VERSION:2.0
METHOD:PUBLISH
PRODID:-//IETF//datatracker.ietf.org ical agenda//EN
BEGIN:VTIMEZONE
TZID:Asia/Singapore
X-LIC-LOCATION:Asia/Singapore
BEGIN:STANDARD
TZOFFSETFROM:+065525
TZOFFSETTO:+065525
TZNAME:SMT
DTSTART:19010101T000000
RDATE:19010101T000000
END:STANDARD
BEGIN:STANDARD
TZOFFSETFROM:+065525
TZOFFSETTO:+0700
TZNAME:MALT
DTSTART:19050601T000000
RDATE:19050601T000000
END:STANDARD
BEGIN:DAYLIGHT
TZOFFSETFROM:+0700
TZOFFSETTO:+0720
TZNAME:MALST
DTSTART:19330101T000000
RDATE:19330101T000000
END:DAYLIGHT
BEGIN:STANDARD
TZOFFSETFROM:+0720
TZOFFSETTO:+0720
TZNAME:MALT
DTSTART:19360101T000000
RDATE:19360101T000000
END:STANDARD
BEGIN:STANDARD
TZOFFSETFROM:+0720
TZOFFSETTO:+0730
TZNAME:MALT
DTSTART:19410901T000000
RDATE:19410901T000000
END:STANDARD
BEGIN:STANDARD
TZOFFSETFROM:+0730
TZOFFSETTO:+0900
TZNAME:JST
DTSTART:19420216T000000
RDATE:19420216T000000
END:STANDARD
BEGIN:STANDARD
TZOFFSETFROM:+0900
TZOFFSETTO:+0730
TZNAME:MALT
DTSTART:19450912T000000
RDATE:19450912T000000
END:STANDARD
BEGIN:STANDARD
TZOFFSETFROM:+0730
TZOFFSETTO:+0730
TZNAME:SGT
DTSTART:19650809T000000
RDATE:19650809T000000
END:STANDARD
BEGIN:STANDARD
TZOFFSETFROM:+0730
TZOFFSETTO:+0800
TZNAME:SGT
DTSTART:19820101T000000
RDATE:19820101T000000
END:STANDARD
END:VTIMEZONE
BEGIN:VEVENT
UID:ietf-106-11591-dhc
SUMMARY:dhc - Dynamic Host Configuration
LOCATION:VIP A
STATUS:CONFIRMED
CLASS:PUBLIC
DTSTART;TZID=Asia/Singapore:20191118T100000
DTEND;TZID=Asia/Singapore:20191118T120000
DTSTAMP:20191015T101201Z
URL:https://datatracker.ietf.org/meeting/106/materials/agenda-106-dhc-02
DESCRIPTION:Morning Session I\n
 \n
 Meetecho: http://www.meetecho.com/ietf106/dhc/\n
 \n
 Agenda https://datatracker.ietf.org/meeting/106/materials/agenda-106-dhc-02\n
 \n
 Session materials: https://datatracker.ietf.org/meeting/106/session/dhc\n
 \n
 See in schedule: https://datatracker.ietf.org/meeting/106/agenda#row-106-2019-11-18-mon-1000-int-dhc\n
END:VEVENT
BEGIN:VEVENT
UID:ietf-106-11616-dnssd
SUMMARY:dnssd - Extensions for Scalable DNS Service Discovery (Joint with HOMENET)
LOCATION:VIP A
STATUS:CONFIRMED
CLASS:PUBLIC
DTSTART;TZID=Asia/Singapore:20191118T133000
DTEND;TZID=Asia/Singapore:20191118T153000
DTSTAMP:20191015T101218Z
URL:https://datatracker.ietf.org/meeting/106/materials/agenda-106-dnssd-02
DESCRIPTION:Afternoon Session I\n
 Note: Joint with HOMENET\n
 \n
 Meetecho: http://www.meetecho.com/ietf106/dnssd/\n
 \n
 Agenda https://datatracker.ietf.org/meeting/106/materials/agenda-106-dnssd-02\n
 \n
 Session materials: https://datatracker.ietf.org/meeting/106/session/dnssd\n
 \n
 See in schedule: https://datatracker.ietf.org/meeting/106/agenda#row-106-2019-11-18-mon-1330-int-dnssd\n
END:VEVENT
BEGIN:VEVENT
UID:ietf-106-11616-homenet
SUMMARY:homenet - Home Networking (Joint with DNSSD)
LOCATION:VIP A
STATUS:CONFIRMED
CLASS:PUBLIC
DTSTART;TZID=Asia/Singapore:20191118T133000
DTEND;TZID=Asia/Singapore:20191118T153000
DTSTAMP:20191015T101218Z
URL:https://datatracker.ietf.org/meeting/106/materials/agenda-106-homenet-01
DESCRIPTION:Afternoon Session I\n
 Note: Joint with DNSSD\n
 \n
 Meetecho: http://www.meetecho.com/ietf106/homenet/\n
 \n
 Agenda https://datatracker.ietf.org/meeting/106/materials/agenda-106-homenet-01\n
 \n
 Session materials: https://datatracker.ietf.org/meeting/106/session/homenet\n
 \n
 See in schedule: https://datatracker.ietf.org/meeting/106/agenda#row-106-2019-11-18-mon-1330-int-homenet\n
END:VEVENT
BEGIN:VEVENT
UID:ietf-106-11641-dmm
SUMMARY:dmm - Distributed Mobility Management
LOCATION:VIP A
STATUS:CONFIRMED
CLASS:PUBLIC
DTSTART;TZID=Asia/Singapore:20191118T155000
DTEND;TZID=Asia/Singapore:20191118T175000
DTSTAMP:20191015T101234Z
URL:https://datatracker.ietf.org/meeting/106/materials/agenda-106-dmm-02
DESCRIPTION:Afternoon Session II\n
 \n
 Meetecho: http://www.meetecho.com/ietf106/dmm/\n
 \n
 Agenda https://datatracker.ietf.org/meeting/106/materials/agenda-106-dmm-02\n
 \n
 Session materials: https://datatracker.ietf.org/meeting/106/session/dmm\n
 \n
 See in schedule: https://datatracker.ietf.org/meeting/106/agenda#row-106-2019-11-18-mon-1550-int-dmm\n
END:VEVENT
BEGIN:VEVENT
UID:ietf-106-11666-dnssd
SUMMARY:dnssd - Extensions for Scalable DNS Service Discovery
LOCATION:VIP A
STATUS:CONFIRMED
CLASS:PUBLIC
DTSTART;TZID=Asia/Singapore:20191118T181000
DTEND;TZID=Asia/Singapore:20191118T191000
DTSTAMP:20191015T101248Z
URL:https://datatracker.ietf.org/meeting/106/materials/agenda-106-dnssd-02
DESCRIPTION:Afternoon Session III\n
 \n
 Meetecho: http://www.meetecho.com/ietf106/dnssd/\n
 \n
 Agenda https://datatracker.ietf.org/meeting/106/materials/agenda-106-dnssd-02\n
 \n
 Session materials: https://datatracker.ietf.org/meeting/106/session/dnssd\n
 \n
 See in schedule: https://datatracker.ietf.org/meeting/106/agenda#row-106-2019-11-18-mon-1810-int-dnssd\n
END:VEVENT
BEGIN:VEVENT
UID:ietf-106-11664-lwig
SUMMARY:lwig - Light-Weight Implementation Guidance
LOCATION:Olivia
STATUS:CONFIRMED
CLASS:PUBLIC
DTSTART;TZID=Asia/Singapore:20191118T181000
DTEND;TZID=Asia/Singapore:20191118T191000
DTSTAMP:20191015T101248Z
URL:https://datatracker.ietf.org/meeting/106/materials/agenda-106-lwig-02
DESCRIPTION:Afternoon Session III\n
 \n
 Meetecho: http://www.meetecho.com/ietf106/lwig/\n
 \n
 Agenda https://datatracker.ietf.org/meeting/106/materials/agenda-106-lwig-02\n
 \n
 Session materials: https://datatracker.ietf.org/meeting/106/session/lwig\n
 \n
 See in schedule: https://datatracker.ietf.org/meeting/106/agenda#row-106-2019-11-18-mon-1810-int-lwig\n
END:VEVENT
BEGIN:VEVENT
UID:ietf-106-11691-tmrid
SUMMARY:tmrid - Trustworthy Multipurpose Remote ID
LOCATION:VIP A
STATUS:CONFIRMED
CLASS:PUBLIC
DTSTART;TZID=Asia/Singapore:20191119T100000
DTEND;TZID=Asia/Singapore:20191119T120000
DTSTAMP:20191015T101259Z
URL:https://datatracker.ietf.org/meeting/106/materials/agenda-106-tmrid-00
DESCRIPTION:Morning Session I\n
 \n
 Meetecho: http://www.meetecho.com/ietf106/tmrid/\n
 \n
 Agenda https://datatracker.ietf.org/meeting/106/materials/agenda-106-tmrid-00\n
 \n
 Session materials: https://datatracker.ietf.org/meeting/106/session/tmrid\n
 \n
 See in schedule: https://datatracker.ietf.org/meeting/106/agenda#row-106-2019-11-19-tue-1000-int-tmrid\n
END:VEVENT
BEGIN:VEVENT
UID:ietf-106-11737-lpwan
SUMMARY:lpwan - IPv6 over Low Power Wide-Area Networks
LOCATION:Collyer
STATUS:CONFIRMED
CLASS:PUBLIC
DTSTART;TZID=Asia/Singapore:20191119T152000
DTEND;TZID=Asia/Singapore:20191119T165000
DTSTAMP:20191015T101330Z
URL:https://datatracker.ietf.org/meeting/106/materials/agenda-106-lpwan-01
DESCRIPTION:Afternoon Session II\n
 \n
 Meetecho: http://www.meetecho.com/ietf106/lpwan/\n
 \n
 Agenda https://datatracker.ietf.org/meeting/106/materials/agenda-106-lpwan-01\n
 \n
 Session materials: https://datatracker.ietf.org/meeting/106/session/lpwan\n
 \n
 See in schedule: https://datatracker.ietf.org/meeting/106/agenda#row-106-2019-11-19-tue-1520-int-lpwan\n
END:VEVENT
BEGIN:VEVENT
UID:ietf-106-11791-ntp
SUMMARY:ntp - Network Time Protocol
LOCATION:VIP A
STATUS:CONFIRMED
CLASS:PUBLIC
DTSTART;TZID=Asia/Singapore:20191120T100000
DTEND;TZID=Asia/Singapore:20191120T120000
DTSTAMP:20191015T101357Z
URL:https://datatracker.ietf.org/meeting/106/materials/agenda-106-ntp-00
DESCRIPTION:Morning Session I\n
 \n
 Meetecho: http://www.meetecho.com/ietf106/ntp/\n
 \n
 Agenda https://datatracker.ietf.org/meeting/106/materials/agenda-106-ntp-00\n
 \n
 Session materials: https://datatracker.ietf.org/meeting/106/session/ntp\n
 \n
 See in schedule: https://datatracker.ietf.org/meeting/106/agenda#row-106-2019-11-20-wed-1000-int-ntp\n
END:VEVENT
BEGIN:VEVENT
UID:ietf-106-11813-6lo
SUMMARY:6lo - IPv6 over Networks of Resource-constrained Nodes
LOCATION:Sophia
STATUS:CONFIRMED
CLASS:PUBLIC
DTSTART;TZID=Asia/Singapore:20191120T133000
DTEND;TZID=Asia/Singapore:20191120T150000
DTSTAMP:20191015T101410Z
URL:https://datatracker.ietf.org/meeting/106/materials/agenda-106-6lo-03
DESCRIPTION:Afternoon Session I\n
 \n
 Meetecho: http://www.meetecho.com/ietf106/6lo/\n
 \n
 Agenda https://datatracker.ietf.org/meeting/106/materials/agenda-106-6lo-03\n
 \n
 Session materials: https://datatracker.ietf.org/meeting/106/session/6lo\n
 \n
 See in schedule: https://datatracker.ietf.org/meeting/106/agenda#row-106-2019-11-20-wed-1330-int-6lo\n
END:VEVENT
BEGIN:VEVENT
UID:ietf-106-11888-6man
SUMMARY:6man - IPv6 Maintenance
LOCATION:Sophia
STATUS:CONFIRMED
CLASS:PUBLIC
DTSTART;TZID=Asia/Singapore:20191121T133000
DTEND;TZID=Asia/Singapore:20191121T153000
DTSTAMP:20191015T101457Z
URL:https://datatracker.ietf.org/meeting/106/materials/agenda-106-6man-09
DESCRIPTION:Afternoon Session I\n
 \n
 Meetecho: http://www.meetecho.com/ietf106/6man/\n
 \n
 Agenda https://datatracker.ietf.org/meeting/106/materials/agenda-106-6man-09\n
 \n
 Session materials: https://datatracker.ietf.org/meeting/106/session/6man\n
 \n
 See in schedule: https://datatracker.ietf.org/meeting/106/agenda#row-106-2019-11-21-thu-1330-int-6man\n
END:VEVENT
BEGIN:VEVENT
UID:ietf-106-11911-intarea
SUMMARY:intarea - Internet Area Working Group
LOCATION:Padang
STATUS:CONFIRMED
CLASS:PUBLIC
DTSTART;TZID=Asia/Singapore:20191121T155000
DTEND;TZID=Asia/Singapore:20191121T172000
DTSTAMP:20191015T101510Z
URL:https://datatracker.ietf.org/meeting/106/materials/agenda-106-intarea-00
DESCRIPTION:Afternoon Session II\n
 \n
 Meetecho: http://www.meetecho.com/ietf106/intarea/\n
 \n
 Agenda https://datatracker.ietf.org/meeting/106/materials/agenda-106-intarea-00\n
 \n
 Session materials: https://datatracker.ietf.org/meeting/106/session/intarea\n
 \n
 See in schedule: https://datatracker.ietf.org/meeting/106/agenda#row-106-2019-11-21-thu-1550-int-intarea\n
END:VEVENT
BEGIN:VEVENT
UID:ietf-106-11938-6man
SUMMARY:6man - IPv6 Maintenance
LOCATION:Sophia
STATUS:CONFIRMED
CLASS:PUBLIC
DTSTART;TZID=Asia/Singapore:20191121T174000
DTEND;TZID=Asia/Singapore:20191121T184000
DTSTAMP:20191015T101523Z
URL:https://datatracker.ietf.org/meeting/106/materials/agenda-106-6man-09
DESCRIPTION:Afternoon Session III\n
 \n
 Meetecho: http://www.meetecho.com/ietf106/6man/\n
 \n
 Agenda https://datatracker.ietf.org/meeting/106/materials/agenda-106-6man-09\n
 \n
 Session materials: https://datatracker.ietf.org/meeting/106/session/6man\n
 \n
 See in schedule: https://datatracker.ietf.org/meeting/106/agenda#row-106-2019-11-21-thu-1740-int-6man\n
END:VEVENT
BEGIN:VEVENT
UID:ietf-106-11965-6tisch
SUMMARY:6tisch - IPv6 over the TSCH mode of IEEE 802.15.4e
LOCATION:Hullet
STATUS:CONFIRMED
CLASS:PUBLIC
DTSTART;TZID=Asia/Singapore:20191122T100000
DTEND;TZID=Asia/Singapore:20191122T120000
DTSTAMP:20191015T101533Z
URL:https://datatracker.ietf.org/meeting/106/materials/agenda-106-6tisch-01
DESCRIPTION:Morning Session I\n
 \n
 Meetecho: http://www.meetecho.com/ietf106/6tisch/\n
 \n
 Agenda https://datatracker.ietf.org/meeting/106/materials/agenda-106-6tisch-01\n
 \n
 Session materials: https://datatracker.ietf.org/meeting/106/session/6tisch\n
 \n
 See in schedule: https://datatracker.ietf.org/meeting/106/agenda#row-106-2019-11-22-fri-1000-int-6tisch\n
END:VEVENT
BEGIN:VEVENT
UID:ietf-106-11962-dprive
SUMMARY:dprive - DNS PRIVate Exchange
LOCATION:Collyer
STATUS:CONFIRMED
CLASS:PUBLIC
DTSTART;TZID=Asia/Singapore:20191122T100000
DTEND;TZID=Asia/Singapore:20191122T120000
DTSTAMP:20191015T101533Z
URL:https://datatracker.ietf.org/meeting/106/materials/agenda-106-dprive-04
DESCRIPTION:Morning Session I\n
 \n
 Meetecho: http://www.meetecho.com/ietf106/dprive/\n
 \n
 Agenda https://datatracker.ietf.org/meeting/106/materials/agenda-106-dprive-04\n
 \n
 Session materials: https://datatracker.ietf.org/meeting/106/session/dprive\n
 \n
 See in schedule: https://datatracker.ietf.org/meeting/106/agenda#row-106-2019-11-22-fri-1000-int-dprive\n
END:VEVENT
END:VCALENDAR
