BEGIN:VCALENDAR
VERSION:2.0
METHOD:PUBLISH
PRODID:-//IETF//datatracker.ietf.org ical agenda//EN
BEGIN:VTIMEZONE
TZID:Asia/Singapore
X-LIC-LOCATION:Asia/Singapore
BEGIN:STANDARD
TZOFFSETFROM:+065525
TZOFFSETTO:+065525
TZNAME:SMT
DTSTART:19010101T000000
RDATE:19010101T000000
END:STANDARD
BEGIN:STANDARD
TZOFFSETFROM:+065525
TZOFFSETTO:+0700
TZNAME:MALT
DTSTART:19050601T000000
RDATE:19050601T000000
END:STANDARD
BEGIN:DAYLIGHT
TZOFFSETFROM:+0700
TZOFFSETTO:+0720
TZNAME:MALST
DTSTART:19330101T000000
RDATE:19330101T000000
END:DAYLIGHT
BEGIN:STANDARD
TZOFFSETFROM:+0720
TZOFFSETTO:+0720
TZNAME:MALT
DTSTART:19360101T000000
RDATE:19360101T000000
END:STANDARD
BEGIN:STANDARD
TZOFFSETFROM:+0720
TZOFFSETTO:+0730
TZNAME:MALT
DTSTART:19410901T000000
RDATE:19410901T000000
END:STANDARD
BEGIN:STANDARD
TZOFFSETFROM:+0730
TZOFFSETTO:+0900
TZNAME:JST
DTSTART:19420216T000000
RDATE:19420216T000000
END:STANDARD
BEGIN:STANDARD
TZOFFSETFROM:+0900
TZOFFSETTO:+0730
TZNAME:MALT
DTSTART:19450912T000000
RDATE:19450912T000000
END:STANDARD
BEGIN:STANDARD
TZOFFSETFROM:+0730
TZOFFSETTO:+0730
TZNAME:SGT
DTSTART:19650809T000000
RDATE:19650809T000000
END:STANDARD
BEGIN:STANDARD
TZOFFSETFROM:+0730
TZOFFSETTO:+0800
TZNAME:SGT
DTSTART:19820101T000000
RDATE:19820101T000000
END:STANDARD
END:VTIMEZONE
BEGIN:VEVENT
UID:ietf-106-11585-iccrg
SUMMARY:iccrg - Internet Congestion Control
LOCATION:Canning
STATUS:CONFIRMED
CLASS:PUBLIC
DTSTART;TZID=Asia/Singapore:20191118T100000
DTEND;TZID=Asia/Singapore:20191118T120000
DTSTAMP:20191015T101201Z
URL:https://datatracker.ietf.org/meeting/106/materials/agenda-106-iccrg-02
DESCRIPTION:Morning Session I\n
 \n
 Meetecho: http://www.meetecho.com/ietf106/iccrg/\n
 \n
 Agenda https://datatracker.ietf.org/meeting/106/materials/agenda-106-iccrg-02\n
 \n
 Session materials: https://datatracker.ietf.org/meeting/106/session/iccrg\n
 \n
 See in schedule: https://datatracker.ietf.org/meeting/106/agenda#row-106-2019-11-18-mon-1000-irtf-iccrg\n
END:VEVENT
BEGIN:VEVENT
UID:ietf-106-11589-icnrg
SUMMARY:icnrg - Information-Centric Networking
LOCATION:Olivia
STATUS:CONFIRMED
CLASS:PUBLIC
DTSTART;TZID=Asia/Singapore:20191118T100000
DTEND;TZID=Asia/Singapore:20191118T120000
DTSTAMP:20191015T101201Z
URL:https://datatracker.ietf.org/meeting/106/materials/agenda-106-icnrg-02
DESCRIPTION:Morning Session I\n
 \n
 Meetecho: http://www.meetecho.com/ietf106/icnrg/\n
 \n
 Agenda https://datatracker.ietf.org/meeting/106/materials/agenda-106-icnrg-02\n
 \n
 Session materials: https://datatracker.ietf.org/meeting/106/session/icnrg\n
 \n
 See in schedule: https://datatracker.ietf.org/meeting/106/agenda#row-106-2019-11-18-mon-1000-irtf-icnrg\n
END:VEVENT
BEGIN:VEVENT
UID:ietf-106-11614-dinrg
SUMMARY:dinrg - Decentralized Internet Infrastructure
LOCATION:Olivia
STATUS:CANCELLED
CLASS:PUBLIC
DTSTART;TZID=Asia/Singapore:20191118T133000
DTEND;TZID=Asia/Singapore:20191118T153000
DTSTAMP:20191015T101218Z
DESCRIPTION:Afternoon Session I\n
 \n
 Meetecho: http://www.meetecho.com/ietf106/dinrg/\n
 \n
 Session materials: https://datatracker.ietf.org/meeting/106/session/dinrg\n
 \n
 See in schedule: https://datatracker.ietf.org/meeting/106/agenda#row-106-2019-11-18-mon-1330-irtf-dinrg\n
END:VEVENT
BEGIN:VEVENT
UID:ietf-106-11610-pearg
SUMMARY:pearg - Privacy Enhancements and Assessments Research Group
LOCATION:Canning
STATUS:CONFIRMED
CLASS:PUBLIC
DTSTART;TZID=Asia/Singapore:20191118T133000
DTEND;TZID=Asia/Singapore:20191118T153000
DTSTAMP:20191015T101218Z
URL:https://datatracker.ietf.org/meeting/106/materials/agenda-106-pearg-01
DESCRIPTION:Afternoon Session I\n
 \n
 Meetecho: http://www.meetecho.com/ietf106/pearg/\n
 \n
 Agenda https://datatracker.ietf.org/meeting/106/materials/agenda-106-pearg-01\n
 \n
 Session materials: https://datatracker.ietf.org/meeting/106/session/pearg\n
 \n
 See in schedule: https://datatracker.ietf.org/meeting/106/agenda#row-106-2019-11-18-mon-1330-irtf-pearg\n
END:VEVENT
BEGIN:VEVENT
UID:ietf-106-11636-irtfopen
SUMMARY:irtfopen - IRTF Open Meeting
LOCATION:Padang
STATUS:CONFIRMED
CLASS:PUBLIC
DTSTART;TZID=Asia/Singapore:20191118T155000
DTEND;TZID=Asia/Singapore:20191118T175000
DTSTAMP:20191015T101234Z
URL:https://datatracker.ietf.org/meeting/106/materials/agenda-106-irtfopen-00
DESCRIPTION:Afternoon Session II\n
 \n
 Meetecho: http://www.meetecho.com/ietf106/irtfopen/\n
 \n
 Agenda https://datatracker.ietf.org/meeting/106/materials/agenda-106-irtfopen-00\n
 \n
 Session materials: https://datatracker.ietf.org/meeting/106/session/irtfopen\n
 \n
 See in schedule: https://datatracker.ietf.org/meeting/106/agenda#row-106-2019-11-18-mon-1550-irtf-irtfopen\n
END:VEVENT
BEGIN:VEVENT
UID:ietf-106-11661-maprg
SUMMARY:maprg - Measurement and Analysis for Protocols
LOCATION:Padang
STATUS:CONFIRMED
CLASS:PUBLIC
DTSTART;TZID=Asia/Singapore:20191118T181000
DTEND;TZID=Asia/Singapore:20191118T191000
DTSTAMP:20191015T101248Z
URL:https://datatracker.ietf.org/meeting/106/materials/agenda-106-maprg-04
DESCRIPTION:Afternoon Session III\n
 \n
 Meetecho: http://www.meetecho.com/ietf106/maprg/\n
 \n
 Agenda https://datatracker.ietf.org/meeting/106/materials/agenda-106-maprg-04\n
 \n
 Session materials: https://datatracker.ietf.org/meeting/106/session/maprg\n
 \n
 See in schedule: https://datatracker.ietf.org/meeting/106/agenda#row-106-2019-11-18-mon-1810-irtf-maprg\n
END:VEVENT
BEGIN:VEVENT
UID:ietf-106-11685-hrpc
SUMMARY:hrpc - Human Rights Protocol Considerations
LOCATION:Canning
STATUS:CONFIRMED
CLASS:PUBLIC
DTSTART;TZID=Asia/Singapore:20191119T100000
DTEND;TZID=Asia/Singapore:20191119T120000
DTSTAMP:20191015T101259Z
URL:https://datatracker.ietf.org/meeting/106/materials/agenda-106-hrpc-01
DESCRIPTION:Morning Session I\n
 \n
 Meetecho: http://www.meetecho.com/ietf106/hrpc/\n
 \n
 Agenda https://datatracker.ietf.org/meeting/106/materials/agenda-106-hrpc-01\n
 \n
 Session materials: https://datatracker.ietf.org/meeting/106/session/hrpc\n
 \n
 See in schedule: https://datatracker.ietf.org/meeting/106/agenda#row-106-2019-11-19-tue-1000-irtf-hrpc\n
END:VEVENT
BEGIN:VEVENT
UID:ietf-106-11714-gaia
SUMMARY:gaia - Global Access to the Internet for All
LOCATION:Olivia
STATUS:CONFIRMED
CLASS:PUBLIC
DTSTART;TZID=Asia/Singapore:20191119T133000
DTEND;TZID=Asia/Singapore:20191119T150000
DTSTAMP:20191015T101315Z
URL:https://datatracker.ietf.org/meeting/106/materials/agenda-106-gaia-07
DESCRIPTION:Afternoon Session I\n
 \n
 Meetecho: http://www.meetecho.com/ietf106/gaia/\n
 \n
 Agenda https://datatracker.ietf.org/meeting/106/materials/agenda-106-gaia-07\n
 \n
 Session materials: https://datatracker.ietf.org/meeting/106/session/gaia\n
 \n
 See in schedule: https://datatracker.ietf.org/meeting/106/agenda#row-106-2019-11-19-tue-1330-irtf-gaia\n
END:VEVENT
BEGIN:VEVENT
UID:ietf-106-11765-qirg
SUMMARY:qirg - Quantum Internet Proposed Research Group
LOCATION:Hullet
STATUS:CONFIRMED
CLASS:PUBLIC
DTSTART;TZID=Asia/Singapore:20191119T171000
DTEND;TZID=Asia/Singapore:20191119T184000
DTSTAMP:20191018T084420Z
URL:https://datatracker.ietf.org/meeting/106/materials/agenda-106-qirg-01
DESCRIPTION:Afternoon Session III\n
 \n
 Meetecho: http://www.meetecho.com/ietf106/qirg/\n
 \n
 Agenda https://datatracker.ietf.org/meeting/106/materials/agenda-106-qirg-01\n
 \n
 Session materials: https://datatracker.ietf.org/meeting/106/session/qirg\n
 \n
 See in schedule: https://datatracker.ietf.org/meeting/106/agenda#row-106-2019-11-19-tue-1710-irtf-qirg\n
END:VEVENT
BEGIN:VEVENT
UID:ietf-106-11810-cfrg
SUMMARY:cfrg - Crypto Forum
LOCATION:Canning
STATUS:CONFIRMED
CLASS:PUBLIC
DTSTART;TZID=Asia/Singapore:20191120T133000
DTEND;TZID=Asia/Singapore:20191120T150000
DTSTAMP:20191015T101410Z
URL:https://datatracker.ietf.org/meeting/106/materials/agenda-106-cfrg-01
DESCRIPTION:Afternoon Session I\n
 \n
 Meetecho: http://www.meetecho.com/ietf106/cfrg/\n
 \n
 Agenda https://datatracker.ietf.org/meeting/106/materials/agenda-106-cfrg-01\n
 \n
 Session materials: https://datatracker.ietf.org/meeting/106/session/cfrg\n
 \n
 See in schedule: https://datatracker.ietf.org/meeting/106/agenda#row-106-2019-11-20-wed-1330-irtf-cfrg\n
END:VEVENT
BEGIN:VEVENT
UID:ietf-106-11864-nmrg
SUMMARY:nmrg - Network Management
LOCATION:Olivia
STATUS:CONFIRMED
CLASS:PUBLIC
DTSTART;TZID=Asia/Singapore:20191121T100000
DTEND;TZID=Asia/Singapore:20191121T120000
DTSTAMP:20191015T101444Z
URL:https://datatracker.ietf.org/meeting/106/materials/agenda-106-nmrg-sessa-02
DESCRIPTION:Morning Session I\n
 \n
 Meetecho: http://www.meetecho.com/ietf106/nmrg/\n
 \n
 Agenda https://datatracker.ietf.org/meeting/106/materials/agenda-106-nmrg-sessa-02\n
 \n
 Session materials: https://datatracker.ietf.org/meeting/106/session/nmrg\n
 \n
 See in schedule: https://datatracker.ietf.org/meeting/106/agenda#row-106-2019-11-21-thu-1000-irtf-nmrg\n
END:VEVENT
BEGIN:VEVENT
UID:ietf-106-11863-t2trg
SUMMARY:t2trg - Thing-to-Thing
LOCATION:Sophia
STATUS:CONFIRMED
CLASS:PUBLIC
DTSTART;TZID=Asia/Singapore:20191121T100000
DTEND;TZID=Asia/Singapore:20191121T120000
DTSTAMP:20191015T101444Z
URL:https://datatracker.ietf.org/meeting/106/materials/agenda-106-t2trg-00
DESCRIPTION:Morning Session I\n
 \n
 Meetecho: http://www.meetecho.com/ietf106/t2trg/\n
 \n
 Agenda https://datatracker.ietf.org/meeting/106/materials/agenda-106-t2trg-00\n
 \n
 Session materials: https://datatracker.ietf.org/meeting/106/session/t2trg\n
 \n
 See in schedule: https://datatracker.ietf.org/meeting/106/agenda#row-106-2019-11-21-thu-1000-irtf-t2trg\n
END:VEVENT
BEGIN:VEVENT
UID:ietf-106-11890-nwcrg
SUMMARY:nwcrg - Coding for efficient NetWork Communications Research Group
LOCATION:Hullet
STATUS:CONFIRMED
CLASS:PUBLIC
DTSTART;TZID=Asia/Singapore:20191121T133000
DTEND;TZID=Asia/Singapore:20191121T153000
DTSTAMP:20191015T101457Z
URL:https://datatracker.ietf.org/meeting/106/materials/agenda-106-nwcrg-03
DESCRIPTION:Afternoon Session I\n
 \n
 Meetecho: http://www.meetecho.com/ietf106/nwcrg/\n
 \n
 Agenda https://datatracker.ietf.org/meeting/106/materials/agenda-106-nwcrg-03\n
 \n
 Session materials: https://datatracker.ietf.org/meeting/106/session/nwcrg\n
 \n
 See in schedule: https://datatracker.ietf.org/meeting/106/agenda#row-106-2019-11-21-thu-1330-irtf-nwcrg\n
END:VEVENT
BEGIN:VEVENT
UID:ietf-106-11963-coinrg
SUMMARY:coinrg - Computing in the Network Proposed Research Group
LOCATION:Sophia
STATUS:CONFIRMED
CLASS:PUBLIC
DTSTART;TZID=Asia/Singapore:20191122T100000
DTEND;TZID=Asia/Singapore:20191122T120000
DTSTAMP:20191015T101533Z
URL:https://datatracker.ietf.org/meeting/106/materials/agenda-106-coinrg-03
DESCRIPTION:Morning Session I\n
 \n
 Meetecho: http://www.meetecho.com/ietf106/coinrg/\n
 \n
 Agenda https://datatracker.ietf.org/meeting/106/materials/agenda-106-coinrg-03\n
 \n
 Session materials: https://datatracker.ietf.org/meeting/106/session/coinrg\n
 \n
 See in schedule: https://datatracker.ietf.org/meeting/106/agenda#row-106-2019-11-22-fri-1000-irtf-coinrg\n
END:VEVENT
BEGIN:VEVENT
UID:ietf-106-11987-nmrg
SUMMARY:nmrg - Network Management
LOCATION:Collyer
STATUS:CONFIRMED
CLASS:PUBLIC
DTSTART;TZID=Asia/Singapore:20191122T122000
DTEND;TZID=Asia/Singapore:20191122T135000
DTSTAMP:20191015T101556Z
URL:https://datatracker.ietf.org/meeting/106/materials/agenda-106-nmrg-sessb-02
DESCRIPTION:Morning Session II\n
 \n
 Meetecho: http://www.meetecho.com/ietf106/nmrg/\n
 \n
 Agenda https://datatracker.ietf.org/meeting/106/materials/agenda-106-nmrg-sessb-02\n
 \n
 Session materials: https://datatracker.ietf.org/meeting/106/session/nmrg\n
 \n
 See in schedule: https://datatracker.ietf.org/meeting/106/agenda#row-106-2019-11-22-fri-1220-irtf-nmrg\n
END:VEVENT
BEGIN:VEVENT
UID:ietf-106-11988-panrg
SUMMARY:panrg - Path Aware Networking RG
LOCATION:Sophia
STATUS:CONFIRMED
CLASS:PUBLIC
DTSTART;TZID=Asia/Singapore:20191122T122000
DTEND;TZID=Asia/Singapore:20191122T135000
DTSTAMP:20191015T101556Z
URL:https://datatracker.ietf.org/meeting/106/materials/agenda-106-panrg-03
DESCRIPTION:Morning Session II\n
 \n
 Meetecho: http://www.meetecho.com/ietf106/panrg/\n
 \n
 Agenda https://datatracker.ietf.org/meeting/106/materials/agenda-106-panrg-03\n
 \n
 Session materials: https://datatracker.ietf.org/meeting/106/session/panrg\n
 \n
 See in schedule: https://datatracker.ietf.org/meeting/106/agenda#row-106-2019-11-22-fri-1220-irtf-panrg\n
END:VEVENT
END:VCALENDAR
