BEGIN:VCALENDAR
VERSION:2.0
METHOD:PUBLISH
PRODID:-//IETF//datatracker.ietf.org ical agenda//EN
BEGIN:VTIMEZONE
TZID:Asia/Singapore
X-LIC-LOCATION:Asia/Singapore
BEGIN:STANDARD
TZOFFSETFROM:+065525
TZOFFSETTO:+065525
TZNAME:SMT
DTSTART:19010101T000000
RDATE:19010101T000000
END:STANDARD
BEGIN:STANDARD
TZOFFSETFROM:+065525
TZOFFSETTO:+0700
TZNAME:MALT
DTSTART:19050601T000000
RDATE:19050601T000000
END:STANDARD
BEGIN:DAYLIGHT
TZOFFSETFROM:+0700
TZOFFSETTO:+0720
TZNAME:MALST
DTSTART:19330101T000000
RDATE:19330101T000000
END:DAYLIGHT
BEGIN:STANDARD
TZOFFSETFROM:+0720
TZOFFSETTO:+0720
TZNAME:MALT
DTSTART:19360101T000000
RDATE:19360101T000000
END:STANDARD
BEGIN:STANDARD
TZOFFSETFROM:+0720
TZOFFSETTO:+0730
TZNAME:MALT
DTSTART:19410901T000000
RDATE:19410901T000000
END:STANDARD
BEGIN:STANDARD
TZOFFSETFROM:+0730
TZOFFSETTO:+0900
TZNAME:JST
DTSTART:19420216T000000
RDATE:19420216T000000
END:STANDARD
BEGIN:STANDARD
TZOFFSETFROM:+0900
TZOFFSETTO:+0730
TZNAME:MALT
DTSTART:19450912T000000
RDATE:19450912T000000
END:STANDARD
BEGIN:STANDARD
TZOFFSETFROM:+0730
TZOFFSETTO:+0730
TZNAME:SGT
DTSTART:19650809T000000
RDATE:19650809T000000
END:STANDARD
BEGIN:STANDARD
TZOFFSETFROM:+0730
TZOFFSETTO:+0800
TZNAME:SGT
DTSTART:19820101T000000
RDATE:19820101T000000
END:STANDARD
END:VTIMEZONE
BEGIN:VEVENT
UID:ietf-106-11639-netconf
SUMMARY:netconf - Network Configuration
LOCATION:Olivia
STATUS:CONFIRMED
CLASS:PUBLIC
DTSTART;TZID=Asia/Singapore:20191118T155000
DTEND;TZID=Asia/Singapore:20191118T175000
DTSTAMP:20191015T101234Z
URL:https://datatracker.ietf.org/meeting/106/materials/agenda-106-netconf-00
DESCRIPTION:Afternoon Session II\n
 \n
 Meetecho: http://www.meetecho.com/ietf106/netconf/\n
 \n
 Agenda https://datatracker.ietf.org/meeting/106/materials/agenda-106-netconf-00\n
 \n
 Session materials: https://datatracker.ietf.org/meeting/106/session/netconf\n
 \n
 See in schedule: https://datatracker.ietf.org/meeting/106/agenda#row-106-2019-11-18-mon-1550-ops-netconf\n
END:VEVENT
BEGIN:VEVENT
UID:ietf-106-11637-v6ops
SUMMARY:v6ops - IPv6 Operations
LOCATION:Collyer
STATUS:CONFIRMED
CLASS:PUBLIC
DTSTART;TZID=Asia/Singapore:20191118T155000
DTEND;TZID=Asia/Singapore:20191118T175000
DTSTAMP:20191015T101234Z
URL:https://datatracker.ietf.org/meeting/106/materials/agenda-106-v6ops-01
DESCRIPTION:Afternoon Session II\n
 \n
 Meetecho: http://www.meetecho.com/ietf106/v6ops/\n
 \n
 Agenda https://datatracker.ietf.org/meeting/106/materials/agenda-106-v6ops-01\n
 \n
 Session materials: https://datatracker.ietf.org/meeting/106/session/v6ops\n
 \n
 See in schedule: https://datatracker.ietf.org/meeting/106/agenda#row-106-2019-11-18-mon-1550-ops-v6ops\n
END:VEVENT
BEGIN:VEVENT
UID:ietf-106-11687-netmod
SUMMARY:netmod - Network Modeling
LOCATION:Collyer
STATUS:CONFIRMED
CLASS:PUBLIC
DTSTART;TZID=Asia/Singapore:20191119T100000
DTEND;TZID=Asia/Singapore:20191119T120000
DTSTAMP:20191015T101259Z
URL:https://datatracker.ietf.org/meeting/106/materials/agenda-106-netmod-03
DESCRIPTION:Morning Session I\n
 \n
 Meetecho: http://www.meetecho.com/ietf106/netmod/\n
 \n
 Agenda https://datatracker.ietf.org/meeting/106/materials/agenda-106-netmod-03\n
 \n
 Session materials: https://datatracker.ietf.org/meeting/106/session/netmod\n
 \n
 See in schedule: https://datatracker.ietf.org/meeting/106/agenda#row-106-2019-11-19-tue-1000-ops-netmod\n
END:VEVENT
BEGIN:VEVENT
UID:ietf-106-11736-netmod
SUMMARY:netmod - Network Modeling
LOCATION:Padang
STATUS:CONFIRMED
CLASS:PUBLIC
DTSTART;TZID=Asia/Singapore:20191119T152000
DTEND;TZID=Asia/Singapore:20191119T165000
DTSTAMP:20191015T101330Z
URL:https://datatracker.ietf.org/meeting/106/materials/agenda-106-netmod-03
DESCRIPTION:Afternoon Session II\n
 \n
 Meetecho: http://www.meetecho.com/ietf106/netmod/\n
 \n
 Agenda https://datatracker.ietf.org/meeting/106/materials/agenda-106-netmod-03\n
 \n
 Session materials: https://datatracker.ietf.org/meeting/106/session/netmod\n
 \n
 See in schedule: https://datatracker.ietf.org/meeting/106/agenda#row-106-2019-11-19-tue-1520-ops-netmod\n
END:VEVENT
BEGIN:VEVENT
UID:ietf-106-11763-anima
SUMMARY:anima - Autonomic Networking Integrated Model and Approach
LOCATION:Sophia
STATUS:CONFIRMED
CLASS:PUBLIC
DTSTART;TZID=Asia/Singapore:20191119T171000
DTEND;TZID=Asia/Singapore:20191119T184000
DTSTAMP:20191018T084420Z
URL:https://datatracker.ietf.org/meeting/106/materials/agenda-106-anima-01
DESCRIPTION:Afternoon Session III\n
 \n
 Meetecho: http://www.meetecho.com/ietf106/anima/\n
 \n
 Agenda https://datatracker.ietf.org/meeting/106/materials/agenda-106-anima-01\n
 \n
 Session materials: https://datatracker.ietf.org/meeting/106/session/anima\n
 \n
 See in schedule: https://datatracker.ietf.org/meeting/106/agenda#row-106-2019-11-19-tue-1710-ops-anima\n
END:VEVENT
BEGIN:VEVENT
UID:ietf-106-11760-dnsop
SUMMARY:dnsop - Domain Name System Operations
LOCATION:Canning
STATUS:CONFIRMED
CLASS:PUBLIC
DTSTART;TZID=Asia/Singapore:20191119T171000
DTEND;TZID=Asia/Singapore:20191119T184000
DTSTAMP:20191018T084420Z
URL:https://datatracker.ietf.org/meeting/106/materials/agenda-106-dnsop-06
DESCRIPTION:Afternoon Session III\n
 \n
 Meetecho: http://www.meetecho.com/ietf106/dnsop/\n
 \n
 Agenda https://datatracker.ietf.org/meeting/106/materials/agenda-106-dnsop-06\n
 \n
 Session materials: https://datatracker.ietf.org/meeting/106/session/dnsop\n
 \n
 See in schedule: https://datatracker.ietf.org/meeting/106/agenda#row-106-2019-11-19-tue-1710-ops-dnsop\n
END:VEVENT
BEGIN:VEVENT
UID:ietf-106-11787-opsawg
SUMMARY:opsawg - Operations and Management Area Working Group (Combined OpsAWG / OpsAREA)
LOCATION:Collyer
STATUS:CONFIRMED
CLASS:PUBLIC
DTSTART;TZID=Asia/Singapore:20191120T100000
DTEND;TZID=Asia/Singapore:20191120T120000
DTSTAMP:20191015T101357Z
URL:https://datatracker.ietf.org/meeting/106/materials/agenda-106-opsawg-00
DESCRIPTION:Morning Session I\n
 Note: Combined OpsAWG / OpsAREA\n
 \n
 Meetecho: http://www.meetecho.com/ietf106/opsawg/\n
 \n
 Agenda https://datatracker.ietf.org/meeting/106/materials/agenda-106-opsawg-00\n
 \n
 Session materials: https://datatracker.ietf.org/meeting/106/session/opsawg\n
 \n
 See in schedule: https://datatracker.ietf.org/meeting/106/agenda#row-106-2019-11-20-wed-1000-ops-opsawg\n
END:VEVENT
BEGIN:VEVENT
UID:ietf-106-11815-bmwg
SUMMARY:bmwg - Benchmarking Methodology
LOCATION:Hullet
STATUS:CONFIRMED
CLASS:PUBLIC
DTSTART;TZID=Asia/Singapore:20191120T133000
DTEND;TZID=Asia/Singapore:20191120T150000
DTSTAMP:20191015T101410Z
URL:https://datatracker.ietf.org/meeting/106/materials/agenda-106-bmwg-02
DESCRIPTION:Afternoon Session I\n
 \n
 Meetecho: http://www.meetecho.com/ietf106/bmwg/\n
 \n
 Agenda https://datatracker.ietf.org/meeting/106/materials/agenda-106-bmwg-02\n
 \n
 Session materials: https://datatracker.ietf.org/meeting/106/session/bmwg\n
 \n
 See in schedule: https://datatracker.ietf.org/meeting/106/agenda#row-106-2019-11-20-wed-1330-ops-bmwg\n
END:VEVENT
BEGIN:VEVENT
UID:ietf-106-11840-anima
SUMMARY:anima - Autonomic Networking Integrated Model and Approach
LOCATION:Hullet
STATUS:CONFIRMED
CLASS:PUBLIC
DTSTART;TZID=Asia/Singapore:20191120T152000
DTEND;TZID=Asia/Singapore:20191120T165000
DTSTAMP:20191016T001419Z
URL:https://datatracker.ietf.org/meeting/106/materials/agenda-106-anima-01
DESCRIPTION:Afternoon Session II\n
 \n
 Meetecho: http://www.meetecho.com/ietf106/anima/\n
 \n
 Agenda https://datatracker.ietf.org/meeting/106/materials/agenda-106-anima-01\n
 \n
 Session materials: https://datatracker.ietf.org/meeting/106/session/anima\n
 \n
 See in schedule: https://datatracker.ietf.org/meeting/106/agenda#row-106-2019-11-20-wed-1520-ops-anima\n
END:VEVENT
BEGIN:VEVENT
UID:ietf-106-11841-sidrops
SUMMARY:sidrops - SIDR Operations
LOCATION:VIP A
STATUS:CONFIRMED
CLASS:PUBLIC
DTSTART;TZID=Asia/Singapore:20191120T152000
DTEND;TZID=Asia/Singapore:20191120T165000
DTSTAMP:20191016T001419Z
URL:https://datatracker.ietf.org/meeting/106/materials/agenda-106-sidrops-01
DESCRIPTION:Afternoon Session II\n
 \n
 Meetecho: http://www.meetecho.com/ietf106/sidrops/\n
 \n
 Agenda https://datatracker.ietf.org/meeting/106/materials/agenda-106-sidrops-01\n
 \n
 Session materials: https://datatracker.ietf.org/meeting/106/session/sidrops\n
 \n
 See in schedule: https://datatracker.ietf.org/meeting/106/agenda#row-106-2019-11-20-wed-1520-ops-sidrops\n
END:VEVENT
BEGIN:VEVENT
UID:ietf-106-11862-mops
SUMMARY:mops - Media OPerationS
LOCATION:Collyer
STATUS:CONFIRMED
CLASS:PUBLIC
DTSTART;TZID=Asia/Singapore:20191121T100000
DTEND;TZID=Asia/Singapore:20191121T120000
DTSTAMP:20191015T101444Z
URL:https://datatracker.ietf.org/meeting/106/materials/agenda-106-mops-04
DESCRIPTION:Morning Session I\n
 \n
 Meetecho: http://www.meetecho.com/ietf106/mops/\n
 \n
 Agenda https://datatracker.ietf.org/meeting/106/materials/agenda-106-mops-04\n
 \n
 Session materials: https://datatracker.ietf.org/meeting/106/session/mops\n
 \n
 See in schedule: https://datatracker.ietf.org/meeting/106/agenda#row-106-2019-11-21-thu-1000-ops-mops\n
END:VEVENT
BEGIN:VEVENT
UID:ietf-106-11886-dnsop
SUMMARY:dnsop - Domain Name System Operations
LOCATION:Padang
STATUS:CONFIRMED
CLASS:PUBLIC
DTSTART;TZID=Asia/Singapore:20191121T133000
DTEND;TZID=Asia/Singapore:20191121T153000
DTSTAMP:20191015T101457Z
URL:https://datatracker.ietf.org/meeting/106/materials/agenda-106-dnsop-06
DESCRIPTION:Afternoon Session I\n
 \n
 Meetecho: http://www.meetecho.com/ietf106/dnsop/\n
 \n
 Agenda https://datatracker.ietf.org/meeting/106/materials/agenda-106-dnsop-06\n
 \n
 Session materials: https://datatracker.ietf.org/meeting/106/session/dnsop\n
 \n
 See in schedule: https://datatracker.ietf.org/meeting/106/agenda#row-106-2019-11-21-thu-1330-ops-dnsop\n
END:VEVENT
BEGIN:VEVENT
UID:ietf-106-11917-mboned
SUMMARY:mboned - MBONE Deployment
LOCATION:Orchard
STATUS:CONFIRMED
CLASS:PUBLIC
DTSTART;TZID=Asia/Singapore:20191121T155000
DTEND;TZID=Asia/Singapore:20191121T172000
DTSTAMP:20191015T101510Z
URL:https://datatracker.ietf.org/meeting/106/materials/agenda-106-mboned-02
DESCRIPTION:Afternoon Session II\n
 \n
 Meetecho: http://www.meetecho.com/ietf106/mboned/\n
 \n
 Agenda https://datatracker.ietf.org/meeting/106/materials/agenda-106-mboned-02\n
 \n
 Session materials: https://datatracker.ietf.org/meeting/106/session/mboned\n
 \n
 See in schedule: https://datatracker.ietf.org/meeting/106/agenda#row-106-2019-11-21-thu-1550-ops-mboned\n
END:VEVENT
BEGIN:VEVENT
UID:ietf-106-11985-grow
SUMMARY:grow - Global Routing Operations
LOCATION:Canning
STATUS:CONFIRMED
CLASS:PUBLIC
DTSTART;TZID=Asia/Singapore:20191122T122000
DTEND;TZID=Asia/Singapore:20191122T135000
DTSTAMP:20191015T101556Z
URL:https://datatracker.ietf.org/meeting/106/materials/agenda-106-grow-01
DESCRIPTION:Morning Session II\n
 \n
 Meetecho: http://www.meetecho.com/ietf106/grow/\n
 \n
 Agenda https://datatracker.ietf.org/meeting/106/materials/agenda-106-grow-01\n
 \n
 Session materials: https://datatracker.ietf.org/meeting/106/session/grow\n
 \n
 See in schedule: https://datatracker.ietf.org/meeting/106/agenda#row-106-2019-11-22-fri-1220-ops-grow\n
END:VEVENT
END:VCALENDAR
