BEGIN:VCALENDAR
VERSION:2.0
METHOD:PUBLISH
PRODID:-//IETF//datatracker.ietf.org ical agenda//EN
BEGIN:VTIMEZONE
TZID:Asia/Singapore
X-LIC-LOCATION:Asia/Singapore
BEGIN:STANDARD
TZOFFSETFROM:+065525
TZOFFSETTO:+065525
TZNAME:SMT
DTSTART:19010101T000000
RDATE:19010101T000000
END:STANDARD
BEGIN:STANDARD
TZOFFSETFROM:+065525
TZOFFSETTO:+0700
TZNAME:MALT
DTSTART:19050601T000000
RDATE:19050601T000000
END:STANDARD
BEGIN:DAYLIGHT
TZOFFSETFROM:+0700
TZOFFSETTO:+0720
TZNAME:MALST
DTSTART:19330101T000000
RDATE:19330101T000000
END:DAYLIGHT
BEGIN:STANDARD
TZOFFSETFROM:+0720
TZOFFSETTO:+0720
TZNAME:MALT
DTSTART:19360101T000000
RDATE:19360101T000000
END:STANDARD
BEGIN:STANDARD
TZOFFSETFROM:+0720
TZOFFSETTO:+0730
TZNAME:MALT
DTSTART:19410901T000000
RDATE:19410901T000000
END:STANDARD
BEGIN:STANDARD
TZOFFSETFROM:+0730
TZOFFSETTO:+0900
TZNAME:JST
DTSTART:19420216T000000
RDATE:19420216T000000
END:STANDARD
BEGIN:STANDARD
TZOFFSETFROM:+0900
TZOFFSETTO:+0730
TZNAME:MALT
DTSTART:19450912T000000
RDATE:19450912T000000
END:STANDARD
BEGIN:STANDARD
TZOFFSETFROM:+0730
TZOFFSETTO:+0730
TZNAME:SGT
DTSTART:19650809T000000
RDATE:19650809T000000
END:STANDARD
BEGIN:STANDARD
TZOFFSETFROM:+0730
TZOFFSETTO:+0800
TZNAME:SGT
DTSTART:19820101T000000
RDATE:19820101T000000
END:STANDARD
END:VTIMEZONE
BEGIN:VEVENT
UID:ietf-106-11586-spring
SUMMARY:spring - Source Packet Routing in Networking
LOCATION:Padang
STATUS:CONFIRMED
CLASS:PUBLIC
DTSTART;TZID=Asia/Singapore:20191118T100000
DTEND;TZID=Asia/Singapore:20191118T120000
DTSTAMP:20191015T101201Z
URL:https://datatracker.ietf.org/meeting/106/materials/agenda-106-spring-15
DESCRIPTION:Morning Session I\n
 \n
 Meetecho: http://www.meetecho.com/ietf106/spring/\n
 \n
 Agenda https://datatracker.ietf.org/meeting/106/materials/agenda-106-spring-15\n
 \n
 Session materials: https://datatracker.ietf.org/meeting/106/session/spring\n
 \n
 See in schedule: https://datatracker.ietf.org/meeting/106/agenda#row-106-2019-11-18-mon-1000-rtg-spring\n
END:VEVENT
BEGIN:VEVENT
UID:ietf-106-11612-lsr
SUMMARY:lsr - Link State Routing
LOCATION:Collyer
STATUS:CONFIRMED
CLASS:PUBLIC
DTSTART;TZID=Asia/Singapore:20191118T133000
DTEND;TZID=Asia/Singapore:20191118T153000
DTSTAMP:20191015T101218Z
URL:https://datatracker.ietf.org/meeting/106/materials/agenda-106-lsr-03
DESCRIPTION:Afternoon Session I\n
 \n
 Meetecho: http://www.meetecho.com/ietf106/lsr/\n
 \n
 Agenda https://datatracker.ietf.org/meeting/106/materials/agenda-106-lsr-03\n
 \n
 Session materials: https://datatracker.ietf.org/meeting/106/session/lsr\n
 \n
 See in schedule: https://datatracker.ietf.org/meeting/106/agenda#row-106-2019-11-18-mon-1330-rtg-lsr\n
END:VEVENT
BEGIN:VEVENT
UID:ietf-106-11638-mpls
SUMMARY:mpls - Multiprotocol Label Switching
LOCATION:Sophia
STATUS:CONFIRMED
CLASS:PUBLIC
DTSTART;TZID=Asia/Singapore:20191118T155000
DTEND;TZID=Asia/Singapore:20191118T175000
DTSTAMP:20191015T101234Z
URL:https://datatracker.ietf.org/meeting/106/materials/agenda-106-mpls-03
DESCRIPTION:Afternoon Session II\n
 \n
 Meetecho: http://www.meetecho.com/ietf106/mpls/\n
 \n
 Agenda https://datatracker.ietf.org/meeting/106/materials/agenda-106-mpls-03\n
 \n
 Session materials: https://datatracker.ietf.org/meeting/106/session/mpls\n
 \n
 See in schedule: https://datatracker.ietf.org/meeting/106/agenda#row-106-2019-11-18-mon-1550-rtg-mpls\n
END:VEVENT
BEGIN:VEVENT
UID:ietf-106-11642-roll
SUMMARY:roll - Routing Over Low power and Lossy networks
LOCATION:Orchard
STATUS:CONFIRMED
CLASS:PUBLIC
DTSTART;TZID=Asia/Singapore:20191118T155000
DTEND;TZID=Asia/Singapore:20191118T175000
DTSTAMP:20191015T101234Z
URL:https://datatracker.ietf.org/meeting/106/materials/agenda-106-roll-01
DESCRIPTION:Afternoon Session II\n
 \n
 Meetecho: http://www.meetecho.com/ietf106/roll/\n
 \n
 Agenda https://datatracker.ietf.org/meeting/106/materials/agenda-106-roll-01\n
 \n
 Session materials: https://datatracker.ietf.org/meeting/106/session/roll\n
 \n
 See in schedule: https://datatracker.ietf.org/meeting/106/agenda#row-106-2019-11-18-mon-1550-rtg-roll\n
END:VEVENT
BEGIN:VEVENT
UID:ietf-106-11662-idr
SUMMARY:idr - Inter-Domain Routing
LOCATION:Collyer
STATUS:CONFIRMED
CLASS:PUBLIC
DTSTART;TZID=Asia/Singapore:20191118T181000
DTEND;TZID=Asia/Singapore:20191118T191000
DTSTAMP:20191015T101248Z
URL:https://datatracker.ietf.org/meeting/106/materials/agenda-106-idr-02
DESCRIPTION:Afternoon Session III\n
 \n
 Meetecho: http://www.meetecho.com/ietf106/idr/\n
 \n
 Agenda https://datatracker.ietf.org/meeting/106/materials/agenda-106-idr-02\n
 \n
 Session materials: https://datatracker.ietf.org/meeting/106/session/idr\n
 \n
 See in schedule: https://datatracker.ietf.org/meeting/106/agenda#row-106-2019-11-18-mon-1810-rtg-idr\n
END:VEVENT
BEGIN:VEVENT
UID:ietf-106-11665-nvo3
SUMMARY:nvo3 - Network Virtualization Overlays
LOCATION:Hullet
STATUS:CONFIRMED
CLASS:PUBLIC
DTSTART;TZID=Asia/Singapore:20191118T181000
DTEND;TZID=Asia/Singapore:20191118T191000
DTSTAMP:20191015T101248Z
URL:https://datatracker.ietf.org/meeting/106/materials/agenda-106-nvo3-01
DESCRIPTION:Afternoon Session III\n
 \n
 Meetecho: http://www.meetecho.com/ietf106/nvo3/\n
 \n
 Agenda https://datatracker.ietf.org/meeting/106/materials/agenda-106-nvo3-01\n
 \n
 Session materials: https://datatracker.ietf.org/meeting/106/session/nvo3\n
 \n
 See in schedule: https://datatracker.ietf.org/meeting/106/agenda#row-106-2019-11-18-mon-1810-rtg-nvo3\n
END:VEVENT
BEGIN:VEVENT
UID:ietf-106-11690-lisp
SUMMARY:lisp - Locator/ID Separation Protocol
LOCATION:Hullet
STATUS:CONFIRMED
CLASS:PUBLIC
DTSTART;TZID=Asia/Singapore:20191119T100000
DTEND;TZID=Asia/Singapore:20191119T120000
DTSTAMP:20191015T101259Z
URL:https://datatracker.ietf.org/meeting/106/materials/agenda-106-lisp-00
DESCRIPTION:Morning Session I\n
 \n
 Meetecho: http://www.meetecho.com/ietf106/lisp/\n
 \n
 Agenda https://datatracker.ietf.org/meeting/106/materials/agenda-106-lisp-00\n
 \n
 Session materials: https://datatracker.ietf.org/meeting/106/session/lisp\n
 \n
 See in schedule: https://datatracker.ietf.org/meeting/106/agenda#row-106-2019-11-19-tue-1000-rtg-lisp\n
END:VEVENT
BEGIN:VEVENT
UID:ietf-106-11689-roll
SUMMARY:roll - Routing Over Low power and Lossy networks
LOCATION:Olivia
STATUS:CONFIRMED
CLASS:PUBLIC
DTSTART;TZID=Asia/Singapore:20191119T100000
DTEND;TZID=Asia/Singapore:20191119T120000
DTSTAMP:20191015T101259Z
URL:https://datatracker.ietf.org/meeting/106/materials/agenda-106-roll-01
DESCRIPTION:Morning Session I\n
 \n
 Meetecho: http://www.meetecho.com/ietf106/roll/\n
 \n
 Agenda https://datatracker.ietf.org/meeting/106/materials/agenda-106-roll-01\n
 \n
 Session materials: https://datatracker.ietf.org/meeting/106/session/roll\n
 \n
 See in schedule: https://datatracker.ietf.org/meeting/106/agenda#row-106-2019-11-19-tue-1000-rtg-roll\n
END:VEVENT
BEGIN:VEVENT
UID:ietf-106-11716-babel
SUMMARY:babel - Babel routing protocol
LOCATION:VIP A
STATUS:CONFIRMED
CLASS:PUBLIC
DTSTART;TZID=Asia/Singapore:20191119T133000
DTEND;TZID=Asia/Singapore:20191119T150000
DTSTAMP:20191015T101315Z
URL:https://datatracker.ietf.org/meeting/106/materials/agenda-106-babel-00
DESCRIPTION:Afternoon Session I\n
 \n
 Meetecho: http://www.meetecho.com/ietf106/babel/\n
 \n
 Agenda https://datatracker.ietf.org/meeting/106/materials/agenda-106-babel-00\n
 \n
 Session materials: https://datatracker.ietf.org/meeting/106/session/babel\n
 \n
 See in schedule: https://datatracker.ietf.org/meeting/106/agenda#row-106-2019-11-19-tue-1330-rtg-babel\n
END:VEVENT
BEGIN:VEVENT
UID:ietf-106-11710-lsvr
SUMMARY:lsvr - Link State Vector Routing
LOCATION:Canning
STATUS:CONFIRMED
CLASS:PUBLIC
DTSTART;TZID=Asia/Singapore:20191119T133000
DTEND;TZID=Asia/Singapore:20191119T150000
DTSTAMP:20191015T101315Z
URL:https://datatracker.ietf.org/meeting/106/materials/agenda-106-lsvr-01
DESCRIPTION:Afternoon Session I\n
 \n
 Meetecho: http://www.meetecho.com/ietf106/lsvr/\n
 \n
 Agenda https://datatracker.ietf.org/meeting/106/materials/agenda-106-lsvr-01\n
 \n
 Session materials: https://datatracker.ietf.org/meeting/106/session/lsvr\n
 \n
 See in schedule: https://datatracker.ietf.org/meeting/106/agenda#row-106-2019-11-19-tue-1330-rtg-lsvr\n
END:VEVENT
BEGIN:VEVENT
UID:ietf-106-11712-teas
SUMMARY:teas - Traffic Engineering Architecture and Signaling
LOCATION:Collyer
STATUS:CONFIRMED
CLASS:PUBLIC
DTSTART;TZID=Asia/Singapore:20191119T133000
DTEND;TZID=Asia/Singapore:20191119T150000
DTSTAMP:20191015T101315Z
URL:https://datatracker.ietf.org/meeting/106/materials/agenda-106-teas-05
DESCRIPTION:Afternoon Session I\n
 \n
 Meetecho: http://www.meetecho.com/ietf106/teas/\n
 \n
 Agenda https://datatracker.ietf.org/meeting/106/materials/agenda-106-teas-05\n
 \n
 Session materials: https://datatracker.ietf.org/meeting/106/session/teas\n
 \n
 See in schedule: https://datatracker.ietf.org/meeting/106/agenda#row-106-2019-11-19-tue-1330-rtg-teas\n
END:VEVENT
BEGIN:VEVENT
UID:ietf-106-11735-bess
SUMMARY:bess - BGP Enabled ServiceS
LOCATION:Canning
STATUS:CONFIRMED
CLASS:PUBLIC
DTSTART;TZID=Asia/Singapore:20191119T152000
DTEND;TZID=Asia/Singapore:20191119T165000
DTSTAMP:20191015T101330Z
URL:https://datatracker.ietf.org/meeting/106/materials/agenda-106-bess-sessa-01
DESCRIPTION:Afternoon Session II\n
 \n
 Meetecho: http://www.meetecho.com/ietf106/bess/\n
 \n
 Agenda https://datatracker.ietf.org/meeting/106/materials/agenda-106-bess-sessa-01\n
 \n
 Session materials: https://datatracker.ietf.org/meeting/106/session/bess\n
 \n
 See in schedule: https://datatracker.ietf.org/meeting/106/agenda#row-106-2019-11-19-tue-1520-rtg-bess\n
END:VEVENT
BEGIN:VEVENT
UID:ietf-106-11766-bfd
SUMMARY:bfd - Bidirectional Forwarding Detection
LOCATION:VIP A
STATUS:CONFIRMED
CLASS:PUBLIC
DTSTART;TZID=Asia/Singapore:20191119T171000
DTEND;TZID=Asia/Singapore:20191119T184000
DTSTAMP:20191018T084420Z
URL:https://datatracker.ietf.org/meeting/106/materials/agenda-106-bfd-01
DESCRIPTION:Afternoon Session III\n
 \n
 Meetecho: http://www.meetecho.com/ietf106/bfd/\n
 \n
 Agenda https://datatracker.ietf.org/meeting/106/materials/agenda-106-bfd-01\n
 \n
 Session materials: https://datatracker.ietf.org/meeting/106/session/bfd\n
 \n
 See in schedule: https://datatracker.ietf.org/meeting/106/agenda#row-106-2019-11-19-tue-1710-rtg-bfd\n
END:VEVENT
BEGIN:VEVENT
UID:ietf-106-11762-teas
SUMMARY:teas - Traffic Engineering Architecture and Signaling
LOCATION:Collyer
STATUS:CONFIRMED
CLASS:PUBLIC
DTSTART;TZID=Asia/Singapore:20191119T171000
DTEND;TZID=Asia/Singapore:20191119T184000
DTSTAMP:20191018T084420Z
URL:https://datatracker.ietf.org/meeting/106/materials/agenda-106-teas-05
DESCRIPTION:Afternoon Session III\n
 \n
 Meetecho: http://www.meetecho.com/ietf106/teas/\n
 \n
 Agenda https://datatracker.ietf.org/meeting/106/materials/agenda-106-teas-05\n
 \n
 Session materials: https://datatracker.ietf.org/meeting/106/session/teas\n
 \n
 See in schedule: https://datatracker.ietf.org/meeting/106/agenda#row-106-2019-11-19-tue-1710-rtg-teas\n
END:VEVENT
BEGIN:VEVENT
UID:ietf-106-11785-raw
SUMMARY:raw - Reliable and Available Wireless
LOCATION:Canning
STATUS:CONFIRMED
CLASS:PUBLIC
DTSTART;TZID=Asia/Singapore:20191120T100000
DTEND;TZID=Asia/Singapore:20191120T120000
DTSTAMP:20191015T101357Z
URL:https://datatracker.ietf.org/meeting/106/materials/agenda-106-raw-01
DESCRIPTION:Morning Session I\n
 \n
 Meetecho: http://www.meetecho.com/ietf106/raw/\n
 \n
 Agenda https://datatracker.ietf.org/meeting/106/materials/agenda-106-raw-01\n
 \n
 Session materials: https://datatracker.ietf.org/meeting/106/session/raw\n
 \n
 See in schedule: https://datatracker.ietf.org/meeting/106/agenda#row-106-2019-11-20-wed-1000-rtg-raw\n
END:VEVENT
BEGIN:VEVENT
UID:ietf-106-11811-rtgwg
SUMMARY:rtgwg - Routing Area Working Group
LOCATION:Padang
STATUS:CONFIRMED
CLASS:PUBLIC
DTSTART;TZID=Asia/Singapore:20191120T133000
DTEND;TZID=Asia/Singapore:20191120T150000
DTSTAMP:20191015T101410Z
URL:https://datatracker.ietf.org/meeting/106/materials/agenda-106-rtgwg-13
DESCRIPTION:Afternoon Session I\n
 \n
 Meetecho: http://www.meetecho.com/ietf106/rtgwg/\n
 \n
 Agenda https://datatracker.ietf.org/meeting/106/materials/agenda-106-rtgwg-13\n
 \n
 Session materials: https://datatracker.ietf.org/meeting/106/session/rtgwg\n
 \n
 See in schedule: https://datatracker.ietf.org/meeting/106/agenda#row-106-2019-11-20-wed-1330-rtg-rtgwg\n
END:VEVENT
BEGIN:VEVENT
UID:ietf-106-11839-bess
SUMMARY:bess - BGP Enabled ServiceS
LOCATION:Olivia
STATUS:CONFIRMED
CLASS:PUBLIC
DTSTART;TZID=Asia/Singapore:20191120T152000
DTEND;TZID=Asia/Singapore:20191120T165000
DTSTAMP:20191016T001419Z
URL:https://datatracker.ietf.org/meeting/106/materials/agenda-106-bess-sessb-01
DESCRIPTION:Afternoon Session II\n
 \n
 Meetecho: http://www.meetecho.com/ietf106/bess/\n
 \n
 Agenda https://datatracker.ietf.org/meeting/106/materials/agenda-106-bess-sessb-01\n
 \n
 Session materials: https://datatracker.ietf.org/meeting/106/session/bess\n
 \n
 See in schedule: https://datatracker.ietf.org/meeting/106/agenda#row-106-2019-11-20-wed-1520-rtg-bess\n
END:VEVENT
BEGIN:VEVENT
UID:ietf-106-11842-manet
SUMMARY:manet - Mobile Ad-hoc Networks
LOCATION:Orchard
STATUS:CONFIRMED
CLASS:PUBLIC
DTSTART;TZID=Asia/Singapore:20191120T152000
DTEND;TZID=Asia/Singapore:20191120T165000
DTSTAMP:20191016T001419Z
URL:https://datatracker.ietf.org/meeting/106/materials/agenda-106-manet-00
DESCRIPTION:Afternoon Session II\n
 \n
 Meetecho: http://www.meetecho.com/ietf106/manet/\n
 \n
 Agenda https://datatracker.ietf.org/meeting/106/materials/agenda-106-manet-00\n
 \n
 Session materials: https://datatracker.ietf.org/meeting/106/session/manet\n
 \n
 See in schedule: https://datatracker.ietf.org/meeting/106/agenda#row-106-2019-11-20-wed-1520-rtg-manet\n
END:VEVENT
BEGIN:VEVENT
UID:ietf-106-11867-bier
SUMMARY:bier - Bit Indexed Explicit Replication
LOCATION:Orchard
STATUS:CONFIRMED
CLASS:PUBLIC
DTSTART;TZID=Asia/Singapore:20191121T100000
DTEND;TZID=Asia/Singapore:20191121T120000
DTSTAMP:20191015T101444Z
URL:https://datatracker.ietf.org/meeting/106/materials/agenda-106-bier-02
DESCRIPTION:Morning Session I\n
 \n
 Meetecho: http://www.meetecho.com/ietf106/bier/\n
 \n
 Agenda https://datatracker.ietf.org/meeting/106/materials/agenda-106-bier-02\n
 \n
 Session materials: https://datatracker.ietf.org/meeting/106/session/bier\n
 \n
 See in schedule: https://datatracker.ietf.org/meeting/106/agenda#row-106-2019-11-21-thu-1000-rtg-bier\n
END:VEVENT
BEGIN:VEVENT
UID:ietf-106-11865-ccamp
SUMMARY:ccamp - Common Control and Measurement Plane
LOCATION:Hullet
STATUS:CONFIRMED
CLASS:PUBLIC
DTSTART;TZID=Asia/Singapore:20191121T100000
DTEND;TZID=Asia/Singapore:20191121T120000
DTSTAMP:20191015T101444Z
URL:https://datatracker.ietf.org/meeting/106/materials/agenda-106-ccamp-03
DESCRIPTION:Morning Session I\n
 \n
 Meetecho: http://www.meetecho.com/ietf106/ccamp/\n
 \n
 Agenda https://datatracker.ietf.org/meeting/106/materials/agenda-106-ccamp-03\n
 \n
 Session materials: https://datatracker.ietf.org/meeting/106/session/ccamp\n
 \n
 See in schedule: https://datatracker.ietf.org/meeting/106/agenda#row-106-2019-11-21-thu-1000-rtg-ccamp\n
END:VEVENT
BEGIN:VEVENT
UID:ietf-106-11892-pim
SUMMARY:pim - Protocols for IP Multicast
LOCATION:Orchard
STATUS:CONFIRMED
CLASS:PUBLIC
DTSTART;TZID=Asia/Singapore:20191121T133000
DTEND;TZID=Asia/Singapore:20191121T153000
DTSTAMP:20191015T101457Z
URL:https://datatracker.ietf.org/meeting/106/materials/agenda-106-pim-04
DESCRIPTION:Afternoon Session I\n
 \n
 Meetecho: http://www.meetecho.com/ietf106/pim/\n
 \n
 Agenda https://datatracker.ietf.org/meeting/106/materials/agenda-106-pim-04\n
 \n
 Session materials: https://datatracker.ietf.org/meeting/106/session/pim\n
 \n
 See in schedule: https://datatracker.ietf.org/meeting/106/agenda#row-106-2019-11-21-thu-1330-rtg-pim\n
END:VEVENT
BEGIN:VEVENT
UID:ietf-106-11889-rift
SUMMARY:rift - Routing In Fat Trees
LOCATION:Olivia
STATUS:CONFIRMED
CLASS:PUBLIC
DTSTART;TZID=Asia/Singapore:20191121T133000
DTEND;TZID=Asia/Singapore:20191121T153000
DTSTAMP:20191015T101457Z
URL:https://datatracker.ietf.org/meeting/106/materials/agenda-106-rift-01
DESCRIPTION:Afternoon Session I\n
 \n
 Meetecho: http://www.meetecho.com/ietf106/rift/\n
 \n
 Agenda https://datatracker.ietf.org/meeting/106/materials/agenda-106-rift-01\n
 \n
 Session materials: https://datatracker.ietf.org/meeting/106/session/rift\n
 \n
 See in schedule: https://datatracker.ietf.org/meeting/106/agenda#row-106-2019-11-21-thu-1330-rtg-rift\n
END:VEVENT
BEGIN:VEVENT
UID:ietf-106-11912-detnet
SUMMARY:detnet - Deterministic Networking
LOCATION:Collyer
STATUS:CONFIRMED
CLASS:PUBLIC
DTSTART;TZID=Asia/Singapore:20191121T155000
DTEND;TZID=Asia/Singapore:20191121T172000
DTSTAMP:20191015T101510Z
URL:https://datatracker.ietf.org/meeting/106/materials/agenda-106-detnet-06
DESCRIPTION:Afternoon Session II\n
 \n
 Meetecho: http://www.meetecho.com/ietf106/detnet/\n
 \n
 Agenda https://datatracker.ietf.org/meeting/106/materials/agenda-106-detnet-06\n
 \n
 Session materials: https://datatracker.ietf.org/meeting/106/session/detnet\n
 \n
 See in schedule: https://datatracker.ietf.org/meeting/106/agenda#row-106-2019-11-21-thu-1550-rtg-detnet\n
END:VEVENT
BEGIN:VEVENT
UID:ietf-106-11910-spring
SUMMARY:spring - Source Packet Routing in Networking
LOCATION:Canning
STATUS:CONFIRMED
CLASS:PUBLIC
DTSTART;TZID=Asia/Singapore:20191121T155000
DTEND;TZID=Asia/Singapore:20191121T172000
DTSTAMP:20191015T101510Z
URL:https://datatracker.ietf.org/meeting/106/materials/agenda-106-spring-15
DESCRIPTION:Afternoon Session II\n
 \n
 Meetecho: http://www.meetecho.com/ietf106/spring/\n
 \n
 Agenda https://datatracker.ietf.org/meeting/106/materials/agenda-106-spring-15\n
 \n
 Session materials: https://datatracker.ietf.org/meeting/106/session/spring\n
 \n
 See in schedule: https://datatracker.ietf.org/meeting/106/agenda#row-106-2019-11-21-thu-1550-rtg-spring\n
END:VEVENT
BEGIN:VEVENT
UID:ietf-106-11937-detnet
SUMMARY:detnet - Deterministic Networking
LOCATION:Collyer
STATUS:CONFIRMED
CLASS:PUBLIC
DTSTART;TZID=Asia/Singapore:20191121T174000
DTEND;TZID=Asia/Singapore:20191121T184000
DTSTAMP:20191015T101523Z
URL:https://datatracker.ietf.org/meeting/106/materials/agenda-106-detnet-06
DESCRIPTION:Afternoon Session III\n
 \n
 Meetecho: http://www.meetecho.com/ietf106/detnet/\n
 \n
 Agenda https://datatracker.ietf.org/meeting/106/materials/agenda-106-detnet-06\n
 \n
 Session materials: https://datatracker.ietf.org/meeting/106/session/detnet\n
 \n
 See in schedule: https://datatracker.ietf.org/meeting/106/agenda#row-106-2019-11-21-thu-1740-rtg-detnet\n
END:VEVENT
BEGIN:VEVENT
UID:ietf-106-11939-idr
SUMMARY:idr - Inter-Domain Routing
LOCATION:Olivia
STATUS:CONFIRMED
CLASS:PUBLIC
DTSTART;TZID=Asia/Singapore:20191121T174000
DTEND;TZID=Asia/Singapore:20191121T184000
DTSTAMP:20191015T101523Z
URL:https://datatracker.ietf.org/meeting/106/materials/agenda-106-idr-02
DESCRIPTION:Afternoon Session III\n
 \n
 Meetecho: http://www.meetecho.com/ietf106/idr/\n
 \n
 Agenda https://datatracker.ietf.org/meeting/106/materials/agenda-106-idr-02\n
 \n
 Session materials: https://datatracker.ietf.org/meeting/106/session/idr\n
 \n
 See in schedule: https://datatracker.ietf.org/meeting/106/agenda#row-106-2019-11-21-thu-1740-rtg-idr\n
END:VEVENT
BEGIN:VEVENT
UID:ietf-106-11964-pce
SUMMARY:pce - Path Computation Element
LOCATION:Olivia
STATUS:CONFIRMED
CLASS:PUBLIC
DTSTART;TZID=Asia/Singapore:20191122T100000
DTEND;TZID=Asia/Singapore:20191122T120000
DTSTAMP:20191015T101533Z
URL:https://datatracker.ietf.org/meeting/106/materials/agenda-106-pce-05
DESCRIPTION:Morning Session I\n
 \n
 Meetecho: http://www.meetecho.com/ietf106/pce/\n
 \n
 Agenda https://datatracker.ietf.org/meeting/106/materials/agenda-106-pce-05\n
 \n
 Session materials: https://datatracker.ietf.org/meeting/106/session/pce\n
 \n
 See in schedule: https://datatracker.ietf.org/meeting/106/agenda#row-106-2019-11-22-fri-1000-rtg-pce\n
END:VEVENT
BEGIN:VEVENT
UID:ietf-106-11961-rtgwg
SUMMARY:rtgwg - Routing Area Working Group
LOCATION:Padang
STATUS:CONFIRMED
CLASS:PUBLIC
DTSTART;TZID=Asia/Singapore:20191122T100000
DTEND;TZID=Asia/Singapore:20191122T120000
DTSTAMP:20191015T101533Z
URL:https://datatracker.ietf.org/meeting/106/materials/agenda-106-rtgwg-13
DESCRIPTION:Morning Session I\n
 \n
 Meetecho: http://www.meetecho.com/ietf106/rtgwg/\n
 \n
 Agenda https://datatracker.ietf.org/meeting/106/materials/agenda-106-rtgwg-13\n
 \n
 Session materials: https://datatracker.ietf.org/meeting/106/session/rtgwg\n
 \n
 See in schedule: https://datatracker.ietf.org/meeting/106/agenda#row-106-2019-11-22-fri-1000-rtg-rtgwg\n
END:VEVENT
BEGIN:VEVENT
UID:ietf-106-11986-lsr
SUMMARY:lsr - Link State Routing
LOCATION:Padang
STATUS:CONFIRMED
CLASS:PUBLIC
DTSTART;TZID=Asia/Singapore:20191122T122000
DTEND;TZID=Asia/Singapore:20191122T135000
DTSTAMP:20191015T101556Z
URL:https://datatracker.ietf.org/meeting/106/materials/agenda-106-lsr-03
DESCRIPTION:Morning Session II\n
 \n
 Meetecho: http://www.meetecho.com/ietf106/lsr/\n
 \n
 Agenda https://datatracker.ietf.org/meeting/106/materials/agenda-106-lsr-03\n
 \n
 Session materials: https://datatracker.ietf.org/meeting/106/session/lsr\n
 \n
 See in schedule: https://datatracker.ietf.org/meeting/106/agenda#row-106-2019-11-22-fri-1220-rtg-lsr\n
END:VEVENT
END:VCALENDAR
