BEGIN:VCALENDAR
VERSION:2.0
METHOD:PUBLISH
PRODID:-//IETF//datatracker.ietf.org ical agenda//EN
BEGIN:VTIMEZONE
TZID:Asia/Singapore
X-LIC-LOCATION:Asia/Singapore
BEGIN:STANDARD
TZOFFSETFROM:+065525
TZOFFSETTO:+065525
TZNAME:SMT
DTSTART:19010101T000000
RDATE:19010101T000000
END:STANDARD
BEGIN:STANDARD
TZOFFSETFROM:+065525
TZOFFSETTO:+0700
TZNAME:MALT
DTSTART:19050601T000000
RDATE:19050601T000000
END:STANDARD
BEGIN:DAYLIGHT
TZOFFSETFROM:+0700
TZOFFSETTO:+0720
TZNAME:MALST
DTSTART:19330101T000000
RDATE:19330101T000000
END:DAYLIGHT
BEGIN:STANDARD
TZOFFSETFROM:+0720
TZOFFSETTO:+0720
TZNAME:MALT
DTSTART:19360101T000000
RDATE:19360101T000000
END:STANDARD
BEGIN:STANDARD
TZOFFSETFROM:+0720
TZOFFSETTO:+0730
TZNAME:MALT
DTSTART:19410901T000000
RDATE:19410901T000000
END:STANDARD
BEGIN:STANDARD
TZOFFSETFROM:+0730
TZOFFSETTO:+0900
TZNAME:JST
DTSTART:19420216T000000
RDATE:19420216T000000
END:STANDARD
BEGIN:STANDARD
TZOFFSETFROM:+0900
TZOFFSETTO:+0730
TZNAME:MALT
DTSTART:19450912T000000
RDATE:19450912T000000
END:STANDARD
BEGIN:STANDARD
TZOFFSETFROM:+0730
TZOFFSETTO:+0730
TZNAME:SGT
DTSTART:19650809T000000
RDATE:19650809T000000
END:STANDARD
BEGIN:STANDARD
TZOFFSETFROM:+0730
TZOFFSETTO:+0800
TZNAME:SGT
DTSTART:19820101T000000
RDATE:19820101T000000
END:STANDARD
END:VTIMEZONE
BEGIN:VEVENT
UID:ietf-106-11587-mathmesh
SUMMARY:mathmesh - MatheMatical Mesh
LOCATION:Collyer
STATUS:CONFIRMED
CLASS:PUBLIC
DTSTART;TZID=Asia/Singapore:20191118T100000
DTEND;TZID=Asia/Singapore:20191118T120000
DTSTAMP:20191015T101201Z
URL:https://datatracker.ietf.org/meeting/106/materials/agenda-106-mathmesh-01
DESCRIPTION:Morning Session I\n
 \n
 Meetecho: http://www.meetecho.com/ietf106/mathmesh/\n
 \n
 Agenda https://datatracker.ietf.org/meeting/106/materials/agenda-106-mathmesh-01\n
 \n
 Session materials: https://datatracker.ietf.org/meeting/106/session/mathmesh\n
 \n
 See in schedule: https://datatracker.ietf.org/meeting/106/agenda#row-106-2019-11-18-mon-1000-sec-mathmesh\n
END:VEVENT
BEGIN:VEVENT
UID:ietf-106-11611-txauth
SUMMARY:txauth - Transactional Authorization and Delegation
LOCATION:Padang
STATUS:CONFIRMED
CLASS:PUBLIC
DTSTART;TZID=Asia/Singapore:20191118T133000
DTEND;TZID=Asia/Singapore:20191118T153000
DTSTAMP:20191015T101218Z
URL:https://datatracker.ietf.org/meeting/106/materials/agenda-106-txauth-00
DESCRIPTION:Afternoon Session I\n
 \n
 Meetecho: http://www.meetecho.com/ietf106/txauth/\n
 \n
 Agenda https://datatracker.ietf.org/meeting/106/materials/agenda-106-txauth-00\n
 \n
 Session materials: https://datatracker.ietf.org/meeting/106/session/txauth\n
 \n
 See in schedule: https://datatracker.ietf.org/meeting/106/agenda#row-106-2019-11-18-mon-1330-sec-txauth\n
END:VEVENT
BEGIN:VEVENT
UID:ietf-106-11640-emu
SUMMARY:emu - EAP Method Update
LOCATION:Hullet
STATUS:CONFIRMED
CLASS:PUBLIC
DTSTART;TZID=Asia/Singapore:20191118T155000
DTEND;TZID=Asia/Singapore:20191118T175000
DTSTAMP:20191015T101234Z
URL:https://datatracker.ietf.org/meeting/106/materials/agenda-106-emu-03
DESCRIPTION:Afternoon Session II\n
 \n
 Meetecho: http://www.meetecho.com/ietf106/emu/\n
 \n
 Agenda https://datatracker.ietf.org/meeting/106/materials/agenda-106-emu-03\n
 \n
 Session materials: https://datatracker.ietf.org/meeting/106/session/emu\n
 \n
 See in schedule: https://datatracker.ietf.org/meeting/106/agenda#row-106-2019-11-18-mon-1550-sec-emu\n
END:VEVENT
BEGIN:VEVENT
UID:ietf-106-11663-lamps
SUMMARY:lamps - Limited Additional Mechanisms for PKIX and SMIME
LOCATION:Sophia
STATUS:CONFIRMED
CLASS:PUBLIC
DTSTART;TZID=Asia/Singapore:20191118T181000
DTEND;TZID=Asia/Singapore:20191118T191000
DTSTAMP:20191015T101248Z
URL:https://datatracker.ietf.org/meeting/106/materials/agenda-106-lamps-00
DESCRIPTION:Afternoon Session III\n
 \n
 Meetecho: http://www.meetecho.com/ietf106/lamps/\n
 \n
 Agenda https://datatracker.ietf.org/meeting/106/materials/agenda-106-lamps-00\n
 \n
 Session materials: https://datatracker.ietf.org/meeting/106/session/lamps\n
 \n
 See in schedule: https://datatracker.ietf.org/meeting/106/agenda#row-106-2019-11-18-mon-1810-sec-lamps\n
END:VEVENT
BEGIN:VEVENT
UID:ietf-106-11692-sacm
SUMMARY:sacm - Security Automation and Continuous Monitoring
LOCATION:Orchard
STATUS:CONFIRMED
CLASS:PUBLIC
DTSTART;TZID=Asia/Singapore:20191119T100000
DTEND;TZID=Asia/Singapore:20191119T120000
DTSTAMP:20191015T101259Z
URL:https://datatracker.ietf.org/meeting/106/materials/agenda-106-sacm-00
DESCRIPTION:Morning Session I\n
 \n
 Meetecho: http://www.meetecho.com/ietf106/sacm/\n
 \n
 Agenda https://datatracker.ietf.org/meeting/106/materials/agenda-106-sacm-00\n
 \n
 Session materials: https://datatracker.ietf.org/meeting/106/session/sacm\n
 \n
 See in schedule: https://datatracker.ietf.org/meeting/106/agenda#row-106-2019-11-19-tue-1000-sec-sacm\n
END:VEVENT
BEGIN:VEVENT
UID:ietf-106-11688-teep
SUMMARY:teep - Trusted Execution Environment Provisioning
LOCATION:Sophia
STATUS:CONFIRMED
CLASS:PUBLIC
DTSTART;TZID=Asia/Singapore:20191119T100000
DTEND;TZID=Asia/Singapore:20191119T120000
DTSTAMP:20191015T101259Z
URL:https://datatracker.ietf.org/meeting/106/materials/agenda-106-teep-04
DESCRIPTION:Morning Session I\n
 \n
 Meetecho: http://www.meetecho.com/ietf106/teep/\n
 \n
 Agenda https://datatracker.ietf.org/meeting/106/materials/agenda-106-teep-04\n
 \n
 Session materials: https://datatracker.ietf.org/meeting/106/session/teep\n
 \n
 See in schedule: https://datatracker.ietf.org/meeting/106/agenda#row-106-2019-11-19-tue-1000-sec-teep\n
END:VEVENT
BEGIN:VEVENT
UID:ietf-106-11713-suit
SUMMARY:suit - Software Updates for Internet of Things
LOCATION:Sophia
STATUS:CONFIRMED
CLASS:PUBLIC
DTSTART;TZID=Asia/Singapore:20191119T133000
DTEND;TZID=Asia/Singapore:20191119T150000
DTSTAMP:20191015T101315Z
URL:https://datatracker.ietf.org/meeting/106/materials/agenda-106-suit-01
DESCRIPTION:Afternoon Session I\n
 \n
 Meetecho: http://www.meetecho.com/ietf106/suit/\n
 \n
 Agenda https://datatracker.ietf.org/meeting/106/materials/agenda-106-suit-01\n
 \n
 Session materials: https://datatracker.ietf.org/meeting/106/session/suit\n
 \n
 See in schedule: https://datatracker.ietf.org/meeting/106/agenda#row-106-2019-11-19-tue-1330-sec-suit\n
END:VEVENT
BEGIN:VEVENT
UID:ietf-106-11739-ace
SUMMARY:ace - Authentication and Authorization for Constrained Environments
LOCATION:Olivia
STATUS:CONFIRMED
CLASS:PUBLIC
DTSTART;TZID=Asia/Singapore:20191119T152000
DTEND;TZID=Asia/Singapore:20191119T165000
DTSTAMP:20191015T101330Z
URL:https://datatracker.ietf.org/meeting/106/materials/agenda-106-ace-02
DESCRIPTION:Afternoon Session II\n
 \n
 Meetecho: http://www.meetecho.com/ietf106/ace/\n
 \n
 Agenda https://datatracker.ietf.org/meeting/106/materials/agenda-106-ace-02\n
 \n
 Session materials: https://datatracker.ietf.org/meeting/106/session/ace\n
 \n
 See in schedule: https://datatracker.ietf.org/meeting/106/agenda#row-106-2019-11-19-tue-1520-sec-ace\n
END:VEVENT
BEGIN:VEVENT
UID:ietf-106-11741-rats
SUMMARY:rats - Remote ATtestation ProcedureS
LOCATION:VIP A
STATUS:CONFIRMED
CLASS:PUBLIC
DTSTART;TZID=Asia/Singapore:20191119T152000
DTEND;TZID=Asia/Singapore:20191119T165000
DTSTAMP:20191015T101330Z
URL:https://datatracker.ietf.org/meeting/106/materials/agenda-106-rats-02
DESCRIPTION:Afternoon Session II\n
 \n
 Meetecho: http://www.meetecho.com/ietf106/rats/\n
 \n
 Agenda https://datatracker.ietf.org/meeting/106/materials/agenda-106-rats-02\n
 \n
 Session materials: https://datatracker.ietf.org/meeting/106/session/rats\n
 \n
 See in schedule: https://datatracker.ietf.org/meeting/106/agenda#row-106-2019-11-19-tue-1520-sec-rats\n
END:VEVENT
BEGIN:VEVENT
UID:ietf-106-11761-secdispatch
SUMMARY:secdispatch - Security Dispatch
LOCATION:Padang
STATUS:CONFIRMED
CLASS:PUBLIC
DTSTART;TZID=Asia/Singapore:20191119T171000
DTEND;TZID=Asia/Singapore:20191119T184000
DTSTAMP:20191018T084420Z
URL:https://datatracker.ietf.org/meeting/106/materials/agenda-106-secdispatch-03
DESCRIPTION:Afternoon Session III\n
 \n
 Meetecho: http://www.meetecho.com/ietf106/secdispatch/\n
 \n
 Agenda https://datatracker.ietf.org/meeting/106/materials/agenda-106-secdispatch-03\n
 \n
 Session materials: https://datatracker.ietf.org/meeting/106/session/secdispatch\n
 \n
 See in schedule: https://datatracker.ietf.org/meeting/106/agenda#row-106-2019-11-19-tue-1710-sec-secdispatch\n
END:VEVENT
BEGIN:VEVENT
UID:ietf-106-11789-teep
SUMMARY:teep - Trusted Execution Environment Provisioning
LOCATION:Olivia
STATUS:CONFIRMED
CLASS:PUBLIC
DTSTART;TZID=Asia/Singapore:20191120T100000
DTEND;TZID=Asia/Singapore:20191120T120000
DTSTAMP:20191015T101357Z
URL:https://datatracker.ietf.org/meeting/106/materials/agenda-106-teep-04
DESCRIPTION:Morning Session I\n
 \n
 Meetecho: http://www.meetecho.com/ietf106/teep/\n
 \n
 Agenda https://datatracker.ietf.org/meeting/106/materials/agenda-106-teep-04\n
 \n
 Session materials: https://datatracker.ietf.org/meeting/106/session/teep\n
 \n
 See in schedule: https://datatracker.ietf.org/meeting/106/agenda#row-106-2019-11-20-wed-1000-sec-teep\n
END:VEVENT
BEGIN:VEVENT
UID:ietf-106-11814-oauth
SUMMARY:oauth - Web Authorization Protocol
LOCATION:Olivia
STATUS:CONFIRMED
CLASS:PUBLIC
DTSTART;TZID=Asia/Singapore:20191120T133000
DTEND;TZID=Asia/Singapore:20191120T150000
DTSTAMP:20191015T101410Z
URL:https://datatracker.ietf.org/meeting/106/materials/agenda-106-oauth-04
DESCRIPTION:Afternoon Session I\n
 \n
 Meetecho: http://www.meetecho.com/ietf106/oauth/\n
 \n
 Agenda https://datatracker.ietf.org/meeting/106/materials/agenda-106-oauth-04\n
 \n
 Session materials: https://datatracker.ietf.org/meeting/106/session/oauth\n
 \n
 See in schedule: https://datatracker.ietf.org/meeting/106/agenda#row-106-2019-11-20-wed-1330-sec-oauth\n
END:VEVENT
BEGIN:VEVENT
UID:ietf-106-11838-lake
SUMMARY:lake - Lightweight Authenticated Key Exchange
LOCATION:Sophia
STATUS:CONFIRMED
CLASS:PUBLIC
DTSTART;TZID=Asia/Singapore:20191120T152000
DTEND;TZID=Asia/Singapore:20191120T165000
DTSTAMP:20191016T001419Z
URL:https://datatracker.ietf.org/meeting/106/materials/agenda-106-lake-02
DESCRIPTION:Afternoon Session II\n
 \n
 Meetecho: http://www.meetecho.com/ietf106/lake/\n
 \n
 Agenda https://datatracker.ietf.org/meeting/106/materials/agenda-106-lake-02\n
 \n
 Session materials: https://datatracker.ietf.org/meeting/106/session/lake\n
 \n
 See in schedule: https://datatracker.ietf.org/meeting/106/agenda#row-106-2019-11-20-wed-1520-sec-lake\n
END:VEVENT
BEGIN:VEVENT
UID:ietf-106-11861-tls
SUMMARY:tls - Transport Layer Security
LOCATION:Padang
STATUS:CONFIRMED
CLASS:PUBLIC
DTSTART;TZID=Asia/Singapore:20191121T100000
DTEND;TZID=Asia/Singapore:20191121T120000
DTSTAMP:20191015T101444Z
URL:https://datatracker.ietf.org/meeting/106/materials/agenda-106-tls-01
DESCRIPTION:Morning Session I\n
 \n
 Meetecho: http://www.meetecho.com/ietf106/tls/\n
 \n
 Agenda https://datatracker.ietf.org/meeting/106/materials/agenda-106-tls-01\n
 \n
 Session materials: https://datatracker.ietf.org/meeting/106/session/tls\n
 \n
 See in schedule: https://datatracker.ietf.org/meeting/106/agenda#row-106-2019-11-21-thu-1000-sec-tls\n
END:VEVENT
BEGIN:VEVENT
UID:ietf-106-11885-saag
SUMMARY:saag - Security Area Open Meeting
LOCATION:Canning
STATUS:CONFIRMED
CLASS:PUBLIC
DTSTART;TZID=Asia/Singapore:20191121T133000
DTEND;TZID=Asia/Singapore:20191121T153000
DTSTAMP:20191015T101457Z
URL:https://datatracker.ietf.org/meeting/106/materials/agenda-106-saag-00
DESCRIPTION:Afternoon Session I\n
 \n
 Meetecho: http://www.meetecho.com/ietf106/saag/\n
 \n
 Agenda https://datatracker.ietf.org/meeting/106/materials/agenda-106-saag-00\n
 \n
 Session materials: https://datatracker.ietf.org/meeting/106/session/saag\n
 \n
 See in schedule: https://datatracker.ietf.org/meeting/106/agenda#row-106-2019-11-21-thu-1330-sec-saag\n
END:VEVENT
BEGIN:VEVENT
UID:ietf-106-11913-cose
SUMMARY:cose - CBOR Object Signing and Encryption
LOCATION:Sophia
STATUS:CONFIRMED
CLASS:PUBLIC
DTSTART;TZID=Asia/Singapore:20191121T155000
DTEND;TZID=Asia/Singapore:20191121T172000
DTSTAMP:20191015T101510Z
URL:https://datatracker.ietf.org/meeting/106/materials/agenda-106-cose-01
DESCRIPTION:Afternoon Session II\n
 \n
 Meetecho: http://www.meetecho.com/ietf106/cose/\n
 \n
 Agenda https://datatracker.ietf.org/meeting/106/materials/agenda-106-cose-01\n
 \n
 Session materials: https://datatracker.ietf.org/meeting/106/session/cose\n
 \n
 See in schedule: https://datatracker.ietf.org/meeting/106/agenda#row-106-2019-11-21-thu-1550-sec-cose\n
END:VEVENT
BEGIN:VEVENT
UID:ietf-106-11914-ipsecme
SUMMARY:ipsecme - IP Security Maintenance and Extensions
LOCATION:Olivia
STATUS:CONFIRMED
CLASS:PUBLIC
DTSTART;TZID=Asia/Singapore:20191121T155000
DTEND;TZID=Asia/Singapore:20191121T172000
DTSTAMP:20191015T101510Z
URL:https://datatracker.ietf.org/meeting/106/materials/agenda-106-ipsecme-02
DESCRIPTION:Afternoon Session II\n
 \n
 Meetecho: http://www.meetecho.com/ietf106/ipsecme/\n
 \n
 Agenda https://datatracker.ietf.org/meeting/106/materials/agenda-106-ipsecme-02\n
 \n
 Session materials: https://datatracker.ietf.org/meeting/106/session/ipsecme\n
 \n
 See in schedule: https://datatracker.ietf.org/meeting/106/agenda#row-106-2019-11-21-thu-1550-sec-ipsecme\n
END:VEVENT
BEGIN:VEVENT
UID:ietf-106-11915-oauth
SUMMARY:oauth - Web Authorization Protocol
LOCATION:Hullet
STATUS:CONFIRMED
CLASS:PUBLIC
DTSTART;TZID=Asia/Singapore:20191121T155000
DTEND;TZID=Asia/Singapore:20191121T172000
DTSTAMP:20191015T101510Z
URL:https://datatracker.ietf.org/meeting/106/materials/agenda-106-oauth-04
DESCRIPTION:Afternoon Session II\n
 \n
 Meetecho: http://www.meetecho.com/ietf106/oauth/\n
 \n
 Agenda https://datatracker.ietf.org/meeting/106/materials/agenda-106-oauth-04\n
 \n
 Session materials: https://datatracker.ietf.org/meeting/106/session/oauth\n
 \n
 See in schedule: https://datatracker.ietf.org/meeting/106/agenda#row-106-2019-11-21-thu-1550-sec-oauth\n
END:VEVENT
BEGIN:VEVENT
UID:ietf-106-11935-tls
SUMMARY:tls - Transport Layer Security
LOCATION:Canning
STATUS:CONFIRMED
CLASS:PUBLIC
DTSTART;TZID=Asia/Singapore:20191121T174000
DTEND;TZID=Asia/Singapore:20191121T184000
DTSTAMP:20191015T101523Z
URL:https://datatracker.ietf.org/meeting/106/materials/agenda-106-tls-01
DESCRIPTION:Afternoon Session III\n
 \n
 Meetecho: http://www.meetecho.com/ietf106/tls/\n
 \n
 Agenda https://datatracker.ietf.org/meeting/106/materials/agenda-106-tls-01\n
 \n
 Session materials: https://datatracker.ietf.org/meeting/106/session/tls\n
 \n
 See in schedule: https://datatracker.ietf.org/meeting/106/agenda#row-106-2019-11-21-thu-1740-sec-tls\n
END:VEVENT
BEGIN:VEVENT
UID:ietf-106-11960-mls
SUMMARY:mls - Messaging Layer Security
LOCATION:Canning
STATUS:CONFIRMED
CLASS:PUBLIC
DTSTART;TZID=Asia/Singapore:20191122T100000
DTEND;TZID=Asia/Singapore:20191122T120000
DTSTAMP:20191015T101533Z
URL:https://datatracker.ietf.org/meeting/106/materials/agenda-106-mls-01
DESCRIPTION:Morning Session I\n
 \n
 Meetecho: http://www.meetecho.com/ietf106/mls/\n
 \n
 Agenda https://datatracker.ietf.org/meeting/106/materials/agenda-106-mls-01\n
 \n
 Session materials: https://datatracker.ietf.org/meeting/106/session/mls\n
 \n
 See in schedule: https://datatracker.ietf.org/meeting/106/agenda#row-106-2019-11-22-fri-1000-sec-mls\n
END:VEVENT
BEGIN:VEVENT
UID:ietf-106-11967-rats
SUMMARY:rats - Remote ATtestation ProcedureS
LOCATION:Orchard
STATUS:CONFIRMED
CLASS:PUBLIC
DTSTART;TZID=Asia/Singapore:20191122T100000
DTEND;TZID=Asia/Singapore:20191122T120000
DTSTAMP:20191015T101533Z
URL:https://datatracker.ietf.org/meeting/106/materials/agenda-106-rats-02
DESCRIPTION:Morning Session I\n
 \n
 Meetecho: http://www.meetecho.com/ietf106/rats/\n
 \n
 Agenda https://datatracker.ietf.org/meeting/106/materials/agenda-106-rats-02\n
 \n
 Session materials: https://datatracker.ietf.org/meeting/106/session/rats\n
 \n
 See in schedule: https://datatracker.ietf.org/meeting/106/agenda#row-106-2019-11-22-fri-1000-sec-rats\n
END:VEVENT
BEGIN:VEVENT
UID:ietf-106-11989-acme
SUMMARY:acme - Automated Certificate Management Environment
LOCATION:Olivia
STATUS:CONFIRMED
CLASS:PUBLIC
DTSTART;TZID=Asia/Singapore:20191122T122000
DTEND;TZID=Asia/Singapore:20191122T135000
DTSTAMP:20191015T101556Z
URL:https://datatracker.ietf.org/meeting/106/materials/agenda-106-acme-02
DESCRIPTION:Morning Session II\n
 \n
 Meetecho: http://www.meetecho.com/ietf106/acme/\n
 \n
 Agenda https://datatracker.ietf.org/meeting/106/materials/agenda-106-acme-02\n
 \n
 Session materials: https://datatracker.ietf.org/meeting/106/session/acme\n
 \n
 See in schedule: https://datatracker.ietf.org/meeting/106/agenda#row-106-2019-11-22-fri-1220-sec-acme\n
END:VEVENT
BEGIN:VEVENT
UID:ietf-106-11991-dots
SUMMARY:dots - DDoS Open Threat Signaling
LOCATION:VIP A
STATUS:CONFIRMED
CLASS:PUBLIC
DTSTART;TZID=Asia/Singapore:20191122T122000
DTEND;TZID=Asia/Singapore:20191122T135000
DTSTAMP:20191015T101556Z
URL:https://datatracker.ietf.org/meeting/106/materials/agenda-106-dots-03
DESCRIPTION:Morning Session II\n
 \n
 Meetecho: http://www.meetecho.com/ietf106/dots/\n
 \n
 Agenda https://datatracker.ietf.org/meeting/106/materials/agenda-106-dots-03\n
 \n
 Session materials: https://datatracker.ietf.org/meeting/106/session/dots\n
 \n
 See in schedule: https://datatracker.ietf.org/meeting/106/agenda#row-106-2019-11-22-fri-1220-sec-dots\n
END:VEVENT
END:VCALENDAR
