BEGIN:VCALENDAR
VERSION:2.0
METHOD:PUBLISH
PRODID:-//IETF//datatracker.ietf.org ical agenda//EN
BEGIN:VTIMEZONE
TZID:Asia/Singapore
X-LIC-LOCATION:Asia/Singapore
BEGIN:STANDARD
TZOFFSETFROM:+065525
TZOFFSETTO:+065525
TZNAME:SMT
DTSTART:19010101T000000
RDATE:19010101T000000
END:STANDARD
BEGIN:STANDARD
TZOFFSETFROM:+065525
TZOFFSETTO:+0700
TZNAME:MALT
DTSTART:19050601T000000
RDATE:19050601T000000
END:STANDARD
BEGIN:DAYLIGHT
TZOFFSETFROM:+0700
TZOFFSETTO:+0720
TZNAME:MALST
DTSTART:19330101T000000
RDATE:19330101T000000
END:DAYLIGHT
BEGIN:STANDARD
TZOFFSETFROM:+0720
TZOFFSETTO:+0720
TZNAME:MALT
DTSTART:19360101T000000
RDATE:19360101T000000
END:STANDARD
BEGIN:STANDARD
TZOFFSETFROM:+0720
TZOFFSETTO:+0730
TZNAME:MALT
DTSTART:19410901T000000
RDATE:19410901T000000
END:STANDARD
BEGIN:STANDARD
TZOFFSETFROM:+0730
TZOFFSETTO:+0900
TZNAME:JST
DTSTART:19420216T000000
RDATE:19420216T000000
END:STANDARD
BEGIN:STANDARD
TZOFFSETFROM:+0900
TZOFFSETTO:+0730
TZNAME:MALT
DTSTART:19450912T000000
RDATE:19450912T000000
END:STANDARD
BEGIN:STANDARD
TZOFFSETFROM:+0730
TZOFFSETTO:+0730
TZNAME:SGT
DTSTART:19650809T000000
RDATE:19650809T000000
END:STANDARD
BEGIN:STANDARD
TZOFFSETFROM:+0730
TZOFFSETTO:+0800
TZNAME:SGT
DTSTART:19820101T000000
RDATE:19820101T000000
END:STANDARD
END:VTIMEZONE
BEGIN:VEVENT
UID:ietf-106-11590-ippm
SUMMARY:ippm - IP Performance Measurement
LOCATION:Hullet
STATUS:CONFIRMED
CLASS:PUBLIC
DTSTART;TZID=Asia/Singapore:20191118T100000
DTEND;TZID=Asia/Singapore:20191118T120000
DTSTAMP:20191015T101201Z
URL:https://datatracker.ietf.org/meeting/106/materials/agenda-106-ippm-03
DESCRIPTION:Morning Session I\n
 \n
 Meetecho: http://www.meetecho.com/ietf106/ippm/\n
 \n
 Agenda https://datatracker.ietf.org/meeting/106/materials/agenda-106-ippm-03\n
 \n
 Session materials: https://datatracker.ietf.org/meeting/106/session/ippm\n
 \n
 See in schedule: https://datatracker.ietf.org/meeting/106/agenda#row-106-2019-11-18-mon-1000-tsv-ippm\n
END:VEVENT
BEGIN:VEVENT
UID:ietf-106-11613-tsvwg
SUMMARY:tsvwg - Transport Area Working Group
LOCATION:Sophia
STATUS:CONFIRMED
CLASS:PUBLIC
DTSTART;TZID=Asia/Singapore:20191118T133000
DTEND;TZID=Asia/Singapore:20191118T153000
DTSTAMP:20191015T101218Z
URL:https://datatracker.ietf.org/meeting/106/materials/agenda-106-tsvwg-19
DESCRIPTION:Afternoon Session I\n
 \n
 Meetecho: http://www.meetecho.com/ietf106/tsvwg/\n
 \n
 Agenda https://datatracker.ietf.org/meeting/106/materials/agenda-106-tsvwg-19\n
 \n
 Session materials: https://datatracker.ietf.org/meeting/106/session/tsvwg\n
 \n
 See in schedule: https://datatracker.ietf.org/meeting/106/agenda#row-106-2019-11-18-mon-1330-tsv-tsvwg\n
END:VEVENT
BEGIN:VEVENT
UID:ietf-106-11686-quic
SUMMARY:quic - QUIC
LOCATION:Padang
STATUS:CONFIRMED
CLASS:PUBLIC
DTSTART;TZID=Asia/Singapore:20191119T100000
DTEND;TZID=Asia/Singapore:20191119T120000
DTSTAMP:20191015T101259Z
URL:https://datatracker.ietf.org/meeting/106/materials/agenda-106-quic-02
DESCRIPTION:Morning Session I\n
 \n
 Meetecho: http://www.meetecho.com/ietf106/quic/\n
 \n
 Agenda https://datatracker.ietf.org/meeting/106/materials/agenda-106-quic-02\n
 \n
 Session materials: https://datatracker.ietf.org/meeting/106/session/quic\n
 \n
 See in schedule: https://datatracker.ietf.org/meeting/106/agenda#row-106-2019-11-19-tue-1000-tsv-quic\n
END:VEVENT
BEGIN:VEVENT
UID:ietf-106-11715-rmcat
SUMMARY:rmcat - RTP Media Congestion Avoidance Techniques
LOCATION:Hullet
STATUS:CONFIRMED
CLASS:PUBLIC
DTSTART;TZID=Asia/Singapore:20191119T133000
DTEND;TZID=Asia/Singapore:20191119T150000
DTSTAMP:20191015T101315Z
URL:https://datatracker.ietf.org/meeting/106/materials/agenda-106-rmcat-00
DESCRIPTION:Afternoon Session I\n
 \n
 Meetecho: http://www.meetecho.com/ietf106/rmcat/\n
 \n
 Agenda https://datatracker.ietf.org/meeting/106/materials/agenda-106-rmcat-00\n
 \n
 Session materials: https://datatracker.ietf.org/meeting/106/session/rmcat\n
 \n
 See in schedule: https://datatracker.ietf.org/meeting/106/agenda#row-106-2019-11-19-tue-1330-tsv-rmcat\n
END:VEVENT
BEGIN:VEVENT
UID:ietf-106-11740-taps
SUMMARY:taps - Transport Services
LOCATION:Hullet
STATUS:CONFIRMED
CLASS:PUBLIC
DTSTART;TZID=Asia/Singapore:20191119T152000
DTEND;TZID=Asia/Singapore:20191119T165000
DTSTAMP:20191015T101330Z
URL:https://datatracker.ietf.org/meeting/106/materials/agenda-106-taps-04
DESCRIPTION:Afternoon Session II\n
 \n
 Meetecho: http://www.meetecho.com/ietf106/taps/\n
 \n
 Agenda https://datatracker.ietf.org/meeting/106/materials/agenda-106-taps-04\n
 \n
 Session materials: https://datatracker.ietf.org/meeting/106/session/taps\n
 \n
 See in schedule: https://datatracker.ietf.org/meeting/106/agenda#row-106-2019-11-19-tue-1520-tsv-taps\n
END:VEVENT
BEGIN:VEVENT
UID:ietf-106-11764-mptcp
SUMMARY:mptcp - Multipath TCP
LOCATION:Olivia
STATUS:CONFIRMED
CLASS:PUBLIC
DTSTART;TZID=Asia/Singapore:20191119T171000
DTEND;TZID=Asia/Singapore:20191119T184000
DTSTAMP:20191018T084420Z
URL:https://datatracker.ietf.org/meeting/106/materials/agenda-106-mptcp-01
DESCRIPTION:Afternoon Session III\n
 \n
 Meetecho: http://www.meetecho.com/ietf106/mptcp/\n
 \n
 Agenda https://datatracker.ietf.org/meeting/106/materials/agenda-106-mptcp-01\n
 \n
 Session materials: https://datatracker.ietf.org/meeting/106/session/mptcp\n
 \n
 See in schedule: https://datatracker.ietf.org/meeting/106/agenda#row-106-2019-11-19-tue-1710-tsv-mptcp\n
END:VEVENT
BEGIN:VEVENT
UID:ietf-106-11786-quic
SUMMARY:quic - QUIC
LOCATION:Padang
STATUS:CONFIRMED
CLASS:PUBLIC
DTSTART;TZID=Asia/Singapore:20191120T100000
DTEND;TZID=Asia/Singapore:20191120T120000
DTSTAMP:20191015T101357Z
URL:https://datatracker.ietf.org/meeting/106/materials/agenda-106-quic-02
DESCRIPTION:Morning Session I\n
 \n
 Meetecho: http://www.meetecho.com/ietf106/quic/\n
 \n
 Agenda https://datatracker.ietf.org/meeting/106/materials/agenda-106-quic-02\n
 \n
 Session materials: https://datatracker.ietf.org/meeting/106/session/quic\n
 \n
 See in schedule: https://datatracker.ietf.org/meeting/106/agenda#row-106-2019-11-20-wed-1000-tsv-quic\n
END:VEVENT
BEGIN:VEVENT
UID:ietf-106-11860-tsvwg
SUMMARY:tsvwg - Transport Area Working Group
LOCATION:Canning
STATUS:CONFIRMED
CLASS:PUBLIC
DTSTART;TZID=Asia/Singapore:20191121T100000
DTEND;TZID=Asia/Singapore:20191121T120000
DTSTAMP:20191015T101444Z
URL:https://datatracker.ietf.org/meeting/106/materials/agenda-106-tsvwg-19
DESCRIPTION:Morning Session I\n
 \n
 Meetecho: http://www.meetecho.com/ietf106/tsvwg/\n
 \n
 Agenda https://datatracker.ietf.org/meeting/106/materials/agenda-106-tsvwg-19\n
 \n
 Session materials: https://datatracker.ietf.org/meeting/106/session/tsvwg\n
 \n
 See in schedule: https://datatracker.ietf.org/meeting/106/agenda#row-106-2019-11-21-thu-1000-tsv-tsvwg\n
END:VEVENT
BEGIN:VEVENT
UID:ietf-106-11891-dtn
SUMMARY:dtn - Delay/Disruption Tolerant Networking
LOCATION:VIP A
STATUS:CONFIRMED
CLASS:PUBLIC
DTSTART;TZID=Asia/Singapore:20191121T133000
DTEND;TZID=Asia/Singapore:20191121T153000
DTSTAMP:20191015T101457Z
URL:https://datatracker.ietf.org/meeting/106/materials/agenda-106-dtn-02
DESCRIPTION:Afternoon Session I\n
 \n
 Meetecho: http://www.meetecho.com/ietf106/dtn/\n
 \n
 Agenda https://datatracker.ietf.org/meeting/106/materials/agenda-106-dtn-02\n
 \n
 Session materials: https://datatracker.ietf.org/meeting/106/session/dtn\n
 \n
 See in schedule: https://datatracker.ietf.org/meeting/106/agenda#row-106-2019-11-21-thu-1330-tsv-dtn\n
END:VEVENT
BEGIN:VEVENT
UID:ietf-106-11916-alto
SUMMARY:alto - Application-Layer Traffic Optimization
LOCATION:VIP A
STATUS:CONFIRMED
CLASS:PUBLIC
DTSTART;TZID=Asia/Singapore:20191121T155000
DTEND;TZID=Asia/Singapore:20191121T172000
DTSTAMP:20191015T101510Z
URL:https://datatracker.ietf.org/meeting/106/materials/agenda-106-alto-01
DESCRIPTION:Afternoon Session II\n
 \n
 Meetecho: http://www.meetecho.com/ietf106/alto/\n
 \n
 Agenda https://datatracker.ietf.org/meeting/106/materials/agenda-106-alto-01\n
 \n
 Session materials: https://datatracker.ietf.org/meeting/106/session/alto\n
 \n
 See in schedule: https://datatracker.ietf.org/meeting/106/agenda#row-106-2019-11-21-thu-1550-tsv-alto\n
END:VEVENT
BEGIN:VEVENT
UID:ietf-106-11936-tsvarea
SUMMARY:tsvarea - Transport Area Open Meeting
LOCATION:Padang
STATUS:CONFIRMED
CLASS:PUBLIC
DTSTART;TZID=Asia/Singapore:20191121T174000
DTEND;TZID=Asia/Singapore:20191121T184000
DTSTAMP:20191015T101523Z
URL:https://datatracker.ietf.org/meeting/106/materials/agenda-106-tsvarea-00
DESCRIPTION:Afternoon Session III\n
 \n
 Meetecho: http://www.meetecho.com/ietf106/tsvarea/\n
 \n
 Agenda https://datatracker.ietf.org/meeting/106/materials/agenda-106-tsvarea-00\n
 \n
 Session materials: https://datatracker.ietf.org/meeting/106/session/tsvarea\n
 \n
 See in schedule: https://datatracker.ietf.org/meeting/106/agenda#row-106-2019-11-21-thu-1740-tsv-tsvarea\n
END:VEVENT
BEGIN:VEVENT
UID:ietf-106-11966-tcpm
SUMMARY:tcpm - TCP Maintenance and Minor Extensions
LOCATION:VIP A
STATUS:CONFIRMED
CLASS:PUBLIC
DTSTART;TZID=Asia/Singapore:20191122T100000
DTEND;TZID=Asia/Singapore:20191122T120000
DTSTAMP:20191015T101533Z
URL:https://datatracker.ietf.org/meeting/106/materials/agenda-106-tcpm-06
DESCRIPTION:Morning Session I\n
 \n
 Meetecho: http://www.meetecho.com/ietf106/tcpm/\n
 \n
 Agenda https://datatracker.ietf.org/meeting/106/materials/agenda-106-tcpm-06\n
 \n
 Session materials: https://datatracker.ietf.org/meeting/106/session/tcpm\n
 \n
 See in schedule: https://datatracker.ietf.org/meeting/106/agenda#row-106-2019-11-22-fri-1000-tsv-tcpm\n
END:VEVENT
END:VCALENDAR
