BEGIN:VCALENDAR
VERSION:2.0
METHOD:PUBLISH
PRODID:-//IETF//datatracker.ietf.org ical agenda//EN
BEGIN:VTIMEZONE
TZID:UTC
BEGIN:STANDARD
TZOFFSETFROM:+0000
TZOFFSETTO:+0000
TZNAME:UTC
DTSTART:19000101T000000
RDATE:19000101T000000
END:STANDARD
END:VTIMEZONE
BEGIN:VEVENT
UID:ietf-107-12724-tools
SUMMARY:Virtual Code Sprint
STATUS:CONFIRMED
CLASS:PUBLIC
DTSTART;TZID=UTC:20200321T160000
DTEND;TZID=UTC:20200321T180000
DTSTAMP:20200313T172721Z
DESCRIPTION:Virtual Code Sprint\n
 \n
 Session materials: https://datatracker.ietf.org/meeting/107/session/tools\n
 \n
 See in schedule: https://datatracker.ietf.org/meeting/107/agenda#row-107-2020-03-21-sat-1600-tools-virtual-code-sprint\n
END:VEVENT
BEGIN:VEVENT
UID:ietf-107-12435-txauth
SUMMARY:txauth - Transactional Authorization and Delegation (https://ietf.webex.com/ietf/j.php?MTID=m2d064bb1ddce5360cac8c5459998d232 Meeting number (access code): 314 345 860 Meeting password: 7CxgVpFNB27)
LOCATION:Virtual Track 1
STATUS:CONFIRMED
CLASS:PUBLIC
DTSTART;TZID=UTC:20200323T200000
DTEND;TZID=UTC:20200323T220000
DTSTAMP:20200313T134323Z
URL:https://datatracker.ietf.org/meeting/107/materials/agenda-107-txauth-00
DESCRIPTION:Session I\n
 Note: https://ietf.webex.com/ietf/j.php?MTID=m2d064bb1ddce5360cac8c5459998d232 Meeting number (access code): 314 345 860 Meeting password: 7CxgVpFNB27\n
 \n
 Agenda https://datatracker.ietf.org/meeting/107/materials/agenda-107-txauth-00\n
 \n
 Session materials: https://datatracker.ietf.org/meeting/107/session/txauth\n
 \n
 See in schedule: https://datatracker.ietf.org/meeting/107/agenda#row-107-2020-03-23-mon-2000-sec-txauth\n
END:VEVENT
BEGIN:VEVENT
UID:ietf-107-12464-dispatch
SUMMARY:dispatch - Dispatch (https://ietf.webex.com/ietf/j.php?MTID=m81a0f5ba59ee104689f4630867af39cf Meeting number (access code): 645 404 982 Meeting password: GCmUnMnF326)
LOCATION:Virtual Track 1
STATUS:CONFIRMED
CLASS:PUBLIC
DTSTART;TZID=UTC:20200323T221000
DTEND;TZID=UTC:20200324T001000
DTSTAMP:20200313T134335Z
URL:https://datatracker.ietf.org/meeting/107/materials/agenda-107-dispatch-05
DESCRIPTION:Session II\n
 Note: https://ietf.webex.com/ietf/j.php?MTID=m81a0f5ba59ee104689f4630867af39cf Meeting number (access code): 645 404 982 Meeting password: GCmUnMnF326\n
 \n
 Agenda https://datatracker.ietf.org/meeting/107/materials/agenda-107-dispatch-05\n
 \n
 Session materials: https://datatracker.ietf.org/meeting/107/session/dispatch\n
 \n
 See in schedule: https://datatracker.ietf.org/meeting/107/agenda#row-107-2020-03-23-mon-2210-art-dispatch\n
END:VEVENT
BEGIN:VEVENT
UID:ietf-107-12493-add
SUMMARY:add - Adaptive DNS Discovery (https://ietf.webex.com/ietf/j.php?MTID=m342b913bf84bd74824d9dec9b153b872 Meeting number (access code): 310 867 829 Meeting password: j3Y4MQZPHN3)
LOCATION:Virtual Track 1
STATUS:CONFIRMED
CLASS:PUBLIC
DTSTART;TZID=UTC:20200324T200000
DTEND;TZID=UTC:20200324T220000
DTSTAMP:20200313T134342Z
URL:https://datatracker.ietf.org/meeting/107/materials/agenda-107-add-02
DESCRIPTION:Session I\n
 Note: https://ietf.webex.com/ietf/j.php?MTID=m342b913bf84bd74824d9dec9b153b872 Meeting number (access code): 310 867 829 Meeting password: j3Y4MQZPHN3\n
 \n
 Agenda https://datatracker.ietf.org/meeting/107/materials/agenda-107-add-02\n
 \n
 Session materials: https://datatracker.ietf.org/meeting/107/session/add\n
 \n
 See in schedule: https://datatracker.ietf.org/meeting/107/agenda#row-107-2020-03-24-tue-2000-int-add\n
END:VEVENT
BEGIN:VEVENT
UID:ietf-107-12492-raw
SUMMARY:raw - Reliable and Available Wireless (https://ietf.webex.com/ietf/j.php?MTID=m5546ad84a1bb8b9090eca8db77027a09 Meeting number (access code): 313 121 271 Meeting password: vPq8ijPu53B)
LOCATION:Virtual Track 2
STATUS:CONFIRMED
CLASS:PUBLIC
DTSTART;TZID=UTC:20200324T200000
DTEND;TZID=UTC:20200324T220000
DTSTAMP:20200313T134342Z
URL:https://datatracker.ietf.org/meeting/107/materials/agenda-107-raw-03
DESCRIPTION:Session I\n
 Note: https://ietf.webex.com/ietf/j.php?MTID=m5546ad84a1bb8b9090eca8db77027a09 Meeting number (access code): 313 121 271 Meeting password: vPq8ijPu53B\n
 \n
 Agenda https://datatracker.ietf.org/meeting/107/materials/agenda-107-raw-03\n
 \n
 Session materials: https://datatracker.ietf.org/meeting/107/session/raw\n
 \n
 See in schedule: https://datatracker.ietf.org/meeting/107/agenda#row-107-2020-03-24-tue-2000-rtg-raw\n
END:VEVENT
BEGIN:VEVENT
UID:ietf-107-12522-masque
SUMMARY:masque - Multiplexed Application Substrate over QUIC Encryption (https://ietf.webex.com/ietf/j.php?MTID=m7790420c38e2e89d841b13c43956c4a1 Meeting number (access code): 640 236 459 Meeting password: PynY5MBEf32)
LOCATION:Virtual Track 1
STATUS:CONFIRMED
CLASS:PUBLIC
DTSTART;TZID=UTC:20200324T221000
DTEND;TZID=UTC:20200325T001000
DTSTAMP:20200313T134350Z
URL:https://datatracker.ietf.org/meeting/107/materials/agenda-107-masque-08
DESCRIPTION:Session II\n
 Note: https://ietf.webex.com/ietf/j.php?MTID=m7790420c38e2e89d841b13c43956c4a1 Meeting number (access code): 640 236 459 Meeting password: PynY5MBEf32\n
 \n
 Agenda https://datatracker.ietf.org/meeting/107/materials/agenda-107-masque-08\n
 \n
 Session materials: https://datatracker.ietf.org/meeting/107/session/masque\n
 \n
 See in schedule: https://datatracker.ietf.org/meeting/107/agenda#row-107-2020-03-24-tue-2210-int-masque\n
END:VEVENT
BEGIN:VEVENT
UID:ietf-107-12551-wpack
SUMMARY:wpack - Web Packaging (https://ietf.webex.com/ietf/j.php?MTID=mf340ca56e8214dc9fe2dd3c6f9f3047f Meeting number (access code): 311 414 596 Meeting password: wnKifMHK249)
LOCATION:Virtual Track 1
STATUS:CONFIRMED
CLASS:PUBLIC
DTSTART;TZID=UTC:20200325T200000
DTEND;TZID=UTC:20200325T213000
DTSTAMP:20200313T134400Z
URL:https://datatracker.ietf.org/meeting/107/materials/agenda-107-wpack-01
DESCRIPTION:Session I\n
 Note: https://ietf.webex.com/ietf/j.php?MTID=mf340ca56e8214dc9fe2dd3c6f9f3047f Meeting number (access code): 311 414 596 Meeting password: wnKifMHK249\n
 \n
 Agenda https://datatracker.ietf.org/meeting/107/materials/agenda-107-wpack-01\n
 \n
 Session materials: https://datatracker.ietf.org/meeting/107/session/wpack\n
 \n
 See in schedule: https://datatracker.ietf.org/meeting/107/agenda#row-107-2020-03-25-wed-2000-art-wpack\n
END:VEVENT
BEGIN:VEVENT
UID:ietf-107-12550-drip
SUMMARY:drip - Drone Remote ID Protocol (https://ietf.webex.com/ietf/j.php?MTID=m8e996ebfa2a41c4960eda90c6915cd10 Meeting number (access code): 316 914 084 Meeting password: q653FxBvYBE)
LOCATION:Virtual Track 2
STATUS:CONFIRMED
CLASS:PUBLIC
DTSTART;TZID=UTC:20200325T200000
DTEND;TZID=UTC:20200325T213000
DTSTAMP:20200313T134400Z
URL:https://datatracker.ietf.org/meeting/107/materials/agenda-107-drip-02
DESCRIPTION:Session I\n
 Note: https://ietf.webex.com/ietf/j.php?MTID=m8e996ebfa2a41c4960eda90c6915cd10 Meeting number (access code): 316 914 084 Meeting password: q653FxBvYBE\n
 \n
 Agenda https://datatracker.ietf.org/meeting/107/materials/agenda-107-drip-02\n
 \n
 Session materials: https://datatracker.ietf.org/meeting/107/session/drip\n
 \n
 See in schedule: https://datatracker.ietf.org/meeting/107/agenda#row-107-2020-03-25-wed-2000-int-drip\n
END:VEVENT
BEGIN:VEVENT
UID:ietf-107-12580-gendispatch
SUMMARY:gendispatch - General Area Dispatch (https://ietf.webex.com/ietf/j.php?MTID=m0bb185af7ce41e4288a852f124f75a7b Meeting number (access code): 645 902 972 Meeting password: YdaWFY3Zp58)
LOCATION:Virtual Track 1
STATUS:CONFIRMED
CLASS:PUBLIC
DTSTART;TZID=UTC:20200325T214000
DTEND;TZID=UTC:20200325T224000
DTSTAMP:20200313T134409Z
URL:https://datatracker.ietf.org/meeting/107/materials/agenda-107-gendispatch-04
DESCRIPTION:Session II\n
 Note: https://ietf.webex.com/ietf/j.php?MTID=m0bb185af7ce41e4288a852f124f75a7b Meeting number (access code): 645 902 972 Meeting password: YdaWFY3Zp58\n
 \n
 Agenda https://datatracker.ietf.org/meeting/107/materials/agenda-107-gendispatch-04\n
 \n
 Session materials: https://datatracker.ietf.org/meeting/107/session/gendispatch\n
 \n
 See in schedule: https://datatracker.ietf.org/meeting/107/agenda#row-107-2020-03-25-wed-2140-gen-gendispatch\n
END:VEVENT
BEGIN:VEVENT
UID:ietf-107-12347-ietf
SUMMARY:IETF Plenary
LOCATION:Virtual Plenary
STATUS:CONFIRMED
CLASS:PUBLIC
DTSTART;TZID=UTC:20200325T225000
DTEND;TZID=UTC:20200326T003000
DTSTAMP:20200319T120509Z
URL:https://datatracker.ietf.org/meeting/107/materials/agenda-107-ietf-sessa-02
DESCRIPTION:IETF Plenary\n
 \n
 Webex: https://ietf.webex.com/ietf/j.php?MTID=m80a98c91b91b80ccf8e8477872e9ff06\n
 \n
 Agenda https://datatracker.ietf.org/meeting/107/materials/agenda-107-ietf-sessa-02\n
 \n
 Session materials: https://datatracker.ietf.org/meeting/107/session/ietf\n
 \n
 See in schedule: https://datatracker.ietf.org/meeting/107/agenda#row-107-2020-03-25-wed-2250-1plenary-ietf\n
END:VEVENT
BEGIN:VEVENT
UID:ietf-107-12609-privacypass
SUMMARY:privacypass - privacy-pass (https://ietf.webex.com/ietf/j.php?MTID=mcce39b3c508e60bda3c80a4d29fee029 Meeting number (access code): 317 667 567 Meeting password: 5mPSHvmBn73)
LOCATION:Virtual Track 1
STATUS:CONFIRMED
CLASS:PUBLIC
DTSTART;TZID=UTC:20200326T200000
DTEND;TZID=UTC:20200326T220000
DTSTAMP:20200313T134420Z
URL:https://datatracker.ietf.org/meeting/107/materials/agenda-107-privacypass-04
DESCRIPTION:Session I\n
 Note: https://ietf.webex.com/ietf/j.php?MTID=mcce39b3c508e60bda3c80a4d29fee029 Meeting number (access code): 317 667 567 Meeting password: 5mPSHvmBn73\n
 \n
 Agenda https://datatracker.ietf.org/meeting/107/materials/agenda-107-privacypass-04\n
 \n
 Session materials: https://datatracker.ietf.org/meeting/107/session/privacypass\n
 \n
 See in schedule: https://datatracker.ietf.org/meeting/107/agenda#row-107-2020-03-26-thu-2000-sec-privacypass\n
END:VEVENT
BEGIN:VEVENT
UID:ietf-107-12638-ript
SUMMARY:ript - Realtime Internet Peering for Telephony (https://ietf.webex.com/ietf/j.php?MTID=m77168c5c7592f30d7f369b49b47cfcf3 Meeting number (access code): 646 916 587 Meeting password: avEzuWXp427)
LOCATION:Virtual Track 1
STATUS:CONFIRMED
CLASS:PUBLIC
DTSTART;TZID=UTC:20200326T221000
DTEND;TZID=UTC:20200327T001000
DTSTAMP:20200313T134428Z
URL:https://datatracker.ietf.org/meeting/107/materials/agenda-107-ript-04
DESCRIPTION:Session II\n
 Note: https://ietf.webex.com/ietf/j.php?MTID=m77168c5c7592f30d7f369b49b47cfcf3 Meeting number (access code): 646 916 587 Meeting password: avEzuWXp427\n
 \n
 Agenda https://datatracker.ietf.org/meeting/107/materials/agenda-107-ript-04\n
 \n
 Session materials: https://datatracker.ietf.org/meeting/107/session/ript\n
 \n
 See in schedule: https://datatracker.ietf.org/meeting/107/agenda#row-107-2020-03-26-thu-2210-art-ript\n
END:VEVENT
BEGIN:VEVENT
UID:ietf-107-12667-secdispatch
SUMMARY:secdispatch - Security Dispatch (https://ietf.webex.com/ietf/j.php?MTID=ma2f143a46b2c7cceae25de38a1b3318d Meeting number (access code): 317 095 560 Meeting password: 6mgE8Qy8deb)
LOCATION:Virtual Track 1
STATUS:CONFIRMED
CLASS:PUBLIC
DTSTART;TZID=UTC:20200327T200000
DTEND;TZID=UTC:20200327T220000
DTSTAMP:20200313T134436Z
URL:https://datatracker.ietf.org/meeting/107/materials/agenda-107-secdispatch-02
DESCRIPTION:Session I\n
 Note: https://ietf.webex.com/ietf/j.php?MTID=ma2f143a46b2c7cceae25de38a1b3318d Meeting number (access code): 317 095 560 Meeting password: 6mgE8Qy8deb\n
 \n
 Agenda https://datatracker.ietf.org/meeting/107/materials/agenda-107-secdispatch-02\n
 \n
 Session materials: https://datatracker.ietf.org/meeting/107/session/secdispatch\n
 \n
 See in schedule: https://datatracker.ietf.org/meeting/107/agenda#row-107-2020-03-27-fri-2000-sec-secdispatch\n
END:VEVENT
BEGIN:VEVENT
UID:ietf-107-12696-webtrans
SUMMARY:webtrans - WebTransport (https://ietf.webex.com/ietf/j.php?MTID=m730d59fbafc6d18db1f05b3d9b759a18 Meeting number (access code): 642 394 286 Meeting password: 3idGtEPsQ27)
LOCATION:Virtual Track 1
STATUS:CONFIRMED
CLASS:PUBLIC
DTSTART;TZID=UTC:20200327T221000
DTEND;TZID=UTC:20200328T001000
DTSTAMP:20200313T134445Z
URL:https://datatracker.ietf.org/meeting/107/materials/agenda-107-webtrans-00
DESCRIPTION:Session II\n
 Note: https://ietf.webex.com/ietf/j.php?MTID=m730d59fbafc6d18db1f05b3d9b759a18 Meeting number (access code): 642 394 286 Meeting password: 3idGtEPsQ27\n
 \n
 Agenda https://datatracker.ietf.org/meeting/107/materials/agenda-107-webtrans-00\n
 \n
 Session materials: https://datatracker.ietf.org/meeting/107/session/webtrans\n
 \n
 See in schedule: https://datatracker.ietf.org/meeting/107/agenda#row-107-2020-03-27-fri-2210-art-webtrans\n
END:VEVENT
END:VCALENDAR
