BEGIN:VCALENDAR
VERSION:2.0
METHOD:PUBLISH
PRODID:-//IETF//datatracker.ietf.org ical agenda//EN
BEGIN:VTIMEZONE
TZID:UTC
BEGIN:STANDARD
TZOFFSETFROM:+0000
TZOFFSETTO:+0000
TZNAME:UTC
DTSTART:19000101T000000
RDATE:19000101T000000
END:STANDARD
END:VTIMEZONE
BEGIN:VEVENT
UID:ietf-107-12580-gendispatch
SUMMARY:gendispatch - General Area Dispatch (https://ietf.webex.com/ietf/j.php?MTID=m0bb185af7ce41e4288a852f124f75a7b Meeting number (access code): 645 902 972 Meeting password: YdaWFY3Zp58)
LOCATION:Virtual Track 1
STATUS:CONFIRMED
CLASS:PUBLIC
DTSTART;TZID=UTC:20200325T214000
DTEND;TZID=UTC:20200325T224000
DTSTAMP:20200313T134409Z
URL:https://datatracker.ietf.org/meeting/107/materials/agenda-107-gendispatch-04
DESCRIPTION:Session II\n
 Note: https://ietf.webex.com/ietf/j.php?MTID=m0bb185af7ce41e4288a852f124f75a7b Meeting number (access code): 645 902 972 Meeting password: YdaWFY3Zp58\n
 \n
 Agenda https://datatracker.ietf.org/meeting/107/materials/agenda-107-gendispatch-04\n
 \n
 Session materials: https://datatracker.ietf.org/meeting/107/session/gendispatch\n
 \n
 See in schedule: https://datatracker.ietf.org/meeting/107/agenda#row-107-2020-03-25-wed-2140-gen-gendispatch\n
END:VEVENT
END:VCALENDAR
