BEGIN:VCALENDAR
VERSION:2.0
METHOD:PUBLISH
PRODID:-//IETF//datatracker.ietf.org ical agenda//EN
BEGIN:VTIMEZONE
TZID:UTC
BEGIN:STANDARD
TZOFFSETFROM:+0000
TZOFFSETTO:+0000
TZNAME:UTC
DTSTART:19000101T000000
RDATE:19000101T000000
END:STANDARD
END:VTIMEZONE
BEGIN:VEVENT
UID:ietf-107-12493-add
SUMMARY:add - Adaptive DNS Discovery (https://ietf.webex.com/ietf/j.php?MTID=m342b913bf84bd74824d9dec9b153b872 Meeting number (access code): 310 867 829 Meeting password: j3Y4MQZPHN3)
LOCATION:Virtual Track 1
STATUS:CONFIRMED
CLASS:PUBLIC
DTSTART;TZID=UTC:20200324T200000
DTEND;TZID=UTC:20200324T220000
DTSTAMP:20200313T134342Z
URL:https://datatracker.ietf.org/meeting/107/materials/agenda-107-add-02
DESCRIPTION:Session I\n
 Note: https://ietf.webex.com/ietf/j.php?MTID=m342b913bf84bd74824d9dec9b153b872 Meeting number (access code): 310 867 829 Meeting password: j3Y4MQZPHN3\n
 \n
 Agenda https://datatracker.ietf.org/meeting/107/materials/agenda-107-add-02\n
 \n
 Session materials: https://datatracker.ietf.org/meeting/107/session/add\n
 \n
 See in schedule: https://datatracker.ietf.org/meeting/107/agenda#row-107-2020-03-24-tue-2000-int-add\n
END:VEVENT
BEGIN:VEVENT
UID:ietf-107-12522-masque
SUMMARY:masque - Multiplexed Application Substrate over QUIC Encryption (https://ietf.webex.com/ietf/j.php?MTID=m7790420c38e2e89d841b13c43956c4a1 Meeting number (access code): 640 236 459 Meeting password: PynY5MBEf32)
LOCATION:Virtual Track 1
STATUS:CONFIRMED
CLASS:PUBLIC
DTSTART;TZID=UTC:20200324T221000
DTEND;TZID=UTC:20200325T001000
DTSTAMP:20200313T134350Z
URL:https://datatracker.ietf.org/meeting/107/materials/agenda-107-masque-08
DESCRIPTION:Session II\n
 Note: https://ietf.webex.com/ietf/j.php?MTID=m7790420c38e2e89d841b13c43956c4a1 Meeting number (access code): 640 236 459 Meeting password: PynY5MBEf32\n
 \n
 Agenda https://datatracker.ietf.org/meeting/107/materials/agenda-107-masque-08\n
 \n
 Session materials: https://datatracker.ietf.org/meeting/107/session/masque\n
 \n
 See in schedule: https://datatracker.ietf.org/meeting/107/agenda#row-107-2020-03-24-tue-2210-int-masque\n
END:VEVENT
BEGIN:VEVENT
UID:ietf-107-12550-drip
SUMMARY:drip - Drone Remote ID Protocol (https://ietf.webex.com/ietf/j.php?MTID=m8e996ebfa2a41c4960eda90c6915cd10 Meeting number (access code): 316 914 084 Meeting password: q653FxBvYBE)
LOCATION:Virtual Track 2
STATUS:CONFIRMED
CLASS:PUBLIC
DTSTART;TZID=UTC:20200325T200000
DTEND;TZID=UTC:20200325T213000
DTSTAMP:20200313T134400Z
URL:https://datatracker.ietf.org/meeting/107/materials/agenda-107-drip-02
DESCRIPTION:Session I\n
 Note: https://ietf.webex.com/ietf/j.php?MTID=m8e996ebfa2a41c4960eda90c6915cd10 Meeting number (access code): 316 914 084 Meeting password: q653FxBvYBE\n
 \n
 Agenda https://datatracker.ietf.org/meeting/107/materials/agenda-107-drip-02\n
 \n
 Session materials: https://datatracker.ietf.org/meeting/107/session/drip\n
 \n
 See in schedule: https://datatracker.ietf.org/meeting/107/agenda#row-107-2020-03-25-wed-2000-int-drip\n
END:VEVENT
END:VCALENDAR
