BEGIN:VCALENDAR
VERSION:2.0
METHOD:PUBLISH
PRODID:-//IETF//datatracker.ietf.org ical agenda//EN
BEGIN:VTIMEZONE
TZID:UTC
BEGIN:STANDARD
TZOFFSETFROM:+0000
TZOFFSETTO:+0000
TZNAME:UTC
DTSTART:19000101T000000
RDATE:19000101T000000
END:STANDARD
END:VTIMEZONE
BEGIN:VEVENT
UID:ietf-108-12888-raw
SUMMARY:raw - Reliable and Available Wireless
LOCATION:Room 4
STATUS:CONFIRMED
CLASS:PUBLIC
DTSTART;TZID=UTC:20200730T110000
DTEND;TZID=UTC:20200730T124000
DTSTAMP:20200622T155413Z
URL:https://datatracker.ietf.org/meeting/108/materials/agenda-108-raw-03
DESCRIPTION:Session I\n
 \n
 Meetecho: https://meetings.conf.meetecho.com/ietf108/?group=raw&short=&item=1\n
 \n
 Agenda https://datatracker.ietf.org/meeting/108/materials/agenda-108-raw-03\n
 \n
 Session materials: https://datatracker.ietf.org/meeting/108/session/raw\n
 \n
 See in schedule: https://datatracker.ietf.org/meeting/108/agenda#row-108-2020-07-30-thu-1100-rtg-raw\n
END:VEVENT
END:VCALENDAR
