BEGIN:VCALENDAR
VERSION:2.0
METHOD:PUBLISH
PRODID:-//IETF//datatracker.ietf.org ical agenda//EN
BEGIN:VTIMEZONE
TZID:Asia/Bangkok
X-LIC-LOCATION:Asia/Bangkok
BEGIN:STANDARD
TZOFFSETFROM:+064204
TZOFFSETTO:+064204
TZNAME:BMT
DTSTART:18800101T000000
RDATE:18800101T000000
END:STANDARD
BEGIN:STANDARD
TZOFFSETFROM:+064204
TZOFFSETTO:+0700
TZNAME:ICT
DTSTART:19200401T000000
RDATE:19200401T000000
END:STANDARD
END:VTIMEZONE
BEGIN:VEVENT
UID:ietf-109-13205-dispatch
SUMMARY:dispatch - Dispatch (Joint with ARTAREA)
LOCATION:Room 1
STATUS:CONFIRMED
CLASS:PUBLIC
DTSTART;TZID=Asia/Bangkok:20201116T120000
DTEND;TZID=Asia/Bangkok:20201116T140000
DTSTAMP:20201012T131229Z
URL:https://datatracker.ietf.org/meeting/109/materials/agenda-109-dispatch-01
DESCRIPTION:Session I\n
 Note: Joint with ARTAREA\n
 \n
 Meetecho: https://meetings.conf.meetecho.com/ietf109/?group=dispatch&short=&item=1\n
 \n
 Agenda https://datatracker.ietf.org/meeting/109/materials/agenda-109-dispatch-01\n
 \n
 Session materials: https://datatracker.ietf.org/meeting/109/session/dispatch\n
 \n
 See in schedule: https://datatracker.ietf.org/meeting/109/agenda#row-109-2020-11-16-mon-1200-art-dispatch\n
END:VEVENT
BEGIN:VEVENT
UID:ietf-109-13197-jmap
SUMMARY:jmap - JSON Mail Access Protocol
LOCATION:Room 1
STATUS:CONFIRMED
CLASS:PUBLIC
DTSTART;TZID=Asia/Bangkok:20201116T143000
DTEND;TZID=Asia/Bangkok:20201116T153000
DTSTAMP:20201012T131251Z
URL:https://datatracker.ietf.org/meeting/109/materials/agenda-109-jmap-01
DESCRIPTION:Session II\n
 \n
 Meetecho: https://meetings.conf.meetecho.com/ietf109/?group=jmap&short=&item=1\n
 \n
 Agenda https://datatracker.ietf.org/meeting/109/materials/agenda-109-jmap-01\n
 \n
 Session materials: https://datatracker.ietf.org/meeting/109/session/jmap\n
 \n
 See in schedule: https://datatracker.ietf.org/meeting/109/agenda#row-109-2020-11-16-mon-1430-art-jmap\n
END:VEVENT
BEGIN:VEVENT
UID:ietf-109-13189-jsonpath
SUMMARY:jsonpath - JSON Path
LOCATION:Room 1
STATUS:CONFIRMED
CLASS:PUBLIC
DTSTART;TZID=Asia/Bangkok:20201116T160000
DTEND;TZID=Asia/Bangkok:20201116T180000
DTSTAMP:20201012T131312Z
URL:https://datatracker.ietf.org/meeting/109/materials/agenda-109-jsonpath-00
DESCRIPTION:Session III\n
 \n
 Meetecho: https://meetings.conf.meetecho.com/ietf109/?group=jsonpath&short=&item=1\n
 \n
 Agenda https://datatracker.ietf.org/meeting/109/materials/agenda-109-jsonpath-00\n
 \n
 Session materials: https://datatracker.ietf.org/meeting/109/session/jsonpath\n
 \n
 See in schedule: https://datatracker.ietf.org/meeting/109/agenda#row-109-2020-11-16-mon-1600-art-jsonpath\n
END:VEVENT
BEGIN:VEVENT
UID:ietf-109-13188-webtrans
SUMMARY:webtrans - WebTransport
LOCATION:Room 2
STATUS:CONFIRMED
CLASS:PUBLIC
DTSTART;TZID=Asia/Bangkok:20201116T160000
DTEND;TZID=Asia/Bangkok:20201116T180000
DTSTAMP:20201012T131312Z
URL:https://datatracker.ietf.org/meeting/109/materials/agenda-109-webtrans-04
DESCRIPTION:Session III\n
 \n
 Meetecho: https://meetings.conf.meetecho.com/ietf109/?group=webtrans&short=&item=1\n
 \n
 Agenda https://datatracker.ietf.org/meeting/109/materials/agenda-109-webtrans-04\n
 \n
 Session materials: https://datatracker.ietf.org/meeting/109/session/webtrans\n
 \n
 See in schedule: https://datatracker.ietf.org/meeting/109/agenda#row-109-2020-11-16-mon-1600-art-webtrans\n
END:VEVENT
BEGIN:VEVENT
UID:ietf-109-13181-core
SUMMARY:core - Constrained RESTful Environments
LOCATION:Room 1
STATUS:CONFIRMED
CLASS:PUBLIC
DTSTART;TZID=Asia/Bangkok:20201117T120000
DTEND;TZID=Asia/Bangkok:20201117T140000
DTSTAMP:20201012T131327Z
URL:https://datatracker.ietf.org/meeting/109/materials/agenda-109-core-sessb-01
DESCRIPTION:Session I\n
 \n
 Meetecho: https://meetings.conf.meetecho.com/ietf109/?group=core&short=&item=1\n
 \n
 Agenda https://datatracker.ietf.org/meeting/109/materials/agenda-109-core-sessb-01\n
 \n
 Session materials: https://datatracker.ietf.org/meeting/109/session/core\n
 \n
 See in schedule: https://datatracker.ietf.org/meeting/109/agenda#row-109-2020-11-17-tue-1200-art-core\n
END:VEVENT
BEGIN:VEVENT
UID:ietf-109-13173-emailcore
SUMMARY:emailcore - Revision of core Email specifications
LOCATION:Room 1
STATUS:CONFIRMED
CLASS:PUBLIC
DTSTART;TZID=Asia/Bangkok:20201117T143000
DTEND;TZID=Asia/Bangkok:20201117T153000
DTSTAMP:20201012T131342Z
URL:https://datatracker.ietf.org/meeting/109/materials/agenda-109-emailcore-01
DESCRIPTION:Session II\n
 \n
 Meetecho: https://meetings.conf.meetecho.com/ietf109/?group=emailcore&short=&item=1\n
 \n
 Agenda https://datatracker.ietf.org/meeting/109/materials/agenda-109-emailcore-01\n
 \n
 Session materials: https://datatracker.ietf.org/meeting/109/session/emailcore\n
 \n
 See in schedule: https://datatracker.ietf.org/meeting/109/agenda#row-109-2020-11-17-tue-1430-art-emailcore\n
END:VEVENT
BEGIN:VEVENT
UID:ietf-109-13165-asdf
SUMMARY:asdf - A Semantic Definition Format for Data and Interactions of Things
LOCATION:Room 1
STATUS:CONFIRMED
CLASS:PUBLIC
DTSTART;TZID=Asia/Bangkok:20201117T160000
DTEND;TZID=Asia/Bangkok:20201117T180000
DTSTAMP:20201012T131354Z
URL:https://datatracker.ietf.org/meeting/109/materials/agenda-109-asdf-01
DESCRIPTION:Session III\n
 \n
 Meetecho: https://meetings.conf.meetecho.com/ietf109/?group=asdf&short=&item=1\n
 \n
 Agenda https://datatracker.ietf.org/meeting/109/materials/agenda-109-asdf-01\n
 \n
 Session materials: https://datatracker.ietf.org/meeting/109/session/asdf\n
 \n
 See in schedule: https://datatracker.ietf.org/meeting/109/agenda#row-109-2020-11-17-tue-1600-art-asdf\n
END:VEVENT
BEGIN:VEVENT
UID:ietf-109-13164-sframe
SUMMARY:sframe - Secure Media Frames
LOCATION:Room 2
STATUS:CONFIRMED
CLASS:PUBLIC
DTSTART;TZID=Asia/Bangkok:20201117T160000
DTEND;TZID=Asia/Bangkok:20201117T180000
DTSTAMP:20201012T131354Z
URL:https://datatracker.ietf.org/meeting/109/materials/agenda-109-sframe-03
DESCRIPTION:Session III\n
 \n
 Meetecho: https://meetings.conf.meetecho.com/ietf109/?group=sframe&short=&item=1\n
 \n
 Agenda https://datatracker.ietf.org/meeting/109/materials/agenda-109-sframe-03\n
 \n
 Session materials: https://datatracker.ietf.org/meeting/109/session/sframe\n
 \n
 See in schedule: https://datatracker.ietf.org/meeting/109/agenda#row-109-2020-11-17-tue-1600-art-sframe\n
END:VEVENT
BEGIN:VEVENT
UID:ietf-109-13157-dmarc
SUMMARY:dmarc - Domain-based Message Authentication, Reporting & Conformance
LOCATION:Room 1
STATUS:CONFIRMED
CLASS:PUBLIC
DTSTART;TZID=Asia/Bangkok:20201118T120000
DTEND;TZID=Asia/Bangkok:20201118T140000
DTSTAMP:20201012T131408Z
URL:https://datatracker.ietf.org/meeting/109/materials/agenda-109-dmarc-00
DESCRIPTION:Session I\n
 \n
 Meetecho: https://meetings.conf.meetecho.com/ietf109/?group=dmarc&short=&item=1\n
 \n
 Agenda https://datatracker.ietf.org/meeting/109/materials/agenda-109-dmarc-00\n
 \n
 Session materials: https://datatracker.ietf.org/meeting/109/session/dmarc\n
 \n
 See in schedule: https://datatracker.ietf.org/meeting/109/agenda#row-109-2020-11-18-wed-1200-art-dmarc\n
END:VEVENT
BEGIN:VEVENT
UID:ietf-109-13156-regext
SUMMARY:regext - Registration Protocols Extensions
LOCATION:Room 2
STATUS:CONFIRMED
CLASS:PUBLIC
DTSTART;TZID=Asia/Bangkok:20201118T120000
DTEND;TZID=Asia/Bangkok:20201118T140000
DTSTAMP:20201012T131408Z
URL:https://datatracker.ietf.org/meeting/109/materials/agenda-109-regext-02
DESCRIPTION:Session I\n
 \n
 Meetecho: https://meetings.conf.meetecho.com/ietf109/?group=regext&short=&item=1\n
 \n
 Agenda https://datatracker.ietf.org/meeting/109/materials/agenda-109-regext-02\n
 \n
 Session materials: https://datatracker.ietf.org/meeting/109/session/regext\n
 \n
 See in schedule: https://datatracker.ietf.org/meeting/109/agenda#row-109-2020-11-18-wed-1200-art-regext\n
END:VEVENT
BEGIN:VEVENT
UID:ietf-109-13133-extra
SUMMARY:extra - Email mailstore and eXtensions To Revise or Amend
LOCATION:Room 1
STATUS:CONFIRMED
CLASS:PUBLIC
DTSTART;TZID=Asia/Bangkok:20201118T143000
DTEND;TZID=Asia/Bangkok:20201118T153000
DTSTAMP:20201012T131758Z
URL:https://datatracker.ietf.org/meeting/109/materials/agenda-109-extra-01
DESCRIPTION:Session II\n
 \n
 Meetecho: https://meetings.conf.meetecho.com/ietf109/?group=extra&short=&item=1\n
 \n
 Agenda https://datatracker.ietf.org/meeting/109/materials/agenda-109-extra-01\n
 \n
 Session materials: https://datatracker.ietf.org/meeting/109/session/extra\n
 \n
 See in schedule: https://datatracker.ietf.org/meeting/109/agenda#row-109-2020-11-18-wed-1430-art-extra\n
END:VEVENT
BEGIN:VEVENT
UID:ietf-109-13132-rum
SUMMARY:rum - Relay User Machine
LOCATION:Room 2
STATUS:CONFIRMED
CLASS:PUBLIC
DTSTART;TZID=Asia/Bangkok:20201118T143000
DTEND;TZID=Asia/Bangkok:20201118T153000
DTSTAMP:20201012T131758Z
URL:https://datatracker.ietf.org/meeting/109/materials/agenda-109-rum-01
DESCRIPTION:Session II\n
 \n
 Meetecho: https://meetings.conf.meetecho.com/ietf109/?group=rum&short=&item=1\n
 \n
 Agenda https://datatracker.ietf.org/meeting/109/materials/agenda-109-rum-01\n
 \n
 Session materials: https://datatracker.ietf.org/meeting/109/session/rum\n
 \n
 See in schedule: https://datatracker.ietf.org/meeting/109/agenda#row-109-2020-11-18-wed-1430-art-rum\n
END:VEVENT
BEGIN:VEVENT
UID:ietf-109-13141-avtcore
SUMMARY:avtcore - Audio/Video Transport Core Maintenance
LOCATION:Room 1
STATUS:CONFIRMED
CLASS:PUBLIC
DTSTART;TZID=Asia/Bangkok:20201119T120000
DTEND;TZID=Asia/Bangkok:20201119T140000
DTSTAMP:20201012T131437Z
URL:https://datatracker.ietf.org/meeting/109/materials/agenda-109-avtcore-04
DESCRIPTION:Session I\n
 \n
 Meetecho: https://meetings.conf.meetecho.com/ietf109/?group=avtcore&short=&item=1\n
 \n
 Agenda https://datatracker.ietf.org/meeting/109/materials/agenda-109-avtcore-04\n
 \n
 Session materials: https://datatracker.ietf.org/meeting/109/session/avtcore\n
 \n
 See in schedule: https://datatracker.ietf.org/meeting/109/agenda#row-109-2020-11-19-thu-1200-art-avtcore\n
END:VEVENT
BEGIN:VEVENT
UID:ietf-109-13213-cbor
SUMMARY:cbor - Concise Binary Object Representation Maintenance and Extensions
LOCATION:Room 1
STATUS:CONFIRMED
CLASS:PUBLIC
DTSTART;TZID=Asia/Bangkok:20201119T143000
DTEND;TZID=Asia/Bangkok:20201119T153000
DTSTAMP:20201016T115518Z
URL:https://datatracker.ietf.org/meeting/109/materials/agenda-109-cbor-00
DESCRIPTION:Session II\n
 \n
 Meetecho: https://meetings.conf.meetecho.com/ietf109/?group=cbor&short=&item=1\n
 \n
 Agenda https://datatracker.ietf.org/meeting/109/materials/agenda-109-cbor-00\n
 \n
 Session materials: https://datatracker.ietf.org/meeting/109/session/cbor\n
 \n
 See in schedule: https://datatracker.ietf.org/meeting/109/agenda#row-109-2020-11-19-thu-1430-art-cbor\n
END:VEVENT
BEGIN:VEVENT
UID:ietf-109-13125-calext
SUMMARY:calext - Calendaring Extensions
LOCATION:Room 1
STATUS:CONFIRMED
CLASS:PUBLIC
DTSTART;TZID=Asia/Bangkok:20201119T160000
DTEND;TZID=Asia/Bangkok:20201119T180000
DTSTAMP:20201016T115531Z
URL:https://datatracker.ietf.org/meeting/109/materials/agenda-109-calext-01
DESCRIPTION:Session III\n
 \n
 Meetecho: https://meetings.conf.meetecho.com/ietf109/?group=calext&short=&item=1\n
 \n
 Agenda https://datatracker.ietf.org/meeting/109/materials/agenda-109-calext-01\n
 \n
 Session materials: https://datatracker.ietf.org/meeting/109/session/calext\n
 \n
 See in schedule: https://datatracker.ietf.org/meeting/109/agenda#row-109-2020-11-19-thu-1600-art-calext\n
END:VEVENT
BEGIN:VEVENT
UID:ietf-109-13109-httpapi
SUMMARY:httpapi - Building Blocks for HTTP APIs
LOCATION:Room 1
STATUS:CONFIRMED
CLASS:PUBLIC
DTSTART;TZID=Asia/Bangkok:20201120T143000
DTEND;TZID=Asia/Bangkok:20201120T153000
DTSTAMP:20201012T131529Z
URL:https://datatracker.ietf.org/meeting/109/materials/agenda-109-httpapi-00
DESCRIPTION:Session II\n
 \n
 Meetecho: https://meetings.conf.meetecho.com/ietf109/?group=httpapi&short=&item=1\n
 \n
 Agenda https://datatracker.ietf.org/meeting/109/materials/agenda-109-httpapi-00\n
 \n
 Session materials: https://datatracker.ietf.org/meeting/109/session/httpapi\n
 \n
 See in schedule: https://datatracker.ietf.org/meeting/109/agenda#row-109-2020-11-20-fri-1430-art-httpapi\n
END:VEVENT
BEGIN:VEVENT
UID:ietf-109-13101-core
SUMMARY:core - Constrained RESTful Environments
LOCATION:Room 1
STATUS:CONFIRMED
CLASS:PUBLIC
DTSTART;TZID=Asia/Bangkok:20201120T160000
DTEND;TZID=Asia/Bangkok:20201120T180000
DTSTAMP:20201012T131548Z
URL:https://datatracker.ietf.org/meeting/109/materials/agenda-109-core-sessa-05
DESCRIPTION:Session III\n
 \n
 Meetecho: https://meetings.conf.meetecho.com/ietf109/?group=core&short=&item=2\n
 \n
 Agenda https://datatracker.ietf.org/meeting/109/materials/agenda-109-core-sessa-05\n
 \n
 Session materials: https://datatracker.ietf.org/meeting/109/session/core\n
 \n
 See in schedule: https://datatracker.ietf.org/meeting/109/agenda#row-109-2020-11-20-fri-1600-art-core\n
END:VEVENT
BEGIN:VEVENT
UID:ietf-109-13100-stir
SUMMARY:stir - Secure Telephone Identity Revisited
LOCATION:Room 2
STATUS:CONFIRMED
CLASS:PUBLIC
DTSTART;TZID=Asia/Bangkok:20201120T160000
DTEND;TZID=Asia/Bangkok:20201120T180000
DTSTAMP:20201012T131548Z
URL:https://datatracker.ietf.org/meeting/109/materials/agenda-109-stir-02
DESCRIPTION:Session III\n
 \n
 Meetecho: https://meetings.conf.meetecho.com/ietf109/?group=stir&short=&item=1\n
 \n
 Agenda https://datatracker.ietf.org/meeting/109/materials/agenda-109-stir-02\n
 \n
 Session materials: https://datatracker.ietf.org/meeting/109/session/stir\n
 \n
 See in schedule: https://datatracker.ietf.org/meeting/109/agenda#row-109-2020-11-20-fri-1600-art-stir\n
END:VEVENT
END:VCALENDAR
