BEGIN:VCALENDAR
VERSION:2.0
METHOD:PUBLISH
PRODID:-//IETF//datatracker.ietf.org ical agenda//EN
BEGIN:VTIMEZONE
TZID:Asia/Bangkok
X-LIC-LOCATION:Asia/Bangkok
BEGIN:STANDARD
TZOFFSETFROM:+064204
TZOFFSETTO:+064204
TZNAME:BMT
DTSTART:18800101T000000
RDATE:18800101T000000
END:STANDARD
BEGIN:STANDARD
TZOFFSETFROM:+064204
TZOFFSETTO:+0700
TZNAME:ICT
DTSTART:19200401T000000
RDATE:19200401T000000
END:STANDARD
END:VTIMEZONE
BEGIN:VEVENT
UID:ietf-109-13227-hackathon
SUMMARY:hackathon - Hackathon
LOCATION:Room 1
STATUS:CONFIRMED
CLASS:PUBLIC
DTSTART;TZID=Asia/Bangkok:20201109T120000
DTEND;TZID=Asia/Bangkok:20201109T140000
DTSTAMP:20201016T143139Z
URL:https://datatracker.ietf.org/meeting/109/materials/agenda-109-hackathon-03
DESCRIPTION:Hackathon Kickoff\n
 \n
 Meetecho: https://meetings.conf.meetecho.com/ietf109/?group=hackathon&short=&item=1\n
 \n
 Agenda https://datatracker.ietf.org/meeting/109/materials/agenda-109-hackathon-03\n
 \n
 Session materials: https://datatracker.ietf.org/meeting/109/session/hackathon\n
 \n
 See in schedule: https://datatracker.ietf.org/meeting/109/agenda#row-109-2020-11-09-mon-1200-gen-hackathon\n
END:VEVENT
BEGIN:VEVENT
UID:ietf-109-13250-iepg
SUMMARY:IEPG Meeting
LOCATION:Room 1
STATUS:CONFIRMED
CLASS:PUBLIC
DTSTART;TZID=Asia/Bangkok:20201112T080000
DTEND;TZID=Asia/Bangkok:20201112T100000
DTSTAMP:20201111T094519Z
URL:https://datatracker.ietf.org/meeting/109/materials/agenda-109-iepg-sessa-01
DESCRIPTION:IEPG Meeting\n
 \n
 Meetecho: https://meetings.conf.meetecho.com/ietf109/?group=iepg&short=iepg&item=1\n
 \n
 Agenda https://datatracker.ietf.org/meeting/109/materials/agenda-109-iepg-sessa-01\n
 \n
 Session materials: https://datatracker.ietf.org/meeting/109/session/iepg\n
 \n
 See in schedule: https://datatracker.ietf.org/meeting/109/agenda#row-109-2020-11-12-thu-0800-iepg-iepg-meeting\n
END:VEVENT
BEGIN:VEVENT
UID:ietf-109-13245-edu
SUMMARY:Newcomers' Quick Connections (Open to Newcomers. Note that pre-registration is required)
LOCATION:Gather
STATUS:CONFIRMED
CLASS:PUBLIC
DTSTART;TZID=Asia/Bangkok:20201112T120000
DTEND;TZID=Asia/Bangkok:20201112T130000
DTSTAMP:20201109T133323Z
DESCRIPTION:Newcomers' Quick Connections (Open to Newcomers. Note that pre-registration is required)\n
 \n
 Session materials: https://datatracker.ietf.org/meeting/109/session/edu\n
 \n
 See in schedule: https://datatracker.ietf.org/meeting/109/agenda#row-109-2020-11-12-thu-1200-edu-newcomers-quick-connections-open-to-newcomers-note-that-pre-registration-is-required\n
END:VEVENT
BEGIN:VEVENT
UID:ietf-109-13236-hackathon
SUMMARY:hackathon - Hackathon
LOCATION:Room 1
STATUS:CONFIRMED
CLASS:PUBLIC
DTSTART;TZID=Asia/Bangkok:20201113T120000
DTEND;TZID=Asia/Bangkok:20201113T140000
DTSTAMP:20201016T143152Z
URL:https://datatracker.ietf.org/meeting/109/materials/agenda-109-hackathon-03
DESCRIPTION:Hackathon Closing\n
 \n
 Meetecho: https://meetings.conf.meetecho.com/ietf109/?group=hackathon&short=&item=2\n
 \n
 Agenda https://datatracker.ietf.org/meeting/109/materials/agenda-109-hackathon-03\n
 \n
 Session materials: https://datatracker.ietf.org/meeting/109/session/hackathon\n
 \n
 See in schedule: https://datatracker.ietf.org/meeting/109/agenda#row-109-2020-11-13-fri-1200-gen-hackathon\n
END:VEVENT
BEGIN:VEVENT
UID:ietf-109-13297-hotrfc
SUMMARY:hotrfc - Hot RFC Lightning Talks (https://ietf.webex.com/ietf/j.php?MTID=m34dd13cb3ee227e189d973ccfc2b8287)
LOCATION:HotRFC
STATUS:CONFIRMED
CLASS:PUBLIC
DTSTART;TZID=Asia/Bangkok:20201113T210000
DTEND;TZID=Asia/Bangkok:20201113T223000
DTSTAMP:20201112T134916Z
URL:https://datatracker.ietf.org/meeting/109/materials/agenda-109-hotrfc-05
DESCRIPTION:Hot RFC Lightning Talks\n
 Note: https://ietf.webex.com/ietf/j.php?MTID=m34dd13cb3ee227e189d973ccfc2b8287\n
 \n
 Agenda https://datatracker.ietf.org/meeting/109/materials/agenda-109-hotrfc-05\n
 \n
 Session materials: https://datatracker.ietf.org/meeting/109/session/hotrfc\n
 \n
 See in schedule: https://datatracker.ietf.org/meeting/109/agenda#row-109-2020-11-13-fri-2100-ietf-hotrfc\n
END:VEVENT
BEGIN:VEVENT
UID:ietf-109-13217-tools
SUMMARY:Code Sprint
LOCATION:Code Sprint
STATUS:CONFIRMED
CLASS:PUBLIC
DTSTART;TZID=Asia/Bangkok:20201114T120000
DTEND;TZID=Asia/Bangkok:20201114T140000
DTSTAMP:20201027T094722Z
DESCRIPTION:Code Sprint\n
 \n
 Session materials: https://datatracker.ietf.org/meeting/109/session/tools\n
 \n
 See in schedule: https://datatracker.ietf.org/meeting/109/agenda#row-109-2020-11-14-sat-1200-tools-code-sprint\n
END:VEVENT
BEGIN:VEVENT
UID:ietf-109-13246-edu
SUMMARY:Newcomers' Coffee Break
STATUS:CONFIRMED
CLASS:PUBLIC
DTSTART;TZID=Asia/Bangkok:20201117T140000
DTEND;TZID=Asia/Bangkok:20201117T143000
DTSTAMP:20201023T121026Z
DESCRIPTION:Newcomers' Coffee Break\n
 \n
 Session materials: https://datatracker.ietf.org/meeting/109/session/edu\n
 \n
 See in schedule: https://datatracker.ietf.org/meeting/109/agenda#row-109-2020-11-17-tue-1400-edu-newcomers-coffee-break\n
END:VEVENT
BEGIN:VEVENT
UID:ietf-109-13155-madinas
SUMMARY:madinas - MAC Address Device Identification for Network and Application Services
LOCATION:Room 3
STATUS:CONFIRMED
CLASS:PUBLIC
DTSTART;TZID=Asia/Bangkok:20201118T120000
DTEND;TZID=Asia/Bangkok:20201118T140000
DTSTAMP:20201012T131408Z
URL:https://datatracker.ietf.org/meeting/109/materials/agenda-109-madinas-03
DESCRIPTION:Session I\n
 \n
 Meetecho: https://meetings.conf.meetecho.com/ietf109/?group=madinas&short=&item=1\n
 \n
 Agenda https://datatracker.ietf.org/meeting/109/materials/agenda-109-madinas-03\n
 \n
 Session materials: https://datatracker.ietf.org/meeting/109/session/madinas\n
 \n
 See in schedule: https://datatracker.ietf.org/meeting/109/agenda#row-109-2020-11-18-wed-1200-int-madinas\n
END:VEVENT
BEGIN:VEVENT
UID:ietf-109-13216-ietf
SUMMARY:IETF Plenary
LOCATION:Plenary
STATUS:CONFIRMED
CLASS:PUBLIC
DTSTART;TZID=Asia/Bangkok:20201118T160000
DTEND;TZID=Asia/Bangkok:20201118T174000
DTSTAMP:20201102T151419Z
URL:https://datatracker.ietf.org/meeting/109/materials/agenda-109-ietf-sessa-00
DESCRIPTION:IETF Plenary\n
 \n
 Meetecho: https://meetings.conf.meetecho.com/ietf109/?group=ietf&short=plenary&item=1\n
 \n
 Agenda https://datatracker.ietf.org/meeting/109/materials/agenda-109-ietf-sessa-00\n
 \n
 Session materials: https://datatracker.ietf.org/meeting/109/session/ietf\n
 \n
 See in schedule: https://datatracker.ietf.org/meeting/109/agenda#row-109-2020-11-18-wed-1600-1plenary-ietf\n
END:VEVENT
BEGIN:VEVENT
UID:ietf-109-13247-edu
SUMMARY:Newcomers' Coffee Break
STATUS:CONFIRMED
CLASS:PUBLIC
DTSTART;TZID=Asia/Bangkok:20201119T153000
DTEND;TZID=Asia/Bangkok:20201119T160000
DTSTAMP:20201023T121054Z
DESCRIPTION:Newcomers' Coffee Break\n
 \n
 Session materials: https://datatracker.ietf.org/meeting/109/session/edu\n
 \n
 See in schedule: https://datatracker.ietf.org/meeting/109/agenda#row-109-2020-11-19-thu-1530-edu-newcomers-coffee-break\n
END:VEVENT
END:VCALENDAR
