BEGIN:VCALENDAR
VERSION:2.0
METHOD:PUBLISH
PRODID:-//IETF//datatracker.ietf.org ical agenda//EN
BEGIN:VTIMEZONE
TZID:Asia/Bangkok
X-LIC-LOCATION:Asia/Bangkok
BEGIN:STANDARD
TZOFFSETFROM:+064204
TZOFFSETTO:+064204
TZNAME:BMT
DTSTART:18800101T000000
RDATE:18800101T000000
END:STANDARD
BEGIN:STANDARD
TZOFFSETFROM:+064204
TZOFFSETTO:+0700
TZNAME:ICT
DTSTART:19200401T000000
RDATE:19200401T000000
END:STANDARD
END:VTIMEZONE
BEGIN:VEVENT
UID:ietf-109-13140-gendispatch
SUMMARY:gendispatch - General Area Dispatch
LOCATION:Room 2
STATUS:CONFIRMED
CLASS:PUBLIC
DTSTART;TZID=Asia/Bangkok:20201119T120000
DTEND;TZID=Asia/Bangkok:20201119T140000
DTSTAMP:20201012T131437Z
URL:https://datatracker.ietf.org/meeting/109/materials/agenda-109-gendispatch-02
DESCRIPTION:Session I\n
 \n
 Meetecho: https://meetings.conf.meetecho.com/ietf109/?group=gendispatch&short=&item=1\n
 \n
 Agenda https://datatracker.ietf.org/meeting/109/materials/agenda-109-gendispatch-02\n
 \n
 Session materials: https://datatracker.ietf.org/meeting/109/session/gendispatch\n
 \n
 See in schedule: https://datatracker.ietf.org/meeting/109/agenda#row-109-2020-11-19-thu-1200-gen-gendispatch\n
END:VEVENT
BEGIN:VEVENT
UID:ietf-109-13117-shmoo
SUMMARY:shmoo - Stay Home Meet Only Online
LOCATION:Room 1
STATUS:CONFIRMED
CLASS:PUBLIC
DTSTART;TZID=Asia/Bangkok:20201120T120000
DTEND;TZID=Asia/Bangkok:20201120T140000
DTSTAMP:20201012T131517Z
URL:https://datatracker.ietf.org/meeting/109/materials/agenda-109-shmoo-01
DESCRIPTION:Session I\n
 \n
 Meetecho: https://meetings.conf.meetecho.com/ietf109/?group=shmoo&short=&item=1\n
 \n
 Agenda https://datatracker.ietf.org/meeting/109/materials/agenda-109-shmoo-01\n
 \n
 Session materials: https://datatracker.ietf.org/meeting/109/session/shmoo\n
 \n
 See in schedule: https://datatracker.ietf.org/meeting/109/agenda#row-109-2020-11-20-fri-1200-gen-shmoo\n
END:VEVENT
END:VCALENDAR
