BEGIN:VCALENDAR
VERSION:2.0
METHOD:PUBLISH
PRODID:-//IETF//datatracker.ietf.org ical agenda//EN
BEGIN:VTIMEZONE
TZID:Asia/Bangkok
X-LIC-LOCATION:Asia/Bangkok
BEGIN:STANDARD
TZOFFSETFROM:+064204
TZOFFSETTO:+064204
TZNAME:BMT
DTSTART:18800101T000000
RDATE:18800101T000000
END:STANDARD
BEGIN:STANDARD
TZOFFSETFROM:+064204
TZOFFSETTO:+0700
TZNAME:ICT
DTSTART:19200401T000000
RDATE:19200401T000000
END:STANDARD
END:VTIMEZONE
BEGIN:VEVENT
UID:ietf-109-13196-add
SUMMARY:add - Adaptive DNS Discovery
LOCATION:Room 2
STATUS:CONFIRMED
CLASS:PUBLIC
DTSTART;TZID=Asia/Bangkok:20201116T143000
DTEND;TZID=Asia/Bangkok:20201116T153000
DTSTAMP:20201012T131251Z
URL:https://datatracker.ietf.org/meeting/109/materials/agenda-109-add-02
DESCRIPTION:Session II\n
 \n
 Meetecho: https://meetings.conf.meetecho.com/ietf109/?group=add&short=&item=1\n
 \n
 Agenda https://datatracker.ietf.org/meeting/109/materials/agenda-109-add-02\n
 \n
 Session materials: https://datatracker.ietf.org/meeting/109/session/add\n
 \n
 See in schedule: https://datatracker.ietf.org/meeting/109/agenda#row-109-2020-11-16-mon-1430-int-add\n
END:VEVENT
BEGIN:VEVENT
UID:ietf-109-13187-ntp
SUMMARY:ntp - Network Time Protocol
LOCATION:Room 3
STATUS:CONFIRMED
CLASS:PUBLIC
DTSTART;TZID=Asia/Bangkok:20201116T160000
DTEND;TZID=Asia/Bangkok:20201116T180000
DTSTAMP:20201012T131312Z
URL:https://datatracker.ietf.org/meeting/109/materials/agenda-109-ntp-00
DESCRIPTION:Session III\n
 \n
 Meetecho: https://meetings.conf.meetecho.com/ietf109/?group=ntp&short=&item=1\n
 \n
 Agenda https://datatracker.ietf.org/meeting/109/materials/agenda-109-ntp-00\n
 \n
 Session materials: https://datatracker.ietf.org/meeting/109/session/ntp\n
 \n
 See in schedule: https://datatracker.ietf.org/meeting/109/agenda#row-109-2020-11-16-mon-1600-int-ntp\n
END:VEVENT
BEGIN:VEVENT
UID:ietf-109-13180-6man
SUMMARY:6man - IPv6 Maintenance
LOCATION:Room 2
STATUS:CONFIRMED
CLASS:PUBLIC
DTSTART;TZID=Asia/Bangkok:20201117T120000
DTEND;TZID=Asia/Bangkok:20201117T140000
DTSTAMP:20201012T131327Z
URL:https://datatracker.ietf.org/meeting/109/materials/agenda-109-6man-05
DESCRIPTION:Session I\n
 \n
 Meetecho: https://meetings.conf.meetecho.com/ietf109/?group=6man&short=&item=1\n
 \n
 Agenda https://datatracker.ietf.org/meeting/109/materials/agenda-109-6man-05\n
 \n
 Session materials: https://datatracker.ietf.org/meeting/109/session/6man\n
 \n
 See in schedule: https://datatracker.ietf.org/meeting/109/agenda#row-109-2020-11-17-tue-1200-int-6man\n
END:VEVENT
BEGIN:VEVENT
UID:ietf-109-13171-dmm
SUMMARY:dmm - Distributed Mobility Management
LOCATION:Room 3
STATUS:CONFIRMED
CLASS:PUBLIC
DTSTART;TZID=Asia/Bangkok:20201117T143000
DTEND;TZID=Asia/Bangkok:20201117T153000
DTSTAMP:20201012T131342Z
URL:https://datatracker.ietf.org/meeting/109/materials/agenda-109-dmm-02
DESCRIPTION:Session II\n
 \n
 Meetecho: https://meetings.conf.meetecho.com/ietf109/?group=dmm&short=&item=1\n
 \n
 Agenda https://datatracker.ietf.org/meeting/109/materials/agenda-109-dmm-02\n
 \n
 Session materials: https://datatracker.ietf.org/meeting/109/session/dmm\n
 \n
 See in schedule: https://datatracker.ietf.org/meeting/109/agenda#row-109-2020-11-17-tue-1430-int-dmm\n
END:VEVENT
BEGIN:VEVENT
UID:ietf-109-13155-madinas
SUMMARY:madinas - MAC Address Device Identification for Network and Application Services
LOCATION:Room 3
STATUS:CONFIRMED
CLASS:PUBLIC
DTSTART;TZID=Asia/Bangkok:20201118T120000
DTEND;TZID=Asia/Bangkok:20201118T140000
DTSTAMP:20201012T131408Z
URL:https://datatracker.ietf.org/meeting/109/materials/agenda-109-madinas-03
DESCRIPTION:Session I\n
 \n
 Meetecho: https://meetings.conf.meetecho.com/ietf109/?group=madinas&short=&item=1\n
 \n
 Agenda https://datatracker.ietf.org/meeting/109/materials/agenda-109-madinas-03\n
 \n
 Session materials: https://datatracker.ietf.org/meeting/109/session/madinas\n
 \n
 See in schedule: https://datatracker.ietf.org/meeting/109/agenda#row-109-2020-11-18-wed-1200-int-madinas\n
END:VEVENT
BEGIN:VEVENT
UID:ietf-109-13131-6lo
SUMMARY:6lo - IPv6 over Networks of Resource-constrained Nodes
LOCATION:Room 3
STATUS:CANCELLED
CLASS:PUBLIC
DTSTART;TZID=Asia/Bangkok:20201118T143000
DTEND;TZID=Asia/Bangkok:20201118T153000
DTSTAMP:20201012T131758Z
DESCRIPTION:Session II\n
 \n
 Meetecho: https://meetings.conf.meetecho.com/ietf109/?group=6lo&short=&item=1\n
 \n
 Session materials: https://datatracker.ietf.org/meeting/109/session/6lo\n
 \n
 See in schedule: https://datatracker.ietf.org/meeting/109/agenda#row-109-2020-11-18-wed-1430-int-6lo\n
END:VEVENT
BEGIN:VEVENT
UID:ietf-109-13130-drip
SUMMARY:drip - Drone Remote ID Protocol
LOCATION:Room 4
STATUS:CONFIRMED
CLASS:PUBLIC
DTSTART;TZID=Asia/Bangkok:20201118T143000
DTEND;TZID=Asia/Bangkok:20201118T153000
DTSTAMP:20201012T131758Z
URL:https://datatracker.ietf.org/meeting/109/materials/agenda-109-drip-02
DESCRIPTION:Session II\n
 \n
 Meetecho: https://meetings.conf.meetecho.com/ietf109/?group=drip&short=&item=1\n
 \n
 Agenda https://datatracker.ietf.org/meeting/109/materials/agenda-109-drip-02\n
 \n
 Session materials: https://datatracker.ietf.org/meeting/109/session/drip\n
 \n
 See in schedule: https://datatracker.ietf.org/meeting/109/agenda#row-109-2020-11-18-wed-1430-int-drip\n
END:VEVENT
BEGIN:VEVENT
UID:ietf-109-13212-intarea
SUMMARY:intarea - Internet Area Working Group
LOCATION:Room 2
STATUS:CONFIRMED
CLASS:PUBLIC
DTSTART;TZID=Asia/Bangkok:20201119T143000
DTEND;TZID=Asia/Bangkok:20201119T153000
DTSTAMP:20201016T115518Z
URL:https://datatracker.ietf.org/meeting/109/materials/agenda-109-intarea-04
DESCRIPTION:Session II\n
 \n
 Meetecho: https://meetings.conf.meetecho.com/ietf109/?group=intarea&short=&item=1\n
 \n
 Agenda https://datatracker.ietf.org/meeting/109/materials/agenda-109-intarea-04\n
 \n
 Session materials: https://datatracker.ietf.org/meeting/109/session/intarea\n
 \n
 See in schedule: https://datatracker.ietf.org/meeting/109/agenda#row-109-2020-11-19-thu-1430-int-intarea\n
END:VEVENT
BEGIN:VEVENT
UID:ietf-109-13116-add
SUMMARY:add - Adaptive DNS Discovery
LOCATION:Room 2
STATUS:CONFIRMED
CLASS:PUBLIC
DTSTART;TZID=Asia/Bangkok:20201120T120000
DTEND;TZID=Asia/Bangkok:20201120T140000
DTSTAMP:20201012T131517Z
URL:https://datatracker.ietf.org/meeting/109/materials/agenda-109-add-02
DESCRIPTION:Session I\n
 \n
 Meetecho: https://meetings.conf.meetecho.com/ietf109/?group=add&short=&item=2\n
 \n
 Agenda https://datatracker.ietf.org/meeting/109/materials/agenda-109-add-02\n
 \n
 Session materials: https://datatracker.ietf.org/meeting/109/session/add\n
 \n
 See in schedule: https://datatracker.ietf.org/meeting/109/agenda#row-109-2020-11-20-fri-1200-int-add\n
END:VEVENT
BEGIN:VEVENT
UID:ietf-109-13108-lwig
SUMMARY:lwig - Light-Weight Implementation Guidance
LOCATION:Room 2
STATUS:CANCELLED
CLASS:PUBLIC
DTSTART;TZID=Asia/Bangkok:20201120T143000
DTEND;TZID=Asia/Bangkok:20201120T153000
DTSTAMP:20201012T131529Z
URL:https://datatracker.ietf.org/meeting/109/materials/agenda-109-lwig-01
DESCRIPTION:Session II\n
 \n
 Meetecho: https://meetings.conf.meetecho.com/ietf109/?group=lwig&short=&item=1\n
 \n
 Agenda https://datatracker.ietf.org/meeting/109/materials/agenda-109-lwig-01\n
 \n
 Session materials: https://datatracker.ietf.org/meeting/109/session/lwig\n
 \n
 See in schedule: https://datatracker.ietf.org/meeting/109/agenda#row-109-2020-11-20-fri-1430-int-lwig\n
END:VEVENT
BEGIN:VEVENT
UID:ietf-109-13099-6man
SUMMARY:6man - IPv6 Maintenance
LOCATION:Room 3
STATUS:CONFIRMED
CLASS:PUBLIC
DTSTART;TZID=Asia/Bangkok:20201120T160000
DTEND;TZID=Asia/Bangkok:20201120T180000
DTSTAMP:20201012T131548Z
URL:https://datatracker.ietf.org/meeting/109/materials/agenda-109-6man-05
DESCRIPTION:Session III\n
 \n
 Meetecho: https://meetings.conf.meetecho.com/ietf109/?group=6man&short=&item=2\n
 \n
 Agenda https://datatracker.ietf.org/meeting/109/materials/agenda-109-6man-05\n
 \n
 Session materials: https://datatracker.ietf.org/meeting/109/session/6man\n
 \n
 See in schedule: https://datatracker.ietf.org/meeting/109/agenda#row-109-2020-11-20-fri-1600-int-6man\n
END:VEVENT
BEGIN:VEVENT
UID:ietf-109-13098-dprive
SUMMARY:dprive - DNS PRIVate Exchange
LOCATION:Room 4
STATUS:CONFIRMED
CLASS:PUBLIC
DTSTART;TZID=Asia/Bangkok:20201120T160000
DTEND;TZID=Asia/Bangkok:20201120T180000
DTSTAMP:20201012T131548Z
URL:https://datatracker.ietf.org/meeting/109/materials/agenda-109-dprive-03
DESCRIPTION:Session III\n
 \n
 Meetecho: https://meetings.conf.meetecho.com/ietf109/?group=dprive&short=&item=1\n
 \n
 Agenda https://datatracker.ietf.org/meeting/109/materials/agenda-109-dprive-03\n
 \n
 Session materials: https://datatracker.ietf.org/meeting/109/session/dprive\n
 \n
 See in schedule: https://datatracker.ietf.org/meeting/109/agenda#row-109-2020-11-20-fri-1600-int-dprive\n
END:VEVENT
END:VCALENDAR
