BEGIN:VCALENDAR
VERSION:2.0
METHOD:PUBLISH
PRODID:-//IETF//datatracker.ietf.org ical agenda//EN
BEGIN:VTIMEZONE
TZID:Asia/Bangkok
X-LIC-LOCATION:Asia/Bangkok
BEGIN:STANDARD
TZOFFSETFROM:+064204
TZOFFSETTO:+064204
TZNAME:BMT
DTSTART:18800101T000000
RDATE:18800101T000000
END:STANDARD
BEGIN:STANDARD
TZOFFSETFROM:+064204
TZOFFSETTO:+0700
TZNAME:ICT
DTSTART:19200401T000000
RDATE:19200401T000000
END:STANDARD
END:VTIMEZONE
BEGIN:VEVENT
UID:ietf-109-13204-hrpc
SUMMARY:hrpc - Human Rights Protocol Considerations
LOCATION:Room 2
STATUS:CONFIRMED
CLASS:PUBLIC
DTSTART;TZID=Asia/Bangkok:20201116T120000
DTEND;TZID=Asia/Bangkok:20201116T140000
DTSTAMP:20201012T131229Z
URL:https://datatracker.ietf.org/meeting/109/materials/agenda-109-hrpc-01
DESCRIPTION:Session I\n
 \n
 Meetecho: https://meetings.conf.meetecho.com/ietf109/?group=hrpc&short=&item=1\n
 \n
 Agenda https://datatracker.ietf.org/meeting/109/materials/agenda-109-hrpc-01\n
 \n
 Session materials: https://datatracker.ietf.org/meeting/109/session/hrpc\n
 \n
 See in schedule: https://datatracker.ietf.org/meeting/109/agenda#row-109-2020-11-16-mon-1200-irtf-hrpc\n
END:VEVENT
BEGIN:VEVENT
UID:ietf-109-13203-qirg
SUMMARY:qirg - Quantum Internet Research Group
LOCATION:Room 3
STATUS:CONFIRMED
CLASS:PUBLIC
DTSTART;TZID=Asia/Bangkok:20201116T120000
DTEND;TZID=Asia/Bangkok:20201116T140000
DTSTAMP:20201012T131229Z
URL:https://datatracker.ietf.org/meeting/109/materials/agenda-109-qirg-00
DESCRIPTION:Session I\n
 \n
 Meetecho: https://meetings.conf.meetecho.com/ietf109/?group=qirg&short=&item=1\n
 \n
 Agenda https://datatracker.ietf.org/meeting/109/materials/agenda-109-qirg-00\n
 \n
 Session materials: https://datatracker.ietf.org/meeting/109/session/qirg\n
 \n
 See in schedule: https://datatracker.ietf.org/meeting/109/agenda#row-109-2020-11-16-mon-1200-irtf-qirg\n
END:VEVENT
BEGIN:VEVENT
UID:ietf-109-13195-maprg
SUMMARY:maprg - Measurement and Analysis for Protocols
LOCATION:Room 3
STATUS:CONFIRMED
CLASS:PUBLIC
DTSTART;TZID=Asia/Bangkok:20201116T143000
DTEND;TZID=Asia/Bangkok:20201116T153000
DTSTAMP:20201012T131251Z
URL:https://datatracker.ietf.org/meeting/109/materials/agenda-109-maprg-04
DESCRIPTION:Session II\n
 \n
 Meetecho: https://meetings.conf.meetecho.com/ietf109/?group=maprg&short=&item=1\n
 \n
 Agenda https://datatracker.ietf.org/meeting/109/materials/agenda-109-maprg-04\n
 \n
 Session materials: https://datatracker.ietf.org/meeting/109/session/maprg\n
 \n
 See in schedule: https://datatracker.ietf.org/meeting/109/agenda#row-109-2020-11-16-mon-1430-irtf-maprg\n
END:VEVENT
BEGIN:VEVENT
UID:ietf-109-13179-cfrg
SUMMARY:cfrg - Crypto Forum
LOCATION:Room 3
STATUS:CONFIRMED
CLASS:PUBLIC
DTSTART;TZID=Asia/Bangkok:20201117T120000
DTEND;TZID=Asia/Bangkok:20201117T140000
DTSTAMP:20201012T131327Z
URL:https://datatracker.ietf.org/meeting/109/materials/agenda-109-cfrg-02
DESCRIPTION:Session I\n
 \n
 Meetecho: https://meetings.conf.meetecho.com/ietf109/?group=cfrg&short=&item=1\n
 \n
 Agenda https://datatracker.ietf.org/meeting/109/materials/agenda-109-cfrg-02\n
 \n
 Session materials: https://datatracker.ietf.org/meeting/109/session/cfrg\n
 \n
 See in schedule: https://datatracker.ietf.org/meeting/109/agenda#row-109-2020-11-17-tue-1200-irtf-cfrg\n
END:VEVENT
BEGIN:VEVENT
UID:ietf-109-13170-nwcrg
SUMMARY:nwcrg - Coding for efficient NetWork Communications Research Group
LOCATION:Room 4
STATUS:CONFIRMED
CLASS:PUBLIC
DTSTART;TZID=Asia/Bangkok:20201117T143000
DTEND;TZID=Asia/Bangkok:20201117T153000
DTSTAMP:20201012T131342Z
URL:https://datatracker.ietf.org/meeting/109/materials/agenda-109-nwcrg-01
DESCRIPTION:Session II\n
 \n
 Meetecho: https://meetings.conf.meetecho.com/ietf109/?group=nwcrg&short=&item=1\n
 \n
 Agenda https://datatracker.ietf.org/meeting/109/materials/agenda-109-nwcrg-01\n
 \n
 Session materials: https://datatracker.ietf.org/meeting/109/session/nwcrg\n
 \n
 See in schedule: https://datatracker.ietf.org/meeting/109/agenda#row-109-2020-11-17-tue-1430-irtf-nwcrg\n
END:VEVENT
BEGIN:VEVENT
UID:ietf-109-13163-gaia
SUMMARY:gaia - Global Access to the Internet for All
LOCATION:Room 3
STATUS:CANCELLED
CLASS:PUBLIC
DTSTART;TZID=Asia/Bangkok:20201117T160000
DTEND;TZID=Asia/Bangkok:20201117T180000
DTSTAMP:20201012T131354Z
DESCRIPTION:Session III\n
 \n
 Meetecho: https://meetings.conf.meetecho.com/ietf109/?group=gaia&short=&item=1\n
 \n
 Session materials: https://datatracker.ietf.org/meeting/109/session/gaia\n
 \n
 See in schedule: https://datatracker.ietf.org/meeting/109/agenda#row-109-2020-11-17-tue-1600-irtf-gaia\n
END:VEVENT
BEGIN:VEVENT
UID:ietf-109-13139-coinrg
SUMMARY:coinrg - Computing in the Network Research Group
LOCATION:Room 3
STATUS:CONFIRMED
CLASS:PUBLIC
DTSTART;TZID=Asia/Bangkok:20201119T120000
DTEND;TZID=Asia/Bangkok:20201119T140000
DTSTAMP:20201012T131437Z
URL:https://datatracker.ietf.org/meeting/109/materials/agenda-109-coinrg-04
DESCRIPTION:Session I\n
 \n
 Meetecho: https://meetings.conf.meetecho.com/ietf109/?group=coinrg&short=&item=1\n
 \n
 Agenda https://datatracker.ietf.org/meeting/109/materials/agenda-109-coinrg-04\n
 \n
 Session materials: https://datatracker.ietf.org/meeting/109/session/coinrg\n
 \n
 See in schedule: https://datatracker.ietf.org/meeting/109/agenda#row-109-2020-11-19-thu-1200-irtf-coinrg\n
END:VEVENT
BEGIN:VEVENT
UID:ietf-109-13123-nmrg
SUMMARY:nmrg - Network Management
LOCATION:Room 3
STATUS:CONFIRMED
CLASS:PUBLIC
DTSTART;TZID=Asia/Bangkok:20201119T160000
DTEND;TZID=Asia/Bangkok:20201119T180000
DTSTAMP:20201016T115531Z
URL:https://datatracker.ietf.org/meeting/109/materials/agenda-109-nmrg-03
DESCRIPTION:Session III\n
 \n
 Meetecho: https://meetings.conf.meetecho.com/ietf109/?group=nmrg&short=&item=1\n
 \n
 Agenda https://datatracker.ietf.org/meeting/109/materials/agenda-109-nmrg-03\n
 \n
 Session materials: https://datatracker.ietf.org/meeting/109/session/nmrg\n
 \n
 See in schedule: https://datatracker.ietf.org/meeting/109/agenda#row-109-2020-11-19-thu-1600-irtf-nmrg\n
END:VEVENT
BEGIN:VEVENT
UID:ietf-109-13115-iccrg
SUMMARY:iccrg - Internet Congestion Control
LOCATION:Room 3
STATUS:CONFIRMED
CLASS:PUBLIC
DTSTART;TZID=Asia/Bangkok:20201120T120000
DTEND;TZID=Asia/Bangkok:20201120T140000
DTSTAMP:20201012T131517Z
URL:https://datatracker.ietf.org/meeting/109/materials/agenda-109-iccrg-01
DESCRIPTION:Session I\n
 \n
 Meetecho: https://meetings.conf.meetecho.com/ietf109/?group=iccrg&short=&item=1\n
 \n
 Agenda https://datatracker.ietf.org/meeting/109/materials/agenda-109-iccrg-01\n
 \n
 Session materials: https://datatracker.ietf.org/meeting/109/session/iccrg\n
 \n
 See in schedule: https://datatracker.ietf.org/meeting/109/agenda#row-109-2020-11-20-fri-1200-irtf-iccrg\n
END:VEVENT
BEGIN:VEVENT
UID:ietf-109-13097-irtfopen
SUMMARY:irtfopen - IRTF Open Meeting
LOCATION:Room 5
STATUS:CONFIRMED
CLASS:PUBLIC
DTSTART;TZID=Asia/Bangkok:20201120T160000
DTEND;TZID=Asia/Bangkok:20201120T180000
DTSTAMP:20201012T131548Z
URL:https://datatracker.ietf.org/meeting/109/materials/agenda-109-irtfopen-00
DESCRIPTION:Session III\n
 \n
 Meetecho: https://meetings.conf.meetecho.com/ietf109/?group=irtfopen&short=&item=1\n
 \n
 Agenda https://datatracker.ietf.org/meeting/109/materials/agenda-109-irtfopen-00\n
 \n
 Session materials: https://datatracker.ietf.org/meeting/109/session/irtfopen\n
 \n
 See in schedule: https://datatracker.ietf.org/meeting/109/agenda#row-109-2020-11-20-fri-1600-irtf-irtfopen\n
END:VEVENT
END:VCALENDAR
