BEGIN:VCALENDAR
VERSION:2.0
METHOD:PUBLISH
PRODID:-//IETF//datatracker.ietf.org ical agenda//EN
BEGIN:VTIMEZONE
TZID:Asia/Bangkok
X-LIC-LOCATION:Asia/Bangkok
BEGIN:STANDARD
TZOFFSETFROM:+064204
TZOFFSETTO:+064204
TZNAME:BMT
DTSTART:18800101T000000
RDATE:18800101T000000
END:STANDARD
BEGIN:STANDARD
TZOFFSETFROM:+064204
TZOFFSETTO:+0700
TZNAME:ICT
DTSTART:19200401T000000
RDATE:19200401T000000
END:STANDARD
END:VTIMEZONE
BEGIN:VEVENT
UID:ietf-109-13194-mboned
SUMMARY:mboned - MBONE Deployment
LOCATION:Room 4
STATUS:CONFIRMED
CLASS:PUBLIC
DTSTART;TZID=Asia/Bangkok:20201116T143000
DTEND;TZID=Asia/Bangkok:20201116T153000
DTSTAMP:20201012T131251Z
URL:https://datatracker.ietf.org/meeting/109/materials/agenda-109-mboned-03
DESCRIPTION:Session II\n
 \n
 Meetecho: https://meetings.conf.meetecho.com/ietf109/?group=mboned&short=&item=1\n
 \n
 Agenda https://datatracker.ietf.org/meeting/109/materials/agenda-109-mboned-03\n
 \n
 Session materials: https://datatracker.ietf.org/meeting/109/session/mboned\n
 \n
 See in schedule: https://datatracker.ietf.org/meeting/109/agenda#row-109-2020-11-16-mon-1430-ops-mboned\n
END:VEVENT
BEGIN:VEVENT
UID:ietf-109-13186-sidrops
SUMMARY:sidrops - SIDR Operations
LOCATION:Room 4
STATUS:CONFIRMED
CLASS:PUBLIC
DTSTART;TZID=Asia/Bangkok:20201116T160000
DTEND;TZID=Asia/Bangkok:20201116T180000
DTSTAMP:20201012T131312Z
URL:https://datatracker.ietf.org/meeting/109/materials/agenda-109-sidrops-04
DESCRIPTION:Session III\n
 \n
 Meetecho: https://meetings.conf.meetecho.com/ietf109/?group=sidrops&short=&item=1\n
 \n
 Agenda https://datatracker.ietf.org/meeting/109/materials/agenda-109-sidrops-04\n
 \n
 Session materials: https://datatracker.ietf.org/meeting/109/session/sidrops\n
 \n
 See in schedule: https://datatracker.ietf.org/meeting/109/agenda#row-109-2020-11-16-mon-1600-ops-sidrops\n
END:VEVENT
BEGIN:VEVENT
UID:ietf-109-13178-dnsop
SUMMARY:dnsop - Domain Name System Operations
LOCATION:Room 4
STATUS:CONFIRMED
CLASS:PUBLIC
DTSTART;TZID=Asia/Bangkok:20201117T120000
DTEND;TZID=Asia/Bangkok:20201117T140000
DTSTAMP:20201012T131327Z
URL:https://datatracker.ietf.org/meeting/109/materials/agenda-109-dnsop-02
DESCRIPTION:Session I\n
 \n
 Meetecho: https://meetings.conf.meetecho.com/ietf109/?group=dnsop&short=&item=1\n
 \n
 Agenda https://datatracker.ietf.org/meeting/109/materials/agenda-109-dnsop-02\n
 \n
 Session materials: https://datatracker.ietf.org/meeting/109/session/dnsop\n
 \n
 See in schedule: https://datatracker.ietf.org/meeting/109/agenda#row-109-2020-11-17-tue-1200-ops-dnsop\n
END:VEVENT
BEGIN:VEVENT
UID:ietf-109-13177-mops
SUMMARY:mops - Media OPerationS
LOCATION:Room 5
STATUS:CONFIRMED
CLASS:PUBLIC
DTSTART;TZID=Asia/Bangkok:20201117T120000
DTEND;TZID=Asia/Bangkok:20201117T140000
DTSTAMP:20201012T131327Z
URL:https://datatracker.ietf.org/meeting/109/materials/agenda-109-mops-02
DESCRIPTION:Session I\n
 \n
 Meetecho: https://meetings.conf.meetecho.com/ietf109/?group=mops&short=&item=1\n
 \n
 Agenda https://datatracker.ietf.org/meeting/109/materials/agenda-109-mops-02\n
 \n
 Session materials: https://datatracker.ietf.org/meeting/109/session/mops\n
 \n
 See in schedule: https://datatracker.ietf.org/meeting/109/agenda#row-109-2020-11-17-tue-1200-ops-mops\n
END:VEVENT
BEGIN:VEVENT
UID:ietf-109-13162-grow
SUMMARY:grow - Global Routing Operations
LOCATION:Room 4
STATUS:CONFIRMED
CLASS:PUBLIC
DTSTART;TZID=Asia/Bangkok:20201117T160000
DTEND;TZID=Asia/Bangkok:20201117T180000
DTSTAMP:20201012T131354Z
URL:https://datatracker.ietf.org/meeting/109/materials/agenda-109-grow-02
DESCRIPTION:Session III\n
 \n
 Meetecho: https://meetings.conf.meetecho.com/ietf109/?group=grow&short=&item=1\n
 \n
 Agenda https://datatracker.ietf.org/meeting/109/materials/agenda-109-grow-02\n
 \n
 Session materials: https://datatracker.ietf.org/meeting/109/session/grow\n
 \n
 See in schedule: https://datatracker.ietf.org/meeting/109/agenda#row-109-2020-11-17-tue-1600-ops-grow\n
END:VEVENT
BEGIN:VEVENT
UID:ietf-109-13154-netconf
SUMMARY:netconf - Network Configuration
LOCATION:Room 4
STATUS:CONFIRMED
CLASS:PUBLIC
DTSTART;TZID=Asia/Bangkok:20201118T120000
DTEND;TZID=Asia/Bangkok:20201118T140000
DTSTAMP:20201012T131408Z
URL:https://datatracker.ietf.org/meeting/109/materials/agenda-109-netconf-03
DESCRIPTION:Session I\n
 \n
 Meetecho: https://meetings.conf.meetecho.com/ietf109/?group=netconf&short=&item=1\n
 \n
 Agenda https://datatracker.ietf.org/meeting/109/materials/agenda-109-netconf-03\n
 \n
 Session materials: https://datatracker.ietf.org/meeting/109/session/netconf\n
 \n
 See in schedule: https://datatracker.ietf.org/meeting/109/agenda#row-109-2020-11-18-wed-1200-ops-netconf\n
END:VEVENT
BEGIN:VEVENT
UID:ietf-109-13129-netmod
SUMMARY:netmod - Network Modeling
LOCATION:Room 5
STATUS:CONFIRMED
CLASS:PUBLIC
DTSTART;TZID=Asia/Bangkok:20201118T143000
DTEND;TZID=Asia/Bangkok:20201118T153000
DTSTAMP:20201012T131758Z
URL:https://datatracker.ietf.org/meeting/109/materials/agenda-109-netmod-00
DESCRIPTION:Session II\n
 \n
 Meetecho: https://meetings.conf.meetecho.com/ietf109/?group=netmod&short=&item=1\n
 \n
 Agenda https://datatracker.ietf.org/meeting/109/materials/agenda-109-netmod-00\n
 \n
 Session materials: https://datatracker.ietf.org/meeting/109/session/netmod\n
 \n
 See in schedule: https://datatracker.ietf.org/meeting/109/agenda#row-109-2020-11-18-wed-1430-ops-netmod\n
END:VEVENT
BEGIN:VEVENT
UID:ietf-109-13138-bmwg
SUMMARY:bmwg - Benchmarking Methodology
LOCATION:Room 4
STATUS:CONFIRMED
CLASS:PUBLIC
DTSTART;TZID=Asia/Bangkok:20201119T120000
DTEND;TZID=Asia/Bangkok:20201119T140000
DTSTAMP:20201012T131437Z
URL:https://datatracker.ietf.org/meeting/109/materials/agenda-109-bmwg-01
DESCRIPTION:Session I\n
 \n
 Meetecho: https://meetings.conf.meetecho.com/ietf109/?group=bmwg&short=&item=1\n
 \n
 Agenda https://datatracker.ietf.org/meeting/109/materials/agenda-109-bmwg-01\n
 \n
 Session materials: https://datatracker.ietf.org/meeting/109/session/bmwg\n
 \n
 See in schedule: https://datatracker.ietf.org/meeting/109/agenda#row-109-2020-11-19-thu-1200-ops-bmwg\n
END:VEVENT
BEGIN:VEVENT
UID:ietf-109-13122-v6ops
SUMMARY:v6ops - IPv6 Operations
LOCATION:Room 4
STATUS:CONFIRMED
CLASS:PUBLIC
DTSTART;TZID=Asia/Bangkok:20201119T160000
DTEND;TZID=Asia/Bangkok:20201119T180000
DTSTAMP:20201016T115531Z
URL:https://datatracker.ietf.org/meeting/109/materials/agenda-109-v6ops-04
DESCRIPTION:Session III\n
 \n
 Meetecho: https://meetings.conf.meetecho.com/ietf109/?group=v6ops&short=&item=1\n
 \n
 Agenda https://datatracker.ietf.org/meeting/109/materials/agenda-109-v6ops-04\n
 \n
 Session materials: https://datatracker.ietf.org/meeting/109/session/v6ops\n
 \n
 See in schedule: https://datatracker.ietf.org/meeting/109/agenda#row-109-2020-11-19-thu-1600-ops-v6ops\n
END:VEVENT
BEGIN:VEVENT
UID:ietf-109-13114-opsawg
SUMMARY:opsawg - Operations and Management Area Working Group (Combined OpsAWG / OpsAREA)
LOCATION:Room 4
STATUS:CONFIRMED
CLASS:PUBLIC
DTSTART;TZID=Asia/Bangkok:20201120T120000
DTEND;TZID=Asia/Bangkok:20201120T140000
DTSTAMP:20201012T131517Z
URL:https://datatracker.ietf.org/meeting/109/materials/agenda-109-opsawg-04
DESCRIPTION:Session I\n
 Note: Combined OpsAWG / OpsAREA\n
 \n
 Meetecho: https://meetings.conf.meetecho.com/ietf109/?group=opsawg&short=&item=1\n
 \n
 Agenda https://datatracker.ietf.org/meeting/109/materials/agenda-109-opsawg-04\n
 \n
 Session materials: https://datatracker.ietf.org/meeting/109/session/opsawg\n
 \n
 See in schedule: https://datatracker.ietf.org/meeting/109/agenda#row-109-2020-11-20-fri-1200-ops-opsawg\n
END:VEVENT
BEGIN:VEVENT
UID:ietf-109-13107-anima
SUMMARY:anima - Autonomic Networking Integrated Model and Approach
LOCATION:Room 3
STATUS:CONFIRMED
CLASS:PUBLIC
DTSTART;TZID=Asia/Bangkok:20201120T143000
DTEND;TZID=Asia/Bangkok:20201120T153000
DTSTAMP:20201012T131529Z
URL:https://datatracker.ietf.org/meeting/109/materials/agenda-109-anima-01
DESCRIPTION:Session II\n
 \n
 Meetecho: https://meetings.conf.meetecho.com/ietf109/?group=anima&short=&item=1\n
 \n
 Agenda https://datatracker.ietf.org/meeting/109/materials/agenda-109-anima-01\n
 \n
 Session materials: https://datatracker.ietf.org/meeting/109/session/anima\n
 \n
 See in schedule: https://datatracker.ietf.org/meeting/109/agenda#row-109-2020-11-20-fri-1430-ops-anima\n
END:VEVENT
BEGIN:VEVENT
UID:ietf-109-13106-dnsop
SUMMARY:dnsop - Domain Name System Operations
LOCATION:Room 4
STATUS:CONFIRMED
CLASS:PUBLIC
DTSTART;TZID=Asia/Bangkok:20201120T143000
DTEND;TZID=Asia/Bangkok:20201120T153000
DTSTAMP:20201012T131529Z
URL:https://datatracker.ietf.org/meeting/109/materials/agenda-109-dnsop-02
DESCRIPTION:Session II\n
 \n
 Meetecho: https://meetings.conf.meetecho.com/ietf109/?group=dnsop&short=&item=2\n
 \n
 Agenda https://datatracker.ietf.org/meeting/109/materials/agenda-109-dnsop-02\n
 \n
 Session materials: https://datatracker.ietf.org/meeting/109/session/dnsop\n
 \n
 See in schedule: https://datatracker.ietf.org/meeting/109/agenda#row-109-2020-11-20-fri-1430-ops-dnsop\n
END:VEVENT
END:VCALENDAR
